BEGIN:VCALENDAR
VERSION:2.0
PRODID:-//Exposition Park - ECPv6.15.20//NONSGML v1.0//EN
CALSCALE:GREGORIAN
METHOD:PUBLISH
X-ORIGINAL-URL:https://expositionpark.ca.gov
X-WR-CALDESC:Events for Exposition Park
REFRESH-INTERVAL;VALUE=DURATION:PT1H
X-Robots-Tag:noindex
X-PUBLISHED-TTL:PT1H
BEGIN:VTIMEZONE
TZID:America/Los_Angeles
BEGIN:DAYLIGHT
TZOFFSETFROM:-0800
TZOFFSETTO:-0700
TZNAME:PDT
DTSTART:20170312T100000
END:DAYLIGHT
BEGIN:STANDARD
TZOFFSETFROM:-0700
TZOFFSETTO:-0800
TZNAME:PST
DTSTART:20171105T090000
END:STANDARD
BEGIN:DAYLIGHT
TZOFFSETFROM:-0800
TZOFFSETTO:-0700
TZNAME:PDT
DTSTART:20180311T100000
END:DAYLIGHT
BEGIN:STANDARD
TZOFFSETFROM:-0700
TZOFFSETTO:-0800
TZNAME:PST
DTSTART:20181104T090000
END:STANDARD
BEGIN:DAYLIGHT
TZOFFSETFROM:-0800
TZOFFSETTO:-0700
TZNAME:PDT
DTSTART:20190310T100000
END:DAYLIGHT
BEGIN:STANDARD
TZOFFSETFROM:-0700
TZOFFSETTO:-0800
TZNAME:PST
DTSTART:20191103T090000
END:STANDARD
END:VTIMEZONE
BEGIN:VEVENT
DTSTART;VALUE=DATE:20181115
DTEND;VALUE=DATE:20181120
DTSTAMP:20260422T230337
CREATED:20180725T164640Z
LAST-MODIFIED:20181115T020606Z
UID:10052181-1542240000-1542671999@expositionpark.ca.gov
SUMMARY:Guatefer Festival
DESCRIPTION:Family Fair with event dates 11/16/18-11/18/18. \nLoad in to begin 11/15/18 – 11/16/18 \nLoad out to begin 11/18/18-11/19/18
URL:https://expositionpark.ca.gov/event/guatefer-festival/
LOCATION:South Lawn East and West
GEO:37.09024;-95.712891
END:VEVENT
BEGIN:VEVENT
DTSTART;TZID=America/Los_Angeles:20181115T140000
DTEND;TZID=America/Los_Angeles:20181115T160000
DTSTAMP:20260422T230337
CREATED:20180913T232209Z
LAST-MODIFIED:20180913T232209Z
UID:10050861-1542290400-1542297600@expositionpark.ca.gov
SUMMARY:CAAM History of Central Ave Series
DESCRIPTION:Thursday\, November 15\, 2018 | 2:00 – 4:00 p.m. \nHistory of Central Avenue \nFrom the 1920s to the 1950s\, Central Avenue was the hub of West Coast jazz. Famous the world over\, “The Avenue\,” as it was lovingly called\, was a must-visit destination for jazz lovers in Los Angeles. Join us for a series of conversations about Central Avenue and its history and eventual decline. The first program focuses on the beginnings of Central Avenue as a downtown gathering place for Los Angeles’s black residents. Sessions two and three look at the jazz scene and how Central Avenue was pivotal to the Civil Rights Movement. Presented in partnership with CAAM’s History Council and led by Robert Lee Johnson\, author of Notable Southern Californians in Black History. \nRelated Programs held on: \n\nThursday\, October 25\, 2018 | 2:00 – 4:00 p.m.\nThursday\, December 13\, 2018 | 2:00 – 4:00 p.m.
URL:https://expositionpark.ca.gov/event/caam-history-of-central-ave-series/
LOCATION:CA\, United States
END:VEVENT
BEGIN:VEVENT
DTSTART;TZID=America/Los_Angeles:20181115T143000
DTEND;TZID=America/Los_Angeles:20181115T173000
DTSTAMP:20260422T230337
CREATED:20170215T230251Z
LAST-MODIFIED:20170215T230251Z
UID:10045492-1542292200-1542303000@expositionpark.ca.gov
SUMMARY:USC Hybrid
DESCRIPTION:
URL:https://expositionpark.ca.gov/event/usc-hybrid/2018-11-15/
LOCATION:EXPO Center\, 3980 Bill Robertson Lane\, Los Angeles\, CA\, 90037\, United States
GEO:34.0121136;-118.2900829
X-APPLE-STRUCTURED-LOCATION;VALUE=URI;X-ADDRESS=EXPO Center 3980 Bill Robertson Lane Los Angeles CA 90037 United States;X-APPLE-RADIUS=500;X-TITLE=3980 Bill Robertson Lane:geo:-118.2900829,34.0121136
END:VEVENT
BEGIN:VEVENT
DTSTART;TZID=America/Los_Angeles:20181115T180000
DTEND;TZID=America/Los_Angeles:20181115T210000
DTSTAMP:20260422T230337
CREATED:20170214T222818Z
LAST-MODIFIED:20170214T222818Z
UID:10049894-1542304800-1542315600@expositionpark.ca.gov
SUMMARY:Vermont Sports Club
DESCRIPTION:
URL:https://expositionpark.ca.gov/event/vermont-sports-club-7/2018-11-15/
LOCATION:EXPO Center\, 3980 Bill Robertson Lane\, Los Angeles\, CA\, 90037\, United States
GEO:34.0121136;-118.2900829
X-APPLE-STRUCTURED-LOCATION;VALUE=URI;X-ADDRESS=EXPO Center 3980 Bill Robertson Lane Los Angeles CA 90037 United States;X-APPLE-RADIUS=500;X-TITLE=3980 Bill Robertson Lane:geo:-118.2900829,34.0121136
END:VEVENT
BEGIN:VEVENT
DTSTART;TZID=America/Los_Angeles:20181115T190000
DTEND;TZID=America/Los_Angeles:20181115T230000
DTSTAMP:20260422T230337
CREATED:20180928T181357Z
LAST-MODIFIED:20180928T181357Z
UID:10052358-1542308400-1542322800@expositionpark.ca.gov
SUMMARY:Private Event
DESCRIPTION:
URL:https://expositionpark.ca.gov/event/private-event-141/
LOCATION:CSC-Ecosystems\, CA\, United States
END:VEVENT
BEGIN:VEVENT
DTSTART;TZID=America/Los_Angeles:20181115T213000
DTEND;TZID=America/Los_Angeles:20181115T223000
DTSTAMP:20260422T230337
CREATED:20170215T225948Z
LAST-MODIFIED:20170215T225948Z
UID:10044630-1542317400-1542321000@expositionpark.ca.gov
SUMMARY:Tri-Color Soccer League
DESCRIPTION:
URL:https://expositionpark.ca.gov/event/tri-color-soccer-league-2/2018-11-15/
LOCATION:EXPO Center\, 3980 Bill Robertson Lane\, Los Angeles\, CA\, 90037\, United States
GEO:34.0121136;-118.2900829
X-APPLE-STRUCTURED-LOCATION;VALUE=URI;X-ADDRESS=EXPO Center 3980 Bill Robertson Lane Los Angeles CA 90037 United States;X-APPLE-RADIUS=500;X-TITLE=3980 Bill Robertson Lane:geo:-118.2900829,34.0121136
END:VEVENT
END:VCALENDAR