BEGIN:VCALENDAR
VERSION:2.0
PRODID:-//Exposition Park - ECPv6.15.20//NONSGML v1.0//EN
CALSCALE:GREGORIAN
METHOD:PUBLISH
X-ORIGINAL-URL:https://expositionpark.ca.gov
X-WR-CALDESC:Events for Exposition Park
REFRESH-INTERVAL;VALUE=DURATION:PT1H
X-Robots-Tag:noindex
X-PUBLISHED-TTL:PT1H
BEGIN:VTIMEZONE
TZID:America/Los_Angeles
BEGIN:DAYLIGHT
TZOFFSETFROM:-0800
TZOFFSETTO:-0700
TZNAME:PDT
DTSTART:20170312T100000
END:DAYLIGHT
BEGIN:STANDARD
TZOFFSETFROM:-0700
TZOFFSETTO:-0800
TZNAME:PST
DTSTART:20171105T090000
END:STANDARD
BEGIN:DAYLIGHT
TZOFFSETFROM:-0800
TZOFFSETTO:-0700
TZNAME:PDT
DTSTART:20180311T100000
END:DAYLIGHT
BEGIN:STANDARD
TZOFFSETFROM:-0700
TZOFFSETTO:-0800
TZNAME:PST
DTSTART:20181104T090000
END:STANDARD
BEGIN:DAYLIGHT
TZOFFSETFROM:-0800
TZOFFSETTO:-0700
TZNAME:PDT
DTSTART:20190310T100000
END:DAYLIGHT
BEGIN:STANDARD
TZOFFSETFROM:-0700
TZOFFSETTO:-0800
TZNAME:PST
DTSTART:20191103T090000
END:STANDARD
END:VTIMEZONE
BEGIN:VEVENT
DTSTART;VALUE=DATE:20181115
DTEND;VALUE=DATE:20181120
DTSTAMP:20260423T022217
CREATED:20180725T164640Z
LAST-MODIFIED:20181115T020606Z
UID:10052181-1542240000-1542671999@expositionpark.ca.gov
SUMMARY:Guatefer Festival
DESCRIPTION:Family Fair with event dates 11/16/18-11/18/18. \nLoad in to begin 11/15/18 – 11/16/18 \nLoad out to begin 11/18/18-11/19/18
URL:https://expositionpark.ca.gov/event/guatefer-festival/
LOCATION:South Lawn East and West
GEO:37.09024;-95.712891
END:VEVENT
BEGIN:VEVENT
DTSTART;TZID=America/Los_Angeles:20181117T130000
DTEND;TZID=America/Los_Angeles:20181117T150000
DTSTAMP:20260423T022217
CREATED:20180913T224917Z
LAST-MODIFIED:20180913T224917Z
UID:10050858-1542459600-1542466800@expositionpark.ca.gov
SUMMARY:CAAM Family Workshop
DESCRIPTION:Saturday\, November 17\, 2018 | 1:00 – 3:00 p.m. \nThe Biddy Mason Story \nThe exhibition California Bound: Slavery on the New Frontier\, 1848–1865 includes the well-known but seldom-depicted story of Biddy Mason. Draw your own storyboard of Mason’s journey to freedom and her rise to become one Los Angeles’s richest women and philanthropists. Ages 7 and up.
URL:https://expositionpark.ca.gov/event/caam-family-workshop-7/
LOCATION:CA\, United States
END:VEVENT
BEGIN:VEVENT
DTSTART;TZID=America/Los_Angeles:20181117T200000
DTEND;TZID=America/Los_Angeles:20181117T233000
DTSTAMP:20260423T022217
CREATED:20180913T233446Z
LAST-MODIFIED:20180913T233446Z
UID:10052322-1542484800-1542497400@expositionpark.ca.gov
SUMMARY:Private Event
DESCRIPTION:
URL:https://expositionpark.ca.gov/event/private-event-135/
LOCATION:CSC – Samuel Oschin Pavilion
END:VEVENT
END:VCALENDAR