BEGIN:VCALENDAR
VERSION:2.0
PRODID:-//Exposition Park - ECPv6.15.20//NONSGML v1.0//EN
CALSCALE:GREGORIAN
METHOD:PUBLISH
X-ORIGINAL-URL:https://expositionpark.ca.gov
X-WR-CALDESC:Events for Exposition Park
REFRESH-INTERVAL;VALUE=DURATION:PT1H
X-Robots-Tag:noindex
X-PUBLISHED-TTL:PT1H
BEGIN:VTIMEZONE
TZID:America/Los_Angeles
BEGIN:DAYLIGHT
TZOFFSETFROM:-0800
TZOFFSETTO:-0700
TZNAME:PDT
DTSTART:20170312T100000
END:DAYLIGHT
BEGIN:STANDARD
TZOFFSETFROM:-0700
TZOFFSETTO:-0800
TZNAME:PST
DTSTART:20171105T090000
END:STANDARD
BEGIN:DAYLIGHT
TZOFFSETFROM:-0800
TZOFFSETTO:-0700
TZNAME:PDT
DTSTART:20180311T100000
END:DAYLIGHT
BEGIN:STANDARD
TZOFFSETFROM:-0700
TZOFFSETTO:-0800
TZNAME:PST
DTSTART:20181104T090000
END:STANDARD
BEGIN:DAYLIGHT
TZOFFSETFROM:-0800
TZOFFSETTO:-0700
TZNAME:PDT
DTSTART:20190310T100000
END:DAYLIGHT
BEGIN:STANDARD
TZOFFSETFROM:-0700
TZOFFSETTO:-0800
TZNAME:PST
DTSTART:20191103T090000
END:STANDARD
END:VTIMEZONE
BEGIN:VEVENT
DTSTART;TZID=America/Los_Angeles:20181209T080000
DTEND;TZID=America/Los_Angeles:20181209T170000
DTSTAMP:20260421T105406
CREATED:20170215T230650Z
LAST-MODIFIED:20170215T230650Z
UID:10047128-1544342400-1544374800@expositionpark.ca.gov
SUMMARY:Vermont Sports Club
DESCRIPTION:
URL:https://expositionpark.ca.gov/event/vermont-sports-club-9/2018-12-09/
LOCATION:EXPO Center\, 3980 Bill Robertson Lane\, Los Angeles\, CA\, 90037\, United States
GEO:34.0121136;-118.2900829
X-APPLE-STRUCTURED-LOCATION;VALUE=URI;X-ADDRESS=EXPO Center 3980 Bill Robertson Lane Los Angeles CA 90037 United States;X-APPLE-RADIUS=500;X-TITLE=3980 Bill Robertson Lane:geo:-118.2900829,34.0121136
END:VEVENT
BEGIN:VEVENT
DTSTART;TZID=America/Los_Angeles:20181209T130000
DTEND;TZID=America/Los_Angeles:20181209T160000
DTSTAMP:20260421T105406
CREATED:20180913T232334Z
LAST-MODIFIED:20180913T232334Z
UID:10050863-1544360400-1544371200@expositionpark.ca.gov
SUMMARY:CAAM Makers Fest
DESCRIPTION:Sunday\, December 9\, 2018 | 1:00 – 4:00 p.m. \nCAAM Makers Fest \nGet busy at this all-ages affair featuring maker stations led by local artists! Learn from the pros of our community\, including Sharon Louise Barnes\, who will offer a paper sculpture workshop to create garlands and festive ornaments; Michael Massenburg\, who will lead a figurative collage workshop; and Rosalyn Myles\, who will demonstrate how to make decoupage keepsake boxes. Take home several creative treasures of your own—no prior art experience necessary; art materials provided. Also\, check out this season’s culmination projects of the Youth Now: USC RAD in the Neighborhood program. \nPartners include USC Roski School of Art and Design\, Ánimo Jackie Robinson Charter High School\, and Able ARTS Work. This project is made possible in part by the generous support from the USC Good Neighbors Grant Program and the City of Los Angeles Department of Cultural Affairs.
URL:https://expositionpark.ca.gov/event/caam-makers-fest-2/
LOCATION:CA\, United States
END:VEVENT
END:VCALENDAR