BEGIN:VCALENDAR
VERSION:2.0
PRODID:-//Exposition Park - ECPv6.15.20//NONSGML v1.0//EN
CALSCALE:GREGORIAN
METHOD:PUBLISH
X-ORIGINAL-URL:https://expositionpark.ca.gov
X-WR-CALDESC:Events for Exposition Park
REFRESH-INTERVAL;VALUE=DURATION:PT1H
X-Robots-Tag:noindex
X-PUBLISHED-TTL:PT1H
BEGIN:VTIMEZONE
TZID:America/Los_Angeles
BEGIN:DAYLIGHT
TZOFFSETFROM:-0800
TZOFFSETTO:-0700
TZNAME:PDT
DTSTART:20170312T100000
END:DAYLIGHT
BEGIN:STANDARD
TZOFFSETFROM:-0700
TZOFFSETTO:-0800
TZNAME:PST
DTSTART:20171105T090000
END:STANDARD
BEGIN:DAYLIGHT
TZOFFSETFROM:-0800
TZOFFSETTO:-0700
TZNAME:PDT
DTSTART:20180311T100000
END:DAYLIGHT
BEGIN:STANDARD
TZOFFSETFROM:-0700
TZOFFSETTO:-0800
TZNAME:PST
DTSTART:20181104T090000
END:STANDARD
BEGIN:DAYLIGHT
TZOFFSETFROM:-0800
TZOFFSETTO:-0700
TZNAME:PDT
DTSTART:20190310T100000
END:DAYLIGHT
BEGIN:STANDARD
TZOFFSETFROM:-0700
TZOFFSETTO:-0800
TZNAME:PST
DTSTART:20191103T090000
END:STANDARD
END:VTIMEZONE
BEGIN:VEVENT
DTSTART;TZID=America/Los_Angeles:20181210T080000
DTEND;TZID=America/Los_Angeles:20181216T060000
DTSTAMP:20260423T042053
CREATED:20181201T020113Z
LAST-MODIFIED:20181203T164826Z
UID:10052408-1544428800-1544940000@expositionpark.ca.gov
SUMMARY:Rolling Loud - OEPM Activation Areas
DESCRIPTION:Lots 5\, 6 and Christmas Tree Lane East and West \nEvent Dates: December 14th and 15th \nLoad in Dates: Starting December 10th \nBreakdown: December 15th-16th \nState Drive for School Bus Parking
URL:https://expositionpark.ca.gov/event/rolling-loud-oepm-activation-areas/
LOCATION:Lot 5\, Lot 6 and Christmas Tree Lane East/West\, CA\, United States
END:VEVENT
BEGIN:VEVENT
DTSTART;TZID=America/Los_Angeles:20181212T080000
DTEND;TZID=America/Los_Angeles:20181212T170000
DTSTAMP:20260423T042053
CREATED:20170215T230401Z
LAST-MODIFIED:20170215T230401Z
UID:10046266-1544601600-1544634000@expositionpark.ca.gov
SUMMARY:New Star
DESCRIPTION:
URL:https://expositionpark.ca.gov/event/new-star/2018-12-12/
LOCATION:EXPO Center\, 3980 Bill Robertson Lane\, Los Angeles\, CA\, 90037\, United States
GEO:34.0121136;-118.2900829
X-APPLE-STRUCTURED-LOCATION;VALUE=URI;X-ADDRESS=EXPO Center 3980 Bill Robertson Lane Los Angeles CA 90037 United States;X-APPLE-RADIUS=500;X-TITLE=3980 Bill Robertson Lane:geo:-118.2900829,34.0121136
END:VEVENT
BEGIN:VEVENT
DTSTART;TZID=America/Los_Angeles:20181212T093000
DTEND;TZID=America/Los_Angeles:20181212T233000
DTSTAMP:20260423T042053
CREATED:20181115T000722Z
LAST-MODIFIED:20181115T000722Z
UID:10052391-1544607000-1544657400@expositionpark.ca.gov
SUMMARY:City of Los Angeles\, Department of Recreation and Parks Board of Commission Meeting
DESCRIPTION:On December 12\, 2018 the City of Los Angeles\, Department of Recreation and Parks Board of Commission meeting will be held at the EXPO Center in the Community (Comrie) Hall starting at 9:30 am.
URL:https://expositionpark.ca.gov/event/city-of-los-angeles-department-of-recreation-and-parks-board-of-commission-meeting/
LOCATION:EXPO Center / Community (Comrie) Hall\, 3980 Bill Robertson Lane - 2nd Floor\, Los Angeles\, CA\, 90037\, United States
END:VEVENT
BEGIN:VEVENT
DTSTART;TZID=America/Los_Angeles:20181212T160000
DTEND;TZID=America/Los_Angeles:20181212T220000
DTSTAMP:20260423T042053
CREATED:20181015T225809Z
LAST-MODIFIED:20181015T225809Z
UID:10052385-1544630400-1544652000@expositionpark.ca.gov
SUMMARY:Private Event
DESCRIPTION:
URL:https://expositionpark.ca.gov/event/private-event-149/
LOCATION:Natural History Museum of Los Angeles County\, 900 Exposition Blvd.\, Los Angeles\, CA\, 90007\, United States
ORGANIZER;CN="NHM":MAILTO:vvobis@nhm.org
GEO:34.0170769;-118.2886818
X-APPLE-STRUCTURED-LOCATION;VALUE=URI;X-ADDRESS=Natural History Museum of Los Angeles County 900 Exposition Blvd. Los Angeles CA 90007 United States;X-APPLE-RADIUS=500;X-TITLE=900 Exposition Blvd.:geo:-118.2886818,34.0170769
END:VEVENT
BEGIN:VEVENT
DTSTART;TZID=America/Los_Angeles:20181212T180000
DTEND;TZID=America/Los_Angeles:20181212T210000
DTSTAMP:20260423T042053
CREATED:20170214T222616Z
LAST-MODIFIED:20170214T222616Z
UID:10048704-1544637600-1544648400@expositionpark.ca.gov
SUMMARY:EXPO Soccer Clinic
DESCRIPTION:
URL:https://expositionpark.ca.gov/event/expo-soccer-clinic/2018-12-12/
LOCATION:EXPO Center\, 3980 Bill Robertson Lane\, Los Angeles\, CA\, 90037\, United States
GEO:34.0121136;-118.2900829
X-APPLE-STRUCTURED-LOCATION;VALUE=URI;X-ADDRESS=EXPO Center 3980 Bill Robertson Lane Los Angeles CA 90037 United States;X-APPLE-RADIUS=500;X-TITLE=3980 Bill Robertson Lane:geo:-118.2900829,34.0121136
END:VEVENT
END:VCALENDAR