BEGIN:VCALENDAR
VERSION:2.0
PRODID:-//Exposition Park - ECPv6.15.20//NONSGML v1.0//EN
CALSCALE:GREGORIAN
METHOD:PUBLISH
X-ORIGINAL-URL:https://expositionpark.ca.gov
X-WR-CALDESC:Events for Exposition Park
REFRESH-INTERVAL;VALUE=DURATION:PT1H
X-Robots-Tag:noindex
X-PUBLISHED-TTL:PT1H
BEGIN:VTIMEZONE
TZID:America/Los_Angeles
BEGIN:DAYLIGHT
TZOFFSETFROM:-0800
TZOFFSETTO:-0700
TZNAME:PDT
DTSTART:20170312T100000
END:DAYLIGHT
BEGIN:STANDARD
TZOFFSETFROM:-0700
TZOFFSETTO:-0800
TZNAME:PST
DTSTART:20171105T090000
END:STANDARD
BEGIN:DAYLIGHT
TZOFFSETFROM:-0800
TZOFFSETTO:-0700
TZNAME:PDT
DTSTART:20180311T100000
END:DAYLIGHT
BEGIN:STANDARD
TZOFFSETFROM:-0700
TZOFFSETTO:-0800
TZNAME:PST
DTSTART:20181104T090000
END:STANDARD
BEGIN:DAYLIGHT
TZOFFSETFROM:-0800
TZOFFSETTO:-0700
TZNAME:PDT
DTSTART:20190310T100000
END:DAYLIGHT
BEGIN:STANDARD
TZOFFSETFROM:-0700
TZOFFSETTO:-0800
TZNAME:PST
DTSTART:20191103T090000
END:STANDARD
END:VTIMEZONE
BEGIN:VEVENT
DTSTART;TZID=America/Los_Angeles:20181210T080000
DTEND;TZID=America/Los_Angeles:20181216T060000
DTSTAMP:20260421T013037
CREATED:20181201T020113Z
LAST-MODIFIED:20181203T164826Z
UID:10052408-1544428800-1544940000@expositionpark.ca.gov
SUMMARY:Rolling Loud - OEPM Activation Areas
DESCRIPTION:Lots 5\, 6 and Christmas Tree Lane East and West \nEvent Dates: December 14th and 15th \nLoad in Dates: Starting December 10th \nBreakdown: December 15th-16th \nState Drive for School Bus Parking
URL:https://expositionpark.ca.gov/event/rolling-loud-oepm-activation-areas/
LOCATION:Lot 5\, Lot 6 and Christmas Tree Lane East/West\, CA\, United States
END:VEVENT
BEGIN:VEVENT
DTSTART;TZID=America/Los_Angeles:20181213T070000
DTEND;TZID=America/Los_Angeles:20181213T230000
DTSTAMP:20260421T013037
CREATED:20181206T180704Z
LAST-MODIFIED:20181206T180704Z
UID:10052423-1544684400-1544742000@expositionpark.ca.gov
SUMMARY:Private Event
DESCRIPTION:
URL:https://expositionpark.ca.gov/event/private-event-151/
LOCATION:CSC-all venues\, CA\, United States
GEO:36.778261;-119.4179324
END:VEVENT
BEGIN:VEVENT
DTSTART;TZID=America/Los_Angeles:20181213T070000
DTEND;TZID=America/Los_Angeles:20181214T040000
DTSTAMP:20260421T013037
CREATED:20181127T211035Z
LAST-MODIFIED:20181127T211035Z
UID:10052402-1544684400-1544760000@expositionpark.ca.gov
SUMMARY:Sterling Engagements
DESCRIPTION:Corporate Holiday Private Event \nLoad in:  Thursday\, Dec 13\, 2018 @ 7am \nEvent:  7:30pm to 11:30pm \nLoad Out: Thursday\, Dec 13 at 11:59pm to Friday\, Dec 14th at 4:00am
URL:https://expositionpark.ca.gov/event/sterling-engagements/
LOCATION:South Lawn East\, CA\, United States
END:VEVENT
BEGIN:VEVENT
DTSTART;TZID=America/Los_Angeles:20181213T140000
DTEND;TZID=America/Los_Angeles:20181213T160000
DTSTAMP:20260421T013037
CREATED:20180913T232433Z
LAST-MODIFIED:20180913T232433Z
UID:10052306-1544709600-1544716800@expositionpark.ca.gov
SUMMARY:CAAM History of Central Ave Series
DESCRIPTION:Thursday\, December 13\, 2018 | 2:00 – 4:00 p.m. \nHistory of Central Avenue \nFrom the 1920s to the 1950s\, Central Avenue was the hub of West Coast jazz. Famous the world over\, “The Avenue\,” as it was lovingly called\, was a must-visit destination for jazz lovers in Los Angeles. Join us for a series of conversations about Central Avenue and its history and eventual decline. The first program focuses on the beginnings of Central Avenue as a downtown gathering place for Los Angeles’s black residents. Sessions two and three look at the jazz scene and how Central Avenue was pivotal to the Civil Rights Movement. Presented in partnership with CAAM’s History Council and led by Robert Lee Johnson\, author of Notable Southern Californians in Black History. \nRelated Programs held on: \n\nThursday\, October 25\, 2018 | 2:00 – 4:00 p.m.\nThursday\, November 15\, 2018 | 2:00 – 4:00 p.m.
URL:https://expositionpark.ca.gov/event/caam-history-of-central-ave-series-2/
LOCATION:CA\, United States
END:VEVENT
BEGIN:VEVENT
DTSTART;TZID=America/Los_Angeles:20181213T143000
DTEND;TZID=America/Los_Angeles:20181213T173000
DTSTAMP:20260421T013037
CREATED:20170215T230251Z
LAST-MODIFIED:20170215T230251Z
UID:10045500-1544711400-1544722200@expositionpark.ca.gov
SUMMARY:USC Hybrid
DESCRIPTION:
URL:https://expositionpark.ca.gov/event/usc-hybrid/2018-12-13/
LOCATION:EXPO Center\, 3980 Bill Robertson Lane\, Los Angeles\, CA\, 90037\, United States
GEO:34.0121136;-118.2900829
X-APPLE-STRUCTURED-LOCATION;VALUE=URI;X-ADDRESS=EXPO Center 3980 Bill Robertson Lane Los Angeles CA 90037 United States;X-APPLE-RADIUS=500;X-TITLE=3980 Bill Robertson Lane:geo:-118.2900829,34.0121136
END:VEVENT
BEGIN:VEVENT
DTSTART;TZID=America/Los_Angeles:20181213T180000
DTEND;TZID=America/Los_Angeles:20181213T210000
DTSTAMP:20260421T013037
CREATED:20170214T222818Z
LAST-MODIFIED:20170214T222818Z
UID:10049902-1544724000-1544734800@expositionpark.ca.gov
SUMMARY:Vermont Sports Club
DESCRIPTION:
URL:https://expositionpark.ca.gov/event/vermont-sports-club-7/2018-12-13/
LOCATION:EXPO Center\, 3980 Bill Robertson Lane\, Los Angeles\, CA\, 90037\, United States
GEO:34.0121136;-118.2900829
X-APPLE-STRUCTURED-LOCATION;VALUE=URI;X-ADDRESS=EXPO Center 3980 Bill Robertson Lane Los Angeles CA 90037 United States;X-APPLE-RADIUS=500;X-TITLE=3980 Bill Robertson Lane:geo:-118.2900829,34.0121136
END:VEVENT
BEGIN:VEVENT
DTSTART;TZID=America/Los_Angeles:20181213T180000
DTEND;TZID=America/Los_Angeles:20181213T220000
DTSTAMP:20260421T013037
CREATED:20181203T165358Z
LAST-MODIFIED:20181203T165358Z
UID:10052412-1544724000-1544738400@expositionpark.ca.gov
SUMMARY:CAAM Event Private "WEH Organization"
DESCRIPTION:
URL:https://expositionpark.ca.gov/event/caam-event-private-weh-organization/
LOCATION:CA\, United States
END:VEVENT
BEGIN:VEVENT
DTSTART;TZID=America/Los_Angeles:20181213T213000
DTEND;TZID=America/Los_Angeles:20181213T223000
DTSTAMP:20260421T013037
CREATED:20170215T225948Z
LAST-MODIFIED:20170215T225948Z
UID:10044638-1544736600-1544740200@expositionpark.ca.gov
SUMMARY:Tri-Color Soccer League
DESCRIPTION:
URL:https://expositionpark.ca.gov/event/tri-color-soccer-league-2/2018-12-13/
LOCATION:EXPO Center\, 3980 Bill Robertson Lane\, Los Angeles\, CA\, 90037\, United States
GEO:34.0121136;-118.2900829
X-APPLE-STRUCTURED-LOCATION;VALUE=URI;X-ADDRESS=EXPO Center 3980 Bill Robertson Lane Los Angeles CA 90037 United States;X-APPLE-RADIUS=500;X-TITLE=3980 Bill Robertson Lane:geo:-118.2900829,34.0121136
END:VEVENT
END:VCALENDAR