BEGIN:VCALENDAR
VERSION:2.0
PRODID:-//Exposition Park - ECPv6.15.20//NONSGML v1.0//EN
CALSCALE:GREGORIAN
METHOD:PUBLISH
X-WR-CALNAME:Exposition Park
X-ORIGINAL-URL:https://expositionpark.ca.gov
X-WR-CALDESC:Events for Exposition Park
REFRESH-INTERVAL;VALUE=DURATION:PT1H
X-Robots-Tag:noindex
X-PUBLISHED-TTL:PT1H
BEGIN:VTIMEZONE
TZID:America/Los_Angeles
BEGIN:DAYLIGHT
TZOFFSETFROM:-0800
TZOFFSETTO:-0700
TZNAME:PDT
DTSTART:20180311T100000
END:DAYLIGHT
BEGIN:STANDARD
TZOFFSETFROM:-0700
TZOFFSETTO:-0800
TZNAME:PST
DTSTART:20181104T090000
END:STANDARD
BEGIN:DAYLIGHT
TZOFFSETFROM:-0800
TZOFFSETTO:-0700
TZNAME:PDT
DTSTART:20190310T100000
END:DAYLIGHT
BEGIN:STANDARD
TZOFFSETFROM:-0700
TZOFFSETTO:-0800
TZNAME:PST
DTSTART:20191103T090000
END:STANDARD
BEGIN:DAYLIGHT
TZOFFSETFROM:-0800
TZOFFSETTO:-0700
TZNAME:PDT
DTSTART:20200308T100000
END:DAYLIGHT
BEGIN:STANDARD
TZOFFSETFROM:-0700
TZOFFSETTO:-0800
TZNAME:PST
DTSTART:20201101T090000
END:STANDARD
END:VTIMEZONE
BEGIN:VEVENT
DTSTART;TZID=America/Los_Angeles:20190103T050000
DTEND;TZID=America/Los_Angeles:20190105T040000
DTSTAMP:20260420T182158
CREATED:20181220T174551Z
LAST-MODIFIED:20181220T174551Z
UID:10052437-1546491600-1546660800@expositionpark.ca.gov
SUMMARY:Mesquite Productions\, Inc.
DESCRIPTION:Basecamp and Crew Parking \nJan 3\, 4\, 5\, 2019 – Lot 6 East Portion\, \nJan 4-5\, 2019 – Lot 4 \nWill be filming at BOCS
URL:https://expositionpark.ca.gov/event/mesquite-productions-inc/
LOCATION:CA
END:VEVENT
BEGIN:VEVENT
DTSTART;TZID=America/Los_Angeles:20190105T060000
DTEND;TZID=America/Los_Angeles:20190105T213000
DTSTAMP:20260420T182158
CREATED:20181228T234644Z
LAST-MODIFIED:20181228T234644Z
UID:10051097-1546668000-1546723800@expositionpark.ca.gov
SUMMARY:Private Event
DESCRIPTION:
URL:https://expositionpark.ca.gov/event/private-event-170/
LOCATION:CSC-Ecosystems\, CA\, United States
END:VEVENT
BEGIN:VEVENT
DTSTART;TZID=America/Los_Angeles:20190105T080000
DTEND;TZID=America/Los_Angeles:20190105T173000
DTSTAMP:20260420T182158
CREATED:20190104T000010Z
LAST-MODIFIED:20190104T000010Z
UID:10052487-1546675200-1546709400@expositionpark.ca.gov
SUMMARY:Lifeguard Recertification
DESCRIPTION:Lifeguard Recertification at EXPO Center
URL:https://expositionpark.ca.gov/event/lifeguard-recertification-2/
LOCATION:EXPO Center / Community (Comrie) Hall\, 3980 Bill Robertson Lane - 2nd Floor\, Los Angeles\, CA\, 90037\, United States
ORGANIZER;CN="Eric Ceja":MAILTO:eric.ceja@lacity.org
END:VEVENT
END:VCALENDAR