BEGIN:VCALENDAR
VERSION:2.0
PRODID:-//Exposition Park - ECPv6.15.20//NONSGML v1.0//EN
CALSCALE:GREGORIAN
METHOD:PUBLISH
X-ORIGINAL-URL:https://expositionpark.ca.gov
X-WR-CALDESC:Events for Exposition Park
REFRESH-INTERVAL;VALUE=DURATION:PT1H
X-Robots-Tag:noindex
X-PUBLISHED-TTL:PT1H
BEGIN:VTIMEZONE
TZID:America/Los_Angeles
BEGIN:DAYLIGHT
TZOFFSETFROM:-0800
TZOFFSETTO:-0700
TZNAME:PDT
DTSTART:20180311T100000
END:DAYLIGHT
BEGIN:STANDARD
TZOFFSETFROM:-0700
TZOFFSETTO:-0800
TZNAME:PST
DTSTART:20181104T090000
END:STANDARD
BEGIN:DAYLIGHT
TZOFFSETFROM:-0800
TZOFFSETTO:-0700
TZNAME:PDT
DTSTART:20190310T100000
END:DAYLIGHT
BEGIN:STANDARD
TZOFFSETFROM:-0700
TZOFFSETTO:-0800
TZNAME:PST
DTSTART:20191103T090000
END:STANDARD
BEGIN:DAYLIGHT
TZOFFSETFROM:-0800
TZOFFSETTO:-0700
TZNAME:PDT
DTSTART:20200308T100000
END:DAYLIGHT
BEGIN:STANDARD
TZOFFSETFROM:-0700
TZOFFSETTO:-0800
TZNAME:PST
DTSTART:20201101T090000
END:STANDARD
END:VTIMEZONE
BEGIN:VEVENT
DTSTART;TZID=America/Los_Angeles:20190208T050000
DTEND;TZID=America/Los_Angeles:20190208T200000
DTSTAMP:20260421T091555
CREATED:20190131T020846Z
LAST-MODIFIED:20190131T020846Z
UID:10052622-1549602000-1549656000@expositionpark.ca.gov
SUMMARY:Reset Content LLC
DESCRIPTION:Basecamp and Crew Parking
URL:https://expositionpark.ca.gov/event/reset-content-llc/
LOCATION:Lot 6 East Portion\, CA\, United States
END:VEVENT
BEGIN:VEVENT
DTSTART;TZID=America/Los_Angeles:20190208T060000
DTEND;TZID=America/Los_Angeles:20190208T220000
DTSTAMP:20260421T091555
CREATED:20190103T221426Z
LAST-MODIFIED:20190103T221426Z
UID:10052472-1549605600-1549663200@expositionpark.ca.gov
SUMMARY:Private Event
DESCRIPTION:
URL:https://expositionpark.ca.gov/event/private-event-172/
LOCATION:CSC – Samuel Oschin Pavilion
END:VEVENT
BEGIN:VEVENT
DTSTART;TZID=America/Los_Angeles:20190208T080000
DTEND;TZID=America/Los_Angeles:20190208T170000
DTSTAMP:20260421T091555
CREATED:20170215T230439Z
LAST-MODIFIED:20170215T230439Z
UID:10046705-1549612800-1549645200@expositionpark.ca.gov
SUMMARY:San Pedro Soccer League
DESCRIPTION:
URL:https://expositionpark.ca.gov/event/san-pedro-soccer-league-3/2019-02-08/
LOCATION:EXPO Center\, 3980 Bill Robertson Lane\, Los Angeles\, CA\, 90037\, United States
GEO:34.0121136;-118.2900829
X-APPLE-STRUCTURED-LOCATION;VALUE=URI;X-ADDRESS=EXPO Center 3980 Bill Robertson Lane Los Angeles CA 90037 United States;X-APPLE-RADIUS=500;X-TITLE=3980 Bill Robertson Lane:geo:-118.2900829,34.0121136
END:VEVENT
BEGIN:VEVENT
DTSTART;TZID=America/Los_Angeles:20190208T180000
DTEND;TZID=America/Los_Angeles:20190208T210000
DTSTAMP:20260421T091555
CREATED:20170214T222616Z
LAST-MODIFIED:20170214T222616Z
UID:10048729-1549648800-1549659600@expositionpark.ca.gov
SUMMARY:EXPO Soccer Clinic
DESCRIPTION:
URL:https://expositionpark.ca.gov/event/expo-soccer-clinic/2019-02-08/
LOCATION:EXPO Center\, 3980 Bill Robertson Lane\, Los Angeles\, CA\, 90037\, United States
GEO:34.0121136;-118.2900829
X-APPLE-STRUCTURED-LOCATION;VALUE=URI;X-ADDRESS=EXPO Center 3980 Bill Robertson Lane Los Angeles CA 90037 United States;X-APPLE-RADIUS=500;X-TITLE=3980 Bill Robertson Lane:geo:-118.2900829,34.0121136
END:VEVENT
BEGIN:VEVENT
DTSTART;TZID=America/Los_Angeles:20190208T190000
DTEND;TZID=America/Los_Angeles:20190208T213000
DTSTAMP:20260421T091555
CREATED:20190103T221514Z
LAST-MODIFIED:20190103T221514Z
UID:10052473-1549652400-1549661400@expositionpark.ca.gov
SUMMARY:CAAM/USC Race Relay
DESCRIPTION:
URL:https://expositionpark.ca.gov/event/caam-usc-race-relay/
LOCATION:California African American Museum\, 600 State Drive\, Los Angeles\, CA\, 90037\, United States
GEO:34.0159415;-118.2836283
X-APPLE-STRUCTURED-LOCATION;VALUE=URI;X-ADDRESS=California African American Museum 600 State Drive Los Angeles CA 90037 United States;X-APPLE-RADIUS=500;X-TITLE=600 State Drive:geo:-118.2836283,34.0159415
END:VEVENT
END:VCALENDAR