BEGIN:VCALENDAR
VERSION:2.0
PRODID:-//Exposition Park - ECPv6.15.20//NONSGML v1.0//EN
CALSCALE:GREGORIAN
METHOD:PUBLISH
X-ORIGINAL-URL:https://expositionpark.ca.gov
X-WR-CALDESC:Events for Exposition Park
REFRESH-INTERVAL;VALUE=DURATION:PT1H
X-Robots-Tag:noindex
X-PUBLISHED-TTL:PT1H
BEGIN:VTIMEZONE
TZID:America/Los_Angeles
BEGIN:DAYLIGHT
TZOFFSETFROM:-0800
TZOFFSETTO:-0700
TZNAME:PDT
DTSTART:20180311T100000
END:DAYLIGHT
BEGIN:STANDARD
TZOFFSETFROM:-0700
TZOFFSETTO:-0800
TZNAME:PST
DTSTART:20181104T090000
END:STANDARD
BEGIN:DAYLIGHT
TZOFFSETFROM:-0800
TZOFFSETTO:-0700
TZNAME:PDT
DTSTART:20190310T100000
END:DAYLIGHT
BEGIN:STANDARD
TZOFFSETFROM:-0700
TZOFFSETTO:-0800
TZNAME:PST
DTSTART:20191103T090000
END:STANDARD
BEGIN:DAYLIGHT
TZOFFSETFROM:-0800
TZOFFSETTO:-0700
TZNAME:PDT
DTSTART:20200308T100000
END:DAYLIGHT
BEGIN:STANDARD
TZOFFSETFROM:-0700
TZOFFSETTO:-0800
TZNAME:PST
DTSTART:20201101T090000
END:STANDARD
END:VTIMEZONE
BEGIN:VEVENT
DTSTART;TZID=America/Los_Angeles:20190212T090000
DTEND;TZID=America/Los_Angeles:20190212T130000
DTSTAMP:20260421T043154
CREATED:20190208T042753Z
LAST-MODIFIED:20190211T223555Z
UID:10052642-1549962000-1549976400@expositionpark.ca.gov
SUMMARY:CAAM  Los Angeles Unified School Board Meeting
DESCRIPTION:
URL:https://expositionpark.ca.gov/event/caam-los-angeles-unified-school-board-meeting/
LOCATION:CA
END:VEVENT
BEGIN:VEVENT
DTSTART;TZID=America/Los_Angeles:20190212T093000
DTEND;TZID=America/Los_Angeles:20190212T170000
DTSTAMP:20260421T043154
CREATED:20190103T221714Z
LAST-MODIFIED:20190103T221714Z
UID:10052479-1549963800-1549990800@expositionpark.ca.gov
SUMMARY:Homeschool Day
DESCRIPTION:Gems and Minerals\, Unearthed! \nInvestigate the fascinating world of Mineral Sciences! Minerals\, rocks\, gems\, ores\, and even meteorites provide invaluable information\, from how we view the past to technologies of the future. For this Homeschool Day\, look closer at our world-class collections\, talk with museum scientists\, and learn more about the over 2\,000 specimens in our world famous Gems and Minerals Hall\, including our gem vault’s newest addition\, “The Art of the Jewel.” \nThe Natural History Museum is proud to offer four days each school year when Homeschoolers can come free of charge! Each Homeschool Day has an assigned theme with free drop-in activities designed to help you and your students get the most out of our exhibits. 
URL:https://expositionpark.ca.gov/event/homeschool-day/
LOCATION:Natural History Museum of Los Angeles County\, 900 Exposition Blvd.\, Los Angeles\, CA\, 90007\, United States
ORGANIZER;CN="NHM School Programs":MAILTO:schoolprograms@nhm.org
GEO:34.0170769;-118.2886818
X-APPLE-STRUCTURED-LOCATION;VALUE=URI;X-ADDRESS=Natural History Museum of Los Angeles County 900 Exposition Blvd. Los Angeles CA 90007 United States;X-APPLE-RADIUS=500;X-TITLE=900 Exposition Blvd.:geo:-118.2886818,34.0170769
END:VEVENT
BEGIN:VEVENT
DTSTART;TZID=America/Los_Angeles:20190212T143000
DTEND;TZID=America/Los_Angeles:20190212T173000
DTSTAMP:20260421T043154
CREATED:20170215T230251Z
LAST-MODIFIED:20170215T230251Z
UID:10045517-1549981800-1549992600@expositionpark.ca.gov
SUMMARY:USC Hybrid
DESCRIPTION:
URL:https://expositionpark.ca.gov/event/usc-hybrid/2019-02-12/
LOCATION:EXPO Center\, 3980 Bill Robertson Lane\, Los Angeles\, CA\, 90037\, United States
GEO:34.0121136;-118.2900829
X-APPLE-STRUCTURED-LOCATION;VALUE=URI;X-ADDRESS=EXPO Center 3980 Bill Robertson Lane Los Angeles CA 90037 United States;X-APPLE-RADIUS=500;X-TITLE=3980 Bill Robertson Lane:geo:-118.2900829,34.0121136
END:VEVENT
BEGIN:VEVENT
DTSTART;TZID=America/Los_Angeles:20190212T180000
DTEND;TZID=America/Los_Angeles:20190212T210000
DTSTAMP:20260421T043154
CREATED:20170214T222818Z
LAST-MODIFIED:20170214T222818Z
UID:10049919-1549994400-1550005200@expositionpark.ca.gov
SUMMARY:Vermont Sports Club
DESCRIPTION:
URL:https://expositionpark.ca.gov/event/vermont-sports-club-7/2019-02-12/
LOCATION:EXPO Center\, 3980 Bill Robertson Lane\, Los Angeles\, CA\, 90037\, United States
GEO:34.0121136;-118.2900829
X-APPLE-STRUCTURED-LOCATION;VALUE=URI;X-ADDRESS=EXPO Center 3980 Bill Robertson Lane Los Angeles CA 90037 United States;X-APPLE-RADIUS=500;X-TITLE=3980 Bill Robertson Lane:geo:-118.2900829,34.0121136
END:VEVENT
BEGIN:VEVENT
DTSTART;TZID=America/Los_Angeles:20190212T190000
DTEND;TZID=America/Los_Angeles:20190212T210000
DTSTAMP:20260421T043154
CREATED:20190103T221749Z
LAST-MODIFIED:20190103T221749Z
UID:10052481-1549998000-1550005200@expositionpark.ca.gov
SUMMARY:CAAM Activating Artists: Know Your Rights
DESCRIPTION:
URL:https://expositionpark.ca.gov/event/caam-activating-artists-know-your-rights/
LOCATION:California African American Museum\, 600 State Drive\, Los Angeles\, CA\, 90037\, United States
GEO:34.0159415;-118.2836283
X-APPLE-STRUCTURED-LOCATION;VALUE=URI;X-ADDRESS=California African American Museum 600 State Drive Los Angeles CA 90037 United States;X-APPLE-RADIUS=500;X-TITLE=600 State Drive:geo:-118.2836283,34.0159415
END:VEVENT
BEGIN:VEVENT
DTSTART;TZID=America/Los_Angeles:20190212T213000
DTEND;TZID=America/Los_Angeles:20190212T223000
DTSTAMP:20260421T043154
CREATED:20170215T225948Z
LAST-MODIFIED:20170215T225948Z
UID:10044655-1550007000-1550010600@expositionpark.ca.gov
SUMMARY:Tri-Color Soccer League
DESCRIPTION:
URL:https://expositionpark.ca.gov/event/tri-color-soccer-league-2/2019-02-12/
LOCATION:EXPO Center\, 3980 Bill Robertson Lane\, Los Angeles\, CA\, 90037\, United States
GEO:34.0121136;-118.2900829
X-APPLE-STRUCTURED-LOCATION;VALUE=URI;X-ADDRESS=EXPO Center 3980 Bill Robertson Lane Los Angeles CA 90037 United States;X-APPLE-RADIUS=500;X-TITLE=3980 Bill Robertson Lane:geo:-118.2900829,34.0121136
END:VEVENT
END:VCALENDAR