BEGIN:VCALENDAR
VERSION:2.0
PRODID:-//Exposition Park - ECPv6.15.20//NONSGML v1.0//EN
CALSCALE:GREGORIAN
METHOD:PUBLISH
X-WR-CALNAME:Exposition Park
X-ORIGINAL-URL:https://expositionpark.ca.gov
X-WR-CALDESC:Events for Exposition Park
REFRESH-INTERVAL;VALUE=DURATION:PT1H
X-Robots-Tag:noindex
X-PUBLISHED-TTL:PT1H
BEGIN:VTIMEZONE
TZID:America/Los_Angeles
BEGIN:DAYLIGHT
TZOFFSETFROM:-0800
TZOFFSETTO:-0700
TZNAME:PDT
DTSTART:20180311T100000
END:DAYLIGHT
BEGIN:STANDARD
TZOFFSETFROM:-0700
TZOFFSETTO:-0800
TZNAME:PST
DTSTART:20181104T090000
END:STANDARD
BEGIN:DAYLIGHT
TZOFFSETFROM:-0800
TZOFFSETTO:-0700
TZNAME:PDT
DTSTART:20190310T100000
END:DAYLIGHT
BEGIN:STANDARD
TZOFFSETFROM:-0700
TZOFFSETTO:-0800
TZNAME:PST
DTSTART:20191103T090000
END:STANDARD
BEGIN:DAYLIGHT
TZOFFSETFROM:-0800
TZOFFSETTO:-0700
TZNAME:PDT
DTSTART:20200308T100000
END:DAYLIGHT
BEGIN:STANDARD
TZOFFSETFROM:-0700
TZOFFSETTO:-0800
TZNAME:PST
DTSTART:20201101T090000
END:STANDARD
END:VTIMEZONE
BEGIN:VEVENT
DTSTART;TZID=America/Los_Angeles:20190217T070000
DTEND;TZID=America/Los_Angeles:20190217T173000
DTSTAMP:20260421T114157
CREATED:20190115T235254Z
LAST-MODIFIED:20190115T235254Z
UID:10052568-1550386800-1550424600@expositionpark.ca.gov
SUMMARY:Aquatics Lifeguard Academy #1
DESCRIPTION:Aquatics Pool Lifeguard Academy
URL:https://expositionpark.ca.gov/event/aquatics-lifeguard-academy-1-2/
LOCATION:EXPO Center/ John C Argue Swim Stadium\, 3980 Bill Robertson Lane\, Los Angeles\, CA\, 90037\, United States
ORGANIZER;CN="Wendy Escobar":MAILTO:wendy.escobar@lacity.org
GEO:34.0121136;-118.2900829
X-APPLE-STRUCTURED-LOCATION;VALUE=URI;X-ADDRESS=EXPO Center/ John C Argue Swim Stadium 3980 Bill Robertson Lane Los Angeles CA 90037 United States;X-APPLE-RADIUS=500;X-TITLE=3980 Bill Robertson Lane:geo:-118.2900829,34.0121136
END:VEVENT
BEGIN:VEVENT
DTSTART;TZID=America/Los_Angeles:20190217T080000
DTEND;TZID=America/Los_Angeles:20190217T170000
DTSTAMP:20260421T114157
CREATED:20170215T230650Z
LAST-MODIFIED:20170215T230650Z
UID:10047138-1550390400-1550422800@expositionpark.ca.gov
SUMMARY:Vermont Sports Club
DESCRIPTION:
URL:https://expositionpark.ca.gov/event/vermont-sports-club-9/2019-02-17/
LOCATION:EXPO Center\, 3980 Bill Robertson Lane\, Los Angeles\, CA\, 90037\, United States
GEO:34.0121136;-118.2900829
X-APPLE-STRUCTURED-LOCATION;VALUE=URI;X-ADDRESS=EXPO Center 3980 Bill Robertson Lane Los Angeles CA 90037 United States;X-APPLE-RADIUS=500;X-TITLE=3980 Bill Robertson Lane:geo:-118.2900829,34.0121136
END:VEVENT
BEGIN:VEVENT
DTSTART;TZID=America/Los_Angeles:20190217T130000
DTEND;TZID=America/Los_Angeles:20190217T150000
DTSTAMP:20260421T114157
CREATED:20190112T002351Z
LAST-MODIFIED:20190112T002351Z
UID:10052514-1550408400-1550415600@expositionpark.ca.gov
SUMMARY:CAAM What the world needs is… Poster Workshop
DESCRIPTION:
URL:https://expositionpark.ca.gov/event/caam-what-the-world-needs-is-poster-workshop/
LOCATION:California African American Museum\, 600 State Drive\, Los Angeles\, CA\, 90037\, United States
GEO:34.0159415;-118.2836283
X-APPLE-STRUCTURED-LOCATION;VALUE=URI;X-ADDRESS=California African American Museum 600 State Drive Los Angeles CA 90037 United States;X-APPLE-RADIUS=500;X-TITLE=600 State Drive:geo:-118.2836283,34.0159415
END:VEVENT
BEGIN:VEVENT
DTSTART;TZID=America/Los_Angeles:20190217T150000
DTEND;TZID=America/Los_Angeles:20190217T163000
DTSTAMP:20260421T114157
CREATED:20190112T001831Z
LAST-MODIFIED:20190112T001831Z
UID:10051106-1550415600-1550421000@expositionpark.ca.gov
SUMMARY:CAAM Reads!
DESCRIPTION:
URL:https://expositionpark.ca.gov/event/caam-reads-12/
LOCATION:California African American Museum\, 600 State Drive\, Los Angeles\, CA\, 90037\, United States
GEO:34.0159415;-118.2836283
X-APPLE-STRUCTURED-LOCATION;VALUE=URI;X-ADDRESS=California African American Museum 600 State Drive Los Angeles CA 90037 United States;X-APPLE-RADIUS=500;X-TITLE=600 State Drive:geo:-118.2836283,34.0159415
END:VEVENT
BEGIN:VEVENT
DTSTART;TZID=America/Los_Angeles:20190217T190000
DTEND;TZID=America/Los_Angeles:20190217T210000
DTSTAMP:20260421T114157
CREATED:20190112T001848Z
LAST-MODIFIED:20190112T001848Z
UID:10051107-1550430000-1550437200@expositionpark.ca.gov
SUMMARY:CAAM Gary Simmons On Film\, Art and Music
DESCRIPTION:
URL:https://expositionpark.ca.gov/event/caam-gary-simmons-on-film-art-and-music/
LOCATION:California African American Museum\, 600 State Drive\, Los Angeles\, CA\, 90037\, United States
GEO:34.0159415;-118.2836283
X-APPLE-STRUCTURED-LOCATION;VALUE=URI;X-ADDRESS=California African American Museum 600 State Drive Los Angeles CA 90037 United States;X-APPLE-RADIUS=500;X-TITLE=600 State Drive:geo:-118.2836283,34.0159415
END:VEVENT
END:VCALENDAR