BEGIN:VCALENDAR
VERSION:2.0
PRODID:-//Exposition Park - ECPv6.15.20//NONSGML v1.0//EN
CALSCALE:GREGORIAN
METHOD:PUBLISH
X-WR-CALNAME:Exposition Park
X-ORIGINAL-URL:https://expositionpark.ca.gov
X-WR-CALDESC:Events for Exposition Park
REFRESH-INTERVAL;VALUE=DURATION:PT1H
X-Robots-Tag:noindex
X-PUBLISHED-TTL:PT1H
BEGIN:VTIMEZONE
TZID:America/Los_Angeles
BEGIN:DAYLIGHT
TZOFFSETFROM:-0800
TZOFFSETTO:-0700
TZNAME:PDT
DTSTART:20180311T100000
END:DAYLIGHT
BEGIN:STANDARD
TZOFFSETFROM:-0700
TZOFFSETTO:-0800
TZNAME:PST
DTSTART:20181104T090000
END:STANDARD
BEGIN:DAYLIGHT
TZOFFSETFROM:-0800
TZOFFSETTO:-0700
TZNAME:PDT
DTSTART:20190310T100000
END:DAYLIGHT
BEGIN:STANDARD
TZOFFSETFROM:-0700
TZOFFSETTO:-0800
TZNAME:PST
DTSTART:20191103T090000
END:STANDARD
BEGIN:DAYLIGHT
TZOFFSETFROM:-0800
TZOFFSETTO:-0700
TZNAME:PDT
DTSTART:20200308T100000
END:DAYLIGHT
BEGIN:STANDARD
TZOFFSETFROM:-0700
TZOFFSETTO:-0800
TZNAME:PST
DTSTART:20201101T090000
END:STANDARD
END:VTIMEZONE
BEGIN:VEVENT
DTSTART;TZID=America/Los_Angeles:20190222T160000
DTEND;TZID=America/Los_Angeles:20190223T090000
DTSTAMP:20260421T170302
CREATED:20181221T220803Z
LAST-MODIFIED:20181221T220803Z
UID:10052461-1550851200-1550912400@expositionpark.ca.gov
SUMMARY:NHM Sleepover
DESCRIPTION:
URL:https://expositionpark.ca.gov/event/nhm-sleepover/
LOCATION:Natural History Museum of Los Angeles County\, 900 Exposition Blvd.\, Los Angeles\, CA\, 90007\, United States
ORGANIZER;CN="NHM":MAILTO:vvobis@nhm.org
GEO:34.0170769;-118.2886818
X-APPLE-STRUCTURED-LOCATION;VALUE=URI;X-ADDRESS=Natural History Museum of Los Angeles County 900 Exposition Blvd. Los Angeles CA 90007 United States;X-APPLE-RADIUS=500;X-TITLE=900 Exposition Blvd.:geo:-118.2886818,34.0170769
END:VEVENT
BEGIN:VEVENT
DTSTART;TZID=America/Los_Angeles:20190223T070000
DTEND;TZID=America/Los_Angeles:20190223T173000
DTSTAMP:20260421T170302
CREATED:20190130T220829Z
LAST-MODIFIED:20190130T220829Z
UID:10052609-1550905200-1550943000@expositionpark.ca.gov
SUMMARY:Lifeguard Academy #1
DESCRIPTION:Lifeguard Academy
URL:https://expositionpark.ca.gov/event/lifeguard-academy-1/
LOCATION:EXPO Center Multipurpose Room\, 3980 Bill Robertson Lane\, Los Angeles\, CA\, 90037\, United States
END:VEVENT
BEGIN:VEVENT
DTSTART;TZID=America/Los_Angeles:20190223T080000
DTEND;TZID=America/Los_Angeles:20190223T200000
DTSTAMP:20260421T170302
CREATED:20190221T163329Z
LAST-MODIFIED:20190221T163329Z
UID:10052692-1550908800-1550952000@expositionpark.ca.gov
SUMMARY:LAFC vs Vancouver Whitecaps FC Scrimmage
DESCRIPTION:Kickoff 5:30pm
URL:https://expositionpark.ca.gov/event/lafc-vs-vancouver-whitecaps-fc-scrimmage/
LOCATION:Banc of California Stadium\, United States
GEO:37.09024;-95.712891
END:VEVENT
BEGIN:VEVENT
DTSTART;TZID=America/Los_Angeles:20190223T140000
DTEND;TZID=America/Los_Angeles:20190223T220000
DTSTAMP:20260421T170302
CREATED:20190131T002952Z
LAST-MODIFIED:20190207T163424Z
UID:10052618-1550930400-1550959200@expositionpark.ca.gov
SUMMARY:CAAM Private Event "African Dance"
DESCRIPTION:
URL:https://expositionpark.ca.gov/event/caam-private-event-african-dance/
LOCATION:CA\, United States
END:VEVENT
BEGIN:VEVENT
DTSTART;TZID=America/Los_Angeles:20190223T190000
DTEND;TZID=America/Los_Angeles:20190223T230000
DTSTAMP:20260421T170302
CREATED:20190212T204256Z
LAST-MODIFIED:20190212T204256Z
UID:10052649-1550948400-1550962800@expositionpark.ca.gov
SUMMARY:Private Social Event
DESCRIPTION:
URL:https://expositionpark.ca.gov/event/private-social-event/
LOCATION:CSC – Samuel Oschin Pavilion
END:VEVENT
END:VCALENDAR