BEGIN:VCALENDAR
VERSION:2.0
PRODID:-//Exposition Park - ECPv6.15.20//NONSGML v1.0//EN
CALSCALE:GREGORIAN
METHOD:PUBLISH
X-ORIGINAL-URL:https://expositionpark.ca.gov
X-WR-CALDESC:Events for Exposition Park
REFRESH-INTERVAL;VALUE=DURATION:PT1H
X-Robots-Tag:noindex
X-PUBLISHED-TTL:PT1H
BEGIN:VTIMEZONE
TZID:America/Los_Angeles
BEGIN:DAYLIGHT
TZOFFSETFROM:-0800
TZOFFSETTO:-0700
TZNAME:PDT
DTSTART:20180311T100000
END:DAYLIGHT
BEGIN:STANDARD
TZOFFSETFROM:-0700
TZOFFSETTO:-0800
TZNAME:PST
DTSTART:20181104T090000
END:STANDARD
BEGIN:DAYLIGHT
TZOFFSETFROM:-0800
TZOFFSETTO:-0700
TZNAME:PDT
DTSTART:20190310T100000
END:DAYLIGHT
BEGIN:STANDARD
TZOFFSETFROM:-0700
TZOFFSETTO:-0800
TZNAME:PST
DTSTART:20191103T090000
END:STANDARD
BEGIN:DAYLIGHT
TZOFFSETFROM:-0800
TZOFFSETTO:-0700
TZNAME:PDT
DTSTART:20200308T100000
END:DAYLIGHT
BEGIN:STANDARD
TZOFFSETFROM:-0700
TZOFFSETTO:-0800
TZNAME:PST
DTSTART:20201101T090000
END:STANDARD
END:VTIMEZONE
BEGIN:VEVENT
DTSTART;TZID=America/Los_Angeles:20190309T070000
DTEND;TZID=America/Los_Angeles:20190309T173000
DTSTAMP:20260423T032527
CREATED:20190128T175250Z
LAST-MODIFIED:20190128T175250Z
UID:10052592-1552114800-1552152600@expositionpark.ca.gov
SUMMARY:Aquatics Lifeguard Academy #1
DESCRIPTION:Lifeguard Academy
URL:https://expositionpark.ca.gov/event/aquatics-lifeguard-academy-1-6/
LOCATION:EXPO Center Multipurpose Room\, 3980 Bill Robertson Lane\, Los Angeles\, CA\, 90037\, United States
ORGANIZER;CN="Wendy Escobar":MAILTO:wendy.escobar@lacity.org
END:VEVENT
BEGIN:VEVENT
DTSTART;TZID=America/Los_Angeles:20190309T080000
DTEND;TZID=America/Los_Angeles:20190309T150000
DTSTAMP:20260423T032527
CREATED:20180713T003002Z
LAST-MODIFIED:20180713T003002Z
UID:10052163-1552118400-1552143600@expositionpark.ca.gov
SUMMARY:Youth Programs at NHMLA
DESCRIPTION:
URL:https://expositionpark.ca.gov/event/youth-programs-at-nhmla/2019-03-09/
LOCATION:Natural History Museum of Los Angeles County\, 900 Exposition Blvd.\, Los Angeles\, CA\, 90007\, United States
ORGANIZER;CN="Christina Kastely":MAILTO:ckastely@nhm.org
GEO:34.0170769;-118.2886818
X-APPLE-STRUCTURED-LOCATION;VALUE=URI;X-ADDRESS=Natural History Museum of Los Angeles County 900 Exposition Blvd. Los Angeles CA 90007 United States;X-APPLE-RADIUS=500;X-TITLE=900 Exposition Blvd.:geo:-118.2886818,34.0170769
END:VEVENT
BEGIN:VEVENT
DTSTART;TZID=America/Los_Angeles:20190309T080000
DTEND;TZID=America/Los_Angeles:20190309T150000
DTSTAMP:20260423T032527
CREATED:20180723T184738Z
LAST-MODIFIED:20180723T184738Z
UID:10052177-1552118400-1552143600@expositionpark.ca.gov
SUMMARY:Youth Programs at NHMLA
DESCRIPTION:
URL:https://expositionpark.ca.gov/event/youth-programs-at-nhmla-2/2019-03-09/
LOCATION:Natural History Museum of Los Angeles County\, 900 Exposition Blvd.\, Los Angeles\, CA\, 90007\, United States
ORGANIZER;CN="Christina Kastely":MAILTO:ckastely@nhm.org
GEO:34.0170769;-118.2886818
X-APPLE-STRUCTURED-LOCATION;VALUE=URI;X-ADDRESS=Natural History Museum of Los Angeles County 900 Exposition Blvd. Los Angeles CA 90007 United States;X-APPLE-RADIUS=500;X-TITLE=900 Exposition Blvd.:geo:-118.2886818,34.0170769
END:VEVENT
BEGIN:VEVENT
DTSTART;TZID=America/Los_Angeles:20190309T090000
DTEND;TZID=America/Los_Angeles:20190309T160000
DTSTAMP:20260423T032527
CREATED:20190118T210506Z
LAST-MODIFIED:20190118T210506Z
UID:10051156-1552122000-1552147200@expositionpark.ca.gov
SUMMARY:Coliseum - Exposition Park Dr Loading Zone
DESCRIPTION:
URL:https://expositionpark.ca.gov/event/coliseum-exposition-park-dr-loading-zone-3/
LOCATION:Los Angeles Memorial Coliseum\, 3911 S. Figueroa St.\, Los Angeles\, CA\, CA\, 90037\, United States
GEO:34.0128523;-118.2845395
X-APPLE-STRUCTURED-LOCATION;VALUE=URI;X-ADDRESS=Los Angeles Memorial Coliseum 3911 S. Figueroa St. Los Angeles CA CA 90037 United States;X-APPLE-RADIUS=500;X-TITLE=3911 S. Figueroa St.:geo:-118.2845395,34.0128523
END:VEVENT
BEGIN:VEVENT
DTSTART;TZID=America/Los_Angeles:20190309T120000
DTEND;TZID=America/Los_Angeles:20190309T160000
DTSTAMP:20260423T032527
CREATED:20181001T211135Z
LAST-MODIFIED:20181001T211135Z
UID:10052365-1552132800-1552147200@expositionpark.ca.gov
SUMMARY:IMAX Premiere Public/Private Reception
DESCRIPTION:IMAX Theater Public shows: 1:30 p.m. and 2:30 p.m. \nIMAX Theater Private shows: 2:00 p.m. – 3:30 p.m. \nPrivate Reception (WAB) 12:00 p.m. – 2:00 p.m.
URL:https://expositionpark.ca.gov/event/imax-premiere-public-private-reception/
LOCATION:Wallis Annenberg Building
END:VEVENT
BEGIN:VEVENT
DTSTART;TZID=America/Los_Angeles:20190309T120000
DTEND;TZID=America/Los_Angeles:20190309T163000
DTSTAMP:20260423T032527
CREATED:20181220T202258Z
LAST-MODIFIED:20181220T202258Z
UID:10052441-1552132800-1552149000@expositionpark.ca.gov
SUMMARY:Vegetable Gardening Workshop
DESCRIPTION:Create your own edible garden for fresh\, organic produce by learning how to:\n– Create good soil out of your current one\n– What\, how\, and when to plant\n– How much and how often to add compost and water\n– Manage insect pests and encourage “good bugs”\n– Increase yield and add variety
URL:https://expositionpark.ca.gov/event/vegetable-gardening-workshop/
LOCATION:Natural History Museum of Los Angeles County\, 900 Exposition Blvd.\, Los Angeles\, CA\, 90007\, United States
GEO:34.0170769;-118.2886818
X-APPLE-STRUCTURED-LOCATION;VALUE=URI;X-ADDRESS=Natural History Museum of Los Angeles County 900 Exposition Blvd. Los Angeles CA 90007 United States;X-APPLE-RADIUS=500;X-TITLE=900 Exposition Blvd.:geo:-118.2886818,34.0170769
END:VEVENT
BEGIN:VEVENT
DTSTART;TZID=America/Los_Angeles:20190309T150000
DTEND;TZID=America/Los_Angeles:20190309T160000
DTSTAMP:20260423T032527
CREATED:20190112T002045Z
LAST-MODIFIED:20190112T002045Z
UID:10051116-1552143600-1552147200@expositionpark.ca.gov
SUMMARY:CAAM Curatorial Walkthrough: Plumb Line: Charles White and the Contemporary
DESCRIPTION:
URL:https://expositionpark.ca.gov/event/caam-curatorial-walkthrough-plumb-line-charles-white-and-the-contemporary/
LOCATION:California African American Museum\, 600 State Drive\, Los Angeles\, CA\, 90037\, United States
GEO:34.0159415;-118.2836283
X-APPLE-STRUCTURED-LOCATION;VALUE=URI;X-ADDRESS=California African American Museum 600 State Drive Los Angeles CA 90037 United States;X-APPLE-RADIUS=500;X-TITLE=600 State Drive:geo:-118.2836283,34.0159415
END:VEVENT
END:VCALENDAR