BEGIN:VCALENDAR
VERSION:2.0
PRODID:-//Exposition Park - ECPv6.15.20//NONSGML v1.0//EN
CALSCALE:GREGORIAN
METHOD:PUBLISH
X-WR-CALNAME:Exposition Park
X-ORIGINAL-URL:https://expositionpark.ca.gov
X-WR-CALDESC:Events for Exposition Park
REFRESH-INTERVAL;VALUE=DURATION:PT1H
X-Robots-Tag:noindex
X-PUBLISHED-TTL:PT1H
BEGIN:VTIMEZONE
TZID:America/Los_Angeles
BEGIN:DAYLIGHT
TZOFFSETFROM:-0800
TZOFFSETTO:-0700
TZNAME:PDT
DTSTART:20180311T100000
END:DAYLIGHT
BEGIN:STANDARD
TZOFFSETFROM:-0700
TZOFFSETTO:-0800
TZNAME:PST
DTSTART:20181104T090000
END:STANDARD
BEGIN:DAYLIGHT
TZOFFSETFROM:-0800
TZOFFSETTO:-0700
TZNAME:PDT
DTSTART:20190310T100000
END:DAYLIGHT
BEGIN:STANDARD
TZOFFSETFROM:-0700
TZOFFSETTO:-0800
TZNAME:PST
DTSTART:20191103T090000
END:STANDARD
BEGIN:DAYLIGHT
TZOFFSETFROM:-0800
TZOFFSETTO:-0700
TZNAME:PDT
DTSTART:20200308T100000
END:DAYLIGHT
BEGIN:STANDARD
TZOFFSETFROM:-0700
TZOFFSETTO:-0800
TZNAME:PST
DTSTART:20201101T090000
END:STANDARD
END:VTIMEZONE
BEGIN:VEVENT
DTSTART;TZID=America/Los_Angeles:20190316T070000
DTEND;TZID=America/Los_Angeles:20190316T173000
DTSTAMP:20260421T053901
CREATED:20190128T175335Z
LAST-MODIFIED:20190128T175335Z
UID:10052594-1552719600-1552757400@expositionpark.ca.gov
SUMMARY:Aquatics Lifeguard Academy #1
DESCRIPTION:Lifeguard Academy
URL:https://expositionpark.ca.gov/event/aquatics-lifeguard-academy-1-7/
LOCATION:EXPO Center Multipurpose Room\, 3980 Bill Robertson Lane\, Los Angeles\, CA\, 90037\, United States
ORGANIZER;CN="Wendy Escobar":MAILTO:wendy.escobar@lacity.org
END:VEVENT
BEGIN:VEVENT
DTSTART;TZID=America/Los_Angeles:20190316T080000
DTEND;TZID=America/Los_Angeles:20190316T170000
DTSTAMP:20260421T053901
CREATED:20190112T002436Z
LAST-MODIFIED:20190112T002436Z
UID:10052522-1552723200-1552755600@expositionpark.ca.gov
SUMMARY:CAAM Sculptural Story Space Workshop
DESCRIPTION:
URL:https://expositionpark.ca.gov/event/caam-sculptural-story-space-workshop/
LOCATION:California African American Museum\, 600 State Drive\, Los Angeles\, CA\, 90037\, United States
GEO:34.0159415;-118.2836283
X-APPLE-STRUCTURED-LOCATION;VALUE=URI;X-ADDRESS=California African American Museum 600 State Drive Los Angeles CA 90037 United States;X-APPLE-RADIUS=500;X-TITLE=600 State Drive:geo:-118.2836283,34.0159415
END:VEVENT
BEGIN:VEVENT
DTSTART;TZID=America/Los_Angeles:20190316T090000
DTEND;TZID=America/Los_Angeles:20190316T160000
DTSTAMP:20260421T053901
CREATED:20190118T210547Z
LAST-MODIFIED:20190118T210547Z
UID:10051158-1552726800-1552752000@expositionpark.ca.gov
SUMMARY:Coliseum - Exposition Park Dr Loading Zone
DESCRIPTION:
URL:https://expositionpark.ca.gov/event/coliseum-exposition-park-dr-loading-zone-5/
LOCATION:Los Angeles Memorial Coliseum\, 3911 S. Figueroa St.\, Los Angeles\, CA\, CA\, 90037\, United States
GEO:34.0128523;-118.2845395
X-APPLE-STRUCTURED-LOCATION;VALUE=URI;X-ADDRESS=Los Angeles Memorial Coliseum 3911 S. Figueroa St. Los Angeles CA CA 90037 United States;X-APPLE-RADIUS=500;X-TITLE=3911 S. Figueroa St.:geo:-118.2845395,34.0128523
END:VEVENT
BEGIN:VEVENT
DTSTART;TZID=America/Los_Angeles:20190316T093000
DTEND;TZID=America/Los_Angeles:20190317T170000
DTSTAMP:20260421T053901
CREATED:20181001T210827Z
LAST-MODIFIED:20181016T203220Z
UID:10052361-1552728600-1552842000@expositionpark.ca.gov
SUMMARY:L.A. Nature Fest
DESCRIPTION:We share the city of Los Angeles with many interesting animal neighbors\, from the Griffith Park mountain lion to the birds in the Nature Gardens. Come and explore the wild side of Los Angeles at NHMLA. Meet an opossum\, do lunch with a rattlesnake\, and go for a walk with a desert tortoise. Museum scientists will be on hand to answer your questions about snails\, bugs\, birds\, and all things city nature. \nShare your story #LANatureFest
URL:https://expositionpark.ca.gov/event/l-a-nature-fest-2/
LOCATION:Natural History Museum of Los Angeles County\, 900 Exposition Blvd.\, Los Angeles\, CA\, 90007\, United States
ORGANIZER;CN="Special Events":MAILTO:specialevents@nhm.org
GEO:34.0170769;-118.2886818
X-APPLE-STRUCTURED-LOCATION;VALUE=URI;X-ADDRESS=Natural History Museum of Los Angeles County 900 Exposition Blvd. Los Angeles CA 90007 United States;X-APPLE-RADIUS=500;X-TITLE=900 Exposition Blvd.:geo:-118.2886818,34.0170769
END:VEVENT
END:VCALENDAR