BEGIN:VCALENDAR
VERSION:2.0
PRODID:-//Exposition Park - ECPv6.15.20//NONSGML v1.0//EN
CALSCALE:GREGORIAN
METHOD:PUBLISH
X-ORIGINAL-URL:https://expositionpark.ca.gov
X-WR-CALDESC:Events for Exposition Park
REFRESH-INTERVAL;VALUE=DURATION:PT1H
X-Robots-Tag:noindex
X-PUBLISHED-TTL:PT1H
BEGIN:VTIMEZONE
TZID:America/Los_Angeles
BEGIN:DAYLIGHT
TZOFFSETFROM:-0800
TZOFFSETTO:-0700
TZNAME:PDT
DTSTART:20180311T100000
END:DAYLIGHT
BEGIN:STANDARD
TZOFFSETFROM:-0700
TZOFFSETTO:-0800
TZNAME:PST
DTSTART:20181104T090000
END:STANDARD
BEGIN:DAYLIGHT
TZOFFSETFROM:-0800
TZOFFSETTO:-0700
TZNAME:PDT
DTSTART:20190310T100000
END:DAYLIGHT
BEGIN:STANDARD
TZOFFSETFROM:-0700
TZOFFSETTO:-0800
TZNAME:PST
DTSTART:20191103T090000
END:STANDARD
BEGIN:DAYLIGHT
TZOFFSETFROM:-0800
TZOFFSETTO:-0700
TZNAME:PDT
DTSTART:20200308T100000
END:DAYLIGHT
BEGIN:STANDARD
TZOFFSETFROM:-0700
TZOFFSETTO:-0800
TZNAME:PST
DTSTART:20201101T090000
END:STANDARD
END:VTIMEZONE
BEGIN:VEVENT
DTSTART;TZID=America/Los_Angeles:20190407T040000
DTEND;TZID=America/Los_Angeles:20190407T153000
DTSTAMP:20260420T221647
CREATED:20190225T181351Z
LAST-MODIFIED:20190408T231608Z
UID:10052695-1554609600-1554651000@expositionpark.ca.gov
SUMMARY:Ronald McDonald House Charities of So Cal - Walk for Kids
DESCRIPTION:Load in:  Saturday\, April 6\, 2019 at 3:30pm to 12:30am \nEvent: Sunday\, April 7\, 2019  – 4:00am to 11:00am \nLoad Out:  Sunday\, April 7\, 2019 – 11:00am to 3:30pm \n#Walk for Kids \nTo benefit the Ronald McDonald House in Los Angeles
URL:https://expositionpark.ca.gov/event/ronald-mcdonald-house-charities-of-so-cal-walk-for-kids/
LOCATION:South Lawn West\, CA\, United States
END:VEVENT
BEGIN:VEVENT
DTSTART;TZID=America/Los_Angeles:20190407T070000
DTEND;TZID=America/Los_Angeles:20190407T173000
DTSTAMP:20260420T221647
CREATED:20190130T220627Z
LAST-MODIFIED:20190130T220627Z
UID:10052604-1554620400-1554658200@expositionpark.ca.gov
SUMMARY:Lifeguard Academy #2
DESCRIPTION:Lifeguard Academy
URL:https://expositionpark.ca.gov/event/lifeguard-academy-2-4/
LOCATION:EXPO Center Multipurpose Room\, 3980 Bill Robertson Lane\, Los Angeles\, CA\, 90037\, United States
END:VEVENT
BEGIN:VEVENT
DTSTART;TZID=America/Los_Angeles:20190407T080000
DTEND;TZID=America/Los_Angeles:20190407T170000
DTSTAMP:20260420T221647
CREATED:20170215T230650Z
LAST-MODIFIED:20170215T230650Z
UID:10047145-1554624000-1554656400@expositionpark.ca.gov
SUMMARY:Vermont Sports Club
DESCRIPTION:
URL:https://expositionpark.ca.gov/event/vermont-sports-club-9/2019-04-07/
LOCATION:EXPO Center\, 3980 Bill Robertson Lane\, Los Angeles\, CA\, 90037\, United States
GEO:34.0121136;-118.2900829
X-APPLE-STRUCTURED-LOCATION;VALUE=URI;X-ADDRESS=EXPO Center 3980 Bill Robertson Lane Los Angeles CA 90037 United States;X-APPLE-RADIUS=500;X-TITLE=3980 Bill Robertson Lane:geo:-118.2900829,34.0121136
END:VEVENT
BEGIN:VEVENT
DTSTART;TZID=America/Los_Angeles:20190407T150000
DTEND;TZID=America/Los_Angeles:20190407T235900
DTSTAMP:20260420T221647
CREATED:20190322T000616Z
LAST-MODIFIED:20190405T164727Z
UID:10051241-1554649200-1554681540@expositionpark.ca.gov
SUMMARY:U.S. Soccer - USWT Fan Fest
DESCRIPTION:Load-In:  Saturday\, April 6\, 2019 @ 8am on Christmas Tree Lane East\nWill use red south side curb for trucks – leaving 2 lanes for traffic \nEvent Hours:\nSunday\, April 7\, 2019 3pm to 6pm \nRoad Closure – S. Coliseum Drive from 8am to 11:59pm on Sunday\, April 7\, 2019 \nLoad Out:  Sunday\, April 7\, 2019 6pm to 11:59pm
URL:https://expositionpark.ca.gov/event/u-s-soccer-uswt-fan-fest/
LOCATION:Christmas Tree Lane East & S. Coliseum Drive
END:VEVENT
BEGIN:VEVENT
DTSTART;TZID=America/Los_Angeles:20190407T164500
DTEND;TZID=America/Los_Angeles:20190407T173000
DTSTAMP:20260420T221647
CREATED:20190404T213057Z
LAST-MODIFIED:20190404T213057Z
UID:10052816-1554655500-1554658200@expositionpark.ca.gov
SUMMARY:The Bench\, LLC
DESCRIPTION:Walk from Shrine Auditorium to Banc of CA Stadium (stopping at Christmas Tree Lane East) \nStarting at 4:45pm from Shrine \nLAPD bike patrol will escort on the route.
URL:https://expositionpark.ca.gov/event/the-bench-llc/
LOCATION:Christmas Tree Lane East\, CA\, United States
END:VEVENT
BEGIN:VEVENT
DTSTART;TZID=America/Los_Angeles:20190407T180000
DTEND;TZID=America/Los_Angeles:20190407T200000
DTSTAMP:20260420T221647
CREATED:20181210T212647Z
LAST-MODIFIED:20181210T212647Z
UID:10052432-1554660000-1554667200@expositionpark.ca.gov
SUMMARY:U.S.A. vs Belgium (International Women's Friendly)
DESCRIPTION:
URL:https://expositionpark.ca.gov/event/u-s-a-vs-belgium-international-womens-friendly/
LOCATION:Banc of California Stadium\, United States
ORGANIZER;CN="Otto Benedict":MAILTO:otto.benedict@lafc.com
GEO:37.09024;-95.712891
END:VEVENT
END:VCALENDAR