BEGIN:VCALENDAR
VERSION:2.0
PRODID:-//Exposition Park - ECPv6.15.20//NONSGML v1.0//EN
CALSCALE:GREGORIAN
METHOD:PUBLISH
X-WR-CALNAME:Exposition Park
X-ORIGINAL-URL:https://expositionpark.ca.gov
X-WR-CALDESC:Events for Exposition Park
REFRESH-INTERVAL;VALUE=DURATION:PT1H
X-Robots-Tag:noindex
X-PUBLISHED-TTL:PT1H
BEGIN:VTIMEZONE
TZID:America/Los_Angeles
BEGIN:DAYLIGHT
TZOFFSETFROM:-0800
TZOFFSETTO:-0700
TZNAME:PDT
DTSTART:20180311T100000
END:DAYLIGHT
BEGIN:STANDARD
TZOFFSETFROM:-0700
TZOFFSETTO:-0800
TZNAME:PST
DTSTART:20181104T090000
END:STANDARD
BEGIN:DAYLIGHT
TZOFFSETFROM:-0800
TZOFFSETTO:-0700
TZNAME:PDT
DTSTART:20190310T100000
END:DAYLIGHT
BEGIN:STANDARD
TZOFFSETFROM:-0700
TZOFFSETTO:-0800
TZNAME:PST
DTSTART:20191103T090000
END:STANDARD
BEGIN:DAYLIGHT
TZOFFSETFROM:-0800
TZOFFSETTO:-0700
TZNAME:PDT
DTSTART:20200308T100000
END:DAYLIGHT
BEGIN:STANDARD
TZOFFSETFROM:-0700
TZOFFSETTO:-0800
TZNAME:PST
DTSTART:20201101T090000
END:STANDARD
END:VTIMEZONE
BEGIN:VEVENT
DTSTART;TZID=America/Los_Angeles:20190414T070000
DTEND;TZID=America/Los_Angeles:20190414T173000
DTSTAMP:20260421T105014
CREATED:20190130T220736Z
LAST-MODIFIED:20190130T220736Z
UID:10052607-1555225200-1555263000@expositionpark.ca.gov
SUMMARY:Lifeguard Academy #2
DESCRIPTION:Lifeguard Academy
URL:https://expositionpark.ca.gov/event/lifeguard-academy-2-6/
LOCATION:EXPO Center Multipurpose Room\, 3980 Bill Robertson Lane\, Los Angeles\, CA\, 90037\, United States
END:VEVENT
BEGIN:VEVENT
DTSTART;TZID=America/Los_Angeles:20190414T080000
DTEND;TZID=America/Los_Angeles:20190414T170000
DTSTAMP:20260421T105014
CREATED:20170215T230650Z
LAST-MODIFIED:20170215T230650Z
UID:10047146-1555228800-1555261200@expositionpark.ca.gov
SUMMARY:Vermont Sports Club
DESCRIPTION:
URL:https://expositionpark.ca.gov/event/vermont-sports-club-9/2019-04-14/
LOCATION:EXPO Center\, 3980 Bill Robertson Lane\, Los Angeles\, CA\, 90037\, United States
GEO:34.0121136;-118.2900829
X-APPLE-STRUCTURED-LOCATION;VALUE=URI;X-ADDRESS=EXPO Center 3980 Bill Robertson Lane Los Angeles CA 90037 United States;X-APPLE-RADIUS=500;X-TITLE=3980 Bill Robertson Lane:geo:-118.2900829,34.0121136
END:VEVENT
BEGIN:VEVENT
DTSTART;TZID=America/Los_Angeles:20190414T100000
DTEND;TZID=America/Los_Angeles:20190414T153000
DTSTAMP:20260421T105014
CREATED:20190409T220028Z
LAST-MODIFIED:20190409T220028Z
UID:10051286-1555236000-1555255800@expositionpark.ca.gov
SUMMARY:YPO
DESCRIPTION:
URL:https://expositionpark.ca.gov/event/ypo/
LOCATION:Banc of California Stadium\, United States
GEO:37.09024;-95.712891
END:VEVENT
BEGIN:VEVENT
DTSTART;TZID=America/Los_Angeles:20190414T140000
DTEND;TZID=America/Los_Angeles:20190414T160000
DTSTAMP:20260421T105014
CREATED:20190326T231954Z
LAST-MODIFIED:20190326T231954Z
UID:10052764-1555250400-1555257600@expositionpark.ca.gov
SUMMARY:CAAM In Conversation: Lonnie Bunch III and George O. Davis
DESCRIPTION:
URL:https://expositionpark.ca.gov/event/caam-in-conversation-lonnie-bunch-iii-and-george-o-davis/
LOCATION:California African American Museum\, 600 State Drive\, Los Angeles\, CA\, 90037\, United States
GEO:34.0159415;-118.2836283
X-APPLE-STRUCTURED-LOCATION;VALUE=URI;X-ADDRESS=California African American Museum 600 State Drive Los Angeles CA 90037 United States;X-APPLE-RADIUS=500;X-TITLE=600 State Drive:geo:-118.2836283,34.0159415
END:VEVENT
END:VCALENDAR