BEGIN:VCALENDAR
VERSION:2.0
PRODID:-//Exposition Park - ECPv6.15.20//NONSGML v1.0//EN
CALSCALE:GREGORIAN
METHOD:PUBLISH
X-WR-CALNAME:Exposition Park
X-ORIGINAL-URL:https://expositionpark.ca.gov
X-WR-CALDESC:Events for Exposition Park
REFRESH-INTERVAL;VALUE=DURATION:PT1H
X-Robots-Tag:noindex
X-PUBLISHED-TTL:PT1H
BEGIN:VTIMEZONE
TZID:America/Los_Angeles
BEGIN:DAYLIGHT
TZOFFSETFROM:-0800
TZOFFSETTO:-0700
TZNAME:PDT
DTSTART:20180311T100000
END:DAYLIGHT
BEGIN:STANDARD
TZOFFSETFROM:-0700
TZOFFSETTO:-0800
TZNAME:PST
DTSTART:20181104T090000
END:STANDARD
BEGIN:DAYLIGHT
TZOFFSETFROM:-0800
TZOFFSETTO:-0700
TZNAME:PDT
DTSTART:20190310T100000
END:DAYLIGHT
BEGIN:STANDARD
TZOFFSETFROM:-0700
TZOFFSETTO:-0800
TZNAME:PST
DTSTART:20191103T090000
END:STANDARD
BEGIN:DAYLIGHT
TZOFFSETFROM:-0800
TZOFFSETTO:-0700
TZNAME:PDT
DTSTART:20200308T100000
END:DAYLIGHT
BEGIN:STANDARD
TZOFFSETFROM:-0700
TZOFFSETTO:-0800
TZNAME:PST
DTSTART:20201101T090000
END:STANDARD
END:VTIMEZONE
BEGIN:VEVENT
DTSTART;TZID=America/Los_Angeles:20190525T080000
DTEND;TZID=America/Los_Angeles:20190525T170000
DTSTAMP:20260423T042126
CREATED:20190228T002252Z
LAST-MODIFIED:20190228T002252Z
UID:10051213-1558771200-1558803600@expositionpark.ca.gov
SUMMARY:CAAM Docent-Led Tours
DESCRIPTION:
URL:https://expositionpark.ca.gov/event/caam-docent-led-tours/2019-05-25/
LOCATION:California African American Museum\, 600 State Drive\, Los Angeles\, CA\, 90037\, United States
GEO:34.0159415;-118.2836283
X-APPLE-STRUCTURED-LOCATION;VALUE=URI;X-ADDRESS=California African American Museum 600 State Drive Los Angeles CA 90037 United States;X-APPLE-RADIUS=500;X-TITLE=600 State Drive:geo:-118.2836283,34.0159415
END:VEVENT
BEGIN:VEVENT
DTSTART;TZID=America/Los_Angeles:20190525T130000
DTEND;TZID=America/Los_Angeles:20190525T160000
DTSTAMP:20260423T042126
CREATED:20190326T231354Z
LAST-MODIFIED:20190326T231354Z
UID:10051247-1558789200-1558800000@expositionpark.ca.gov
SUMMARY:Expo Center- Picture Permit
DESCRIPTION:
URL:https://expositionpark.ca.gov/event/expo-center-picture-permit/
LOCATION:Rose Garden\, 701 State Drive\, Los Angeles\, CA\, 90037\, United States
ORGANIZER;CN="Exposition Center Special Events":MAILTO:Rap-expospecialevents@lacity.org
GEO:34.0165246;-118.2843696
X-APPLE-STRUCTURED-LOCATION;VALUE=URI;X-ADDRESS=Rose Garden 701 State Drive Los Angeles CA 90037 United States;X-APPLE-RADIUS=500;X-TITLE=701 State Drive:geo:-118.2843696,34.0165246
END:VEVENT
BEGIN:VEVENT
DTSTART;TZID=America/Los_Angeles:20190525T173000
DTEND;TZID=America/Los_Angeles:20190525T223000
DTSTAMP:20260423T042126
CREATED:20190318T162836Z
LAST-MODIFIED:20190517T192431Z
UID:10052718-1558805400-1558823400@expositionpark.ca.gov
SUMMARY:Street Food Cinema
DESCRIPTION:An outdoor movie open to the public with ticket purchase. \nFood trucks and live music. \nMovie scheduled:  GoodFellas \nEvent:  5:30pm to 10:30pm \nLoad In:  2:00 pm \nLoad Out:  11:30pm
URL:https://expositionpark.ca.gov/event/street-food-cinema-5/
LOCATION:Christmas Tree Lane\, 500 Exposition Park Dr\, Los Angeles\, CA\, 90037\, United States
END:VEVENT
BEGIN:VEVENT
DTSTART;TZID=America/Los_Angeles:20190525T190000
DTEND;TZID=America/Los_Angeles:20190525T230000
DTSTAMP:20260423T042126
CREATED:20190219T180915Z
LAST-MODIFIED:20190219T180915Z
UID:10052670-1558810800-1558825200@expositionpark.ca.gov
SUMMARY:High School Prom
DESCRIPTION:
URL:https://expositionpark.ca.gov/event/high-school-prom-9/
LOCATION:CSC – Samuel Oschin Pavilion
END:VEVENT
END:VCALENDAR