BEGIN:VCALENDAR
VERSION:2.0
PRODID:-//Exposition Park - ECPv6.15.20//NONSGML v1.0//EN
CALSCALE:GREGORIAN
METHOD:PUBLISH
X-ORIGINAL-URL:https://expositionpark.ca.gov
X-WR-CALDESC:Events for Exposition Park
REFRESH-INTERVAL;VALUE=DURATION:PT1H
X-Robots-Tag:noindex
X-PUBLISHED-TTL:PT1H
BEGIN:VTIMEZONE
TZID:America/Los_Angeles
BEGIN:DAYLIGHT
TZOFFSETFROM:-0800
TZOFFSETTO:-0700
TZNAME:PDT
DTSTART:20180311T100000
END:DAYLIGHT
BEGIN:STANDARD
TZOFFSETFROM:-0700
TZOFFSETTO:-0800
TZNAME:PST
DTSTART:20181104T090000
END:STANDARD
BEGIN:DAYLIGHT
TZOFFSETFROM:-0800
TZOFFSETTO:-0700
TZNAME:PDT
DTSTART:20190310T100000
END:DAYLIGHT
BEGIN:STANDARD
TZOFFSETFROM:-0700
TZOFFSETTO:-0800
TZNAME:PST
DTSTART:20191103T090000
END:STANDARD
BEGIN:DAYLIGHT
TZOFFSETFROM:-0800
TZOFFSETTO:-0700
TZNAME:PDT
DTSTART:20200308T100000
END:DAYLIGHT
BEGIN:STANDARD
TZOFFSETFROM:-0700
TZOFFSETTO:-0800
TZNAME:PST
DTSTART:20201101T090000
END:STANDARD
END:VTIMEZONE
BEGIN:VEVENT
DTSTART;TZID=America/Los_Angeles:20190704T110000
DTEND;TZID=America/Los_Angeles:20190704T220000
DTSTAMP:20260420T221635
CREATED:20190424T184209Z
LAST-MODIFIED:20190620T192853Z
UID:10051311-1562238000-1562277600@expositionpark.ca.gov
SUMMARY:4th of July Community Festival and Fireworks Show
DESCRIPTION:Councilman Curren Price Hosts One of SoCal’s\nHottest and Longest Fireworks Display\nFourth of July celebration in Expo Park. features live musical entertainment\, family-friendly activities\, array of foods and All-American fireworks show \nIn celebration of Independence Day\, Los Angeles City Councilman Curren Price will host a FREE\, all-day family festival\, culminating with a 20-minute fireworks show in Expo Park. The picnic-style event\, which gets underway at 11 a. m. on the South Lawn\, features games and activities for the entire family\, such as face painting\, a rock climbing wall and inflatable jumpers. The holiday celebration will include contests and prizes for attendees\, as well as a wide variety of culinary specialties and plenty of tasty treats available for purchase. \nEntertainment begins at noon with live performances kicking off at 2 p.m. with the sounds from one of Southern California’s most talented R&B singer-songwriters Candice Boyd. finalist from reality television competition “The Four: Battle for Stardom;• Selenamos the hottest Selena Quintanilla Tribute Band in Los Angeles; and West Coast Hip Hop Pioneer Rodney O\, plus other special quests! \nThe Fourth of July community festival in the NEW 9″” concludes with one of the most impressive and patriotic fireworks display in front of the Natural History Museum around 9 p.m. Each year the event draws tens of thousands of people. Below are some tips to help families make the most of this years’ experience: \n\nParking is LIMITED\, skip traffic and GO METRO. Take the Expo Line to Expo Park/USC Station. Exposition Park is right across the street. Plan your trip here: www.metro.net/riding/trip-planner/\nDon’t want to miss out on BBQ with the family? That’s OK! Small patio barbecue grills are allowed in the DESIGNATED GRILLING AREA ONLY. Rules will be strictly enforced.\nPack a blanket and sweater for the evening. The fireworks extravaganza will come to life at dusk so you’ll want to be cozy when the main attraction begins.
URL:https://expositionpark.ca.gov/event/4th-of-july-community-festival-and-fireworks-show-2/
LOCATION:South Lawn East & West
GEO:34.016103;-118.289398
END:VEVENT
BEGIN:VEVENT
DTSTART;TZID=America/Los_Angeles:20190704T143000
DTEND;TZID=America/Los_Angeles:20190704T173000
DTSTAMP:20260420T221635
CREATED:20170215T230251Z
LAST-MODIFIED:20170215T230251Z
UID:10045558-1562250600-1562261400@expositionpark.ca.gov
SUMMARY:USC Hybrid
DESCRIPTION:
URL:https://expositionpark.ca.gov/event/usc-hybrid/2019-07-04/
LOCATION:EXPO Center\, 3980 Bill Robertson Lane\, Los Angeles\, CA\, 90037\, United States
GEO:34.0121136;-118.2900829
X-APPLE-STRUCTURED-LOCATION;VALUE=URI;X-ADDRESS=EXPO Center 3980 Bill Robertson Lane Los Angeles CA 90037 United States;X-APPLE-RADIUS=500;X-TITLE=3980 Bill Robertson Lane:geo:-118.2900829,34.0121136
END:VEVENT
BEGIN:VEVENT
DTSTART;TZID=America/Los_Angeles:20190704T180000
DTEND;TZID=America/Los_Angeles:20190704T210000
DTSTAMP:20260420T221635
CREATED:20170214T222818Z
LAST-MODIFIED:20170214T222818Z
UID:10049960-1562263200-1562274000@expositionpark.ca.gov
SUMMARY:Vermont Sports Club
DESCRIPTION:
URL:https://expositionpark.ca.gov/event/vermont-sports-club-7/2019-07-04/
LOCATION:EXPO Center\, 3980 Bill Robertson Lane\, Los Angeles\, CA\, 90037\, United States
GEO:34.0121136;-118.2900829
X-APPLE-STRUCTURED-LOCATION;VALUE=URI;X-ADDRESS=EXPO Center 3980 Bill Robertson Lane Los Angeles CA 90037 United States;X-APPLE-RADIUS=500;X-TITLE=3980 Bill Robertson Lane:geo:-118.2900829,34.0121136
END:VEVENT
BEGIN:VEVENT
DTSTART;TZID=America/Los_Angeles:20190704T213000
DTEND;TZID=America/Los_Angeles:20190704T223000
DTSTAMP:20260420T221635
CREATED:20170215T225948Z
LAST-MODIFIED:20170215T225948Z
UID:10044696-1562275800-1562279400@expositionpark.ca.gov
SUMMARY:Tri-Color Soccer League
DESCRIPTION:
URL:https://expositionpark.ca.gov/event/tri-color-soccer-league-2/2019-07-04/
LOCATION:EXPO Center\, 3980 Bill Robertson Lane\, Los Angeles\, CA\, 90037\, United States
GEO:34.0121136;-118.2900829
X-APPLE-STRUCTURED-LOCATION;VALUE=URI;X-ADDRESS=EXPO Center 3980 Bill Robertson Lane Los Angeles CA 90037 United States;X-APPLE-RADIUS=500;X-TITLE=3980 Bill Robertson Lane:geo:-118.2900829,34.0121136
END:VEVENT
END:VCALENDAR