BEGIN:VCALENDAR
VERSION:2.0
PRODID:-//Exposition Park - ECPv6.15.20//NONSGML v1.0//EN
CALSCALE:GREGORIAN
METHOD:PUBLISH
X-ORIGINAL-URL:https://expositionpark.ca.gov
X-WR-CALDESC:Events for Exposition Park
REFRESH-INTERVAL;VALUE=DURATION:PT1H
X-Robots-Tag:noindex
X-PUBLISHED-TTL:PT1H
BEGIN:VTIMEZONE
TZID:America/Los_Angeles
BEGIN:DAYLIGHT
TZOFFSETFROM:-0800
TZOFFSETTO:-0700
TZNAME:PDT
DTSTART:20180311T100000
END:DAYLIGHT
BEGIN:STANDARD
TZOFFSETFROM:-0700
TZOFFSETTO:-0800
TZNAME:PST
DTSTART:20181104T090000
END:STANDARD
BEGIN:DAYLIGHT
TZOFFSETFROM:-0800
TZOFFSETTO:-0700
TZNAME:PDT
DTSTART:20190310T100000
END:DAYLIGHT
BEGIN:STANDARD
TZOFFSETFROM:-0700
TZOFFSETTO:-0800
TZNAME:PST
DTSTART:20191103T090000
END:STANDARD
BEGIN:DAYLIGHT
TZOFFSETFROM:-0800
TZOFFSETTO:-0700
TZNAME:PDT
DTSTART:20200308T100000
END:DAYLIGHT
BEGIN:STANDARD
TZOFFSETFROM:-0700
TZOFFSETTO:-0800
TZNAME:PST
DTSTART:20201101T090000
END:STANDARD
END:VTIMEZONE
BEGIN:VEVENT
DTSTART;VALUE=DATE:20190915
DTEND;VALUE=DATE:20190916
DTSTAMP:20260423T002535
CREATED:20190419T161344Z
LAST-MODIFIED:20190419T161344Z
UID:10052881-1568505600-1568591999@expositionpark.ca.gov
SUMMARY:New Orleans Saints vs Los Angeles Rams
DESCRIPTION:Kickoff 1:25 PM
URL:https://expositionpark.ca.gov/event/new-orleans-saints-vs-los-angeles-rams/
LOCATION:Los Angeles Memorial Coliseum\, 3911 S. Figueroa St.\, Los Angeles\, CA\, CA\, 90037\, United States
ORGANIZER;CN="Los Angeles Rams":MAILTO:info@therams.com
GEO:34.0128523;-118.2845395
X-APPLE-STRUCTURED-LOCATION;VALUE=URI;X-ADDRESS=Los Angeles Memorial Coliseum 3911 S. Figueroa St. Los Angeles CA CA 90037 United States;X-APPLE-RADIUS=500;X-TITLE=3911 S. Figueroa St.:geo:-118.2845395,34.0128523
END:VEVENT
BEGIN:VEVENT
DTSTART;TZID=America/Los_Angeles:20190915T080000
DTEND;TZID=America/Los_Angeles:20190915T170000
DTSTAMP:20260423T002535
CREATED:20170215T230650Z
LAST-MODIFIED:20170215T230650Z
UID:10047168-1568534400-1568566800@expositionpark.ca.gov
SUMMARY:Vermont Sports Club
DESCRIPTION:
URL:https://expositionpark.ca.gov/event/vermont-sports-club-9/2019-09-15/
LOCATION:EXPO Center\, 3980 Bill Robertson Lane\, Los Angeles\, CA\, 90037\, United States
GEO:34.0121136;-118.2900829
X-APPLE-STRUCTURED-LOCATION;VALUE=URI;X-ADDRESS=EXPO Center 3980 Bill Robertson Lane Los Angeles CA 90037 United States;X-APPLE-RADIUS=500;X-TITLE=3980 Bill Robertson Lane:geo:-118.2900829,34.0121136
END:VEVENT
BEGIN:VEVENT
DTSTART;TZID=America/Los_Angeles:20190915T080000
DTEND;TZID=America/Los_Angeles:20190915T235900
DTSTAMP:20260423T002535
CREATED:20190722T181627Z
LAST-MODIFIED:20190722T181627Z
UID:10053195-1568534400-1568591940@expositionpark.ca.gov
SUMMARY:LA Rams Bag Check-In Area
DESCRIPTION:Bag checks will be made available on a first-come-first-serve basis in South Lawn (near Gate 23) and Lot 4 parking lots (near Gate 4) at the Los Angeles Memorial Coliseum. Bag check opens four hours prior to kickoff and closes one hour after the game.
URL:https://expositionpark.ca.gov/event/la-rams-bag-check-in-area-2/
LOCATION:South Lawn East (North Half)\, 800 Exposition Park Drive\, Los Angeles\, CA\, 90037\, United States
END:VEVENT
BEGIN:VEVENT
DTSTART;TZID=America/Los_Angeles:20190915T093000
DTEND;TZID=America/Los_Angeles:20190915T133000
DTSTAMP:20260423T002535
CREATED:20190809T165432Z
LAST-MODIFIED:20190809T165730Z
UID:10053218-1568539800-1568554200@expositionpark.ca.gov
SUMMARY:LA Rams Fan Fest - Rams vs Saints
DESCRIPTION:Jump-start your game day experience with a pregame visit to the official LA Rams Fan Fest! Free public entry includes special live entertainment and music performances\, cheerleader and NFL Alumni appearances\, contests\, giveaways\, and games for the entire family! \n\n\nConveniently located on Christmas Tree Lane at the east end of the Coliseum\, Fan Fest gates open four hours prior to kickoff. With official team stores\, fan-favorite food and beverages available for purchase\, there’s no better way to gear up on game day. Also potential private rentable group tailgates on Expo Lawn through Tailgate Guys. \n 
URL:https://expositionpark.ca.gov/event/la-rams-fan-festival-rams-vs-saints/
LOCATION:Christmas Tree Lane East/West and Expo Lawn East/West\, CA\, United States
END:VEVENT
BEGIN:VEVENT
DTSTART;TZID=America/Los_Angeles:20190915T100000
DTEND;TZID=America/Los_Angeles:20190915T133000
DTSTAMP:20260423T002535
CREATED:20190711T212858Z
LAST-MODIFIED:20190711T212858Z
UID:10053159-1568541600-1568554200@expositionpark.ca.gov
SUMMARY:Private Corporate Meeting
DESCRIPTION:
URL:https://expositionpark.ca.gov/event/private-corporate-meeting-13/
LOCATION:WAB-Muses Room\, 700 Expo Park Drive\, LA\, CA\, 90037\, United States
GEO:34.0157877;-118.2862095
X-APPLE-STRUCTURED-LOCATION;VALUE=URI;X-ADDRESS=WAB-Muses Room 700 Expo Park Drive LA CA 90037 United States;X-APPLE-RADIUS=500;X-TITLE=700 Expo Park Drive:geo:-118.2862095,34.0157877
END:VEVENT
END:VCALENDAR