BEGIN:VCALENDAR
VERSION:2.0
PRODID:-//Exposition Park - ECPv6.15.20//NONSGML v1.0//EN
CALSCALE:GREGORIAN
METHOD:PUBLISH
X-WR-CALNAME:Exposition Park
X-ORIGINAL-URL:https://expositionpark.ca.gov
X-WR-CALDESC:Events for Exposition Park
REFRESH-INTERVAL;VALUE=DURATION:PT1H
X-Robots-Tag:noindex
X-PUBLISHED-TTL:PT1H
BEGIN:VTIMEZONE
TZID:America/Los_Angeles
BEGIN:DAYLIGHT
TZOFFSETFROM:-0800
TZOFFSETTO:-0700
TZNAME:PDT
DTSTART:20180311T100000
END:DAYLIGHT
BEGIN:STANDARD
TZOFFSETFROM:-0700
TZOFFSETTO:-0800
TZNAME:PST
DTSTART:20181104T090000
END:STANDARD
BEGIN:DAYLIGHT
TZOFFSETFROM:-0800
TZOFFSETTO:-0700
TZNAME:PDT
DTSTART:20190310T100000
END:DAYLIGHT
BEGIN:STANDARD
TZOFFSETFROM:-0700
TZOFFSETTO:-0800
TZNAME:PST
DTSTART:20191103T090000
END:STANDARD
BEGIN:DAYLIGHT
TZOFFSETFROM:-0800
TZOFFSETTO:-0700
TZNAME:PDT
DTSTART:20200308T100000
END:DAYLIGHT
BEGIN:STANDARD
TZOFFSETFROM:-0700
TZOFFSETTO:-0800
TZNAME:PST
DTSTART:20201101T090000
END:STANDARD
END:VTIMEZONE
BEGIN:VEVENT
DTSTART;TZID=America/Los_Angeles:20191012T090000
DTEND;TZID=America/Los_Angeles:20191012T133000
DTSTAMP:20260423T042112
CREATED:20190909T225532Z
LAST-MODIFIED:20190909T225532Z
UID:10053236-1570870800-1570887000@expositionpark.ca.gov
SUMMARY:Current LA Food
DESCRIPTION:
URL:https://expositionpark.ca.gov/event/current-la-food/
LOCATION:Rose Garden\, 701 State Drive\, Los Angeles\, CA\, 90037\, United States
ORGANIZER;CN="Exposition Center Special Events":MAILTO:Rap-expospecialevents@lacity.org
GEO:34.0165246;-118.2843696
X-APPLE-STRUCTURED-LOCATION;VALUE=URI;X-ADDRESS=Rose Garden 701 State Drive Los Angeles CA 90037 United States;X-APPLE-RADIUS=500;X-TITLE=701 State Drive:geo:-118.2843696,34.0165246
END:VEVENT
BEGIN:VEVENT
DTSTART;TZID=America/Los_Angeles:20191012T093000
DTEND;TZID=America/Los_Angeles:20191012T140000
DTSTAMP:20260423T042112
CREATED:20191007T192520Z
LAST-MODIFIED:20191007T192520Z
UID:10053265-1570872600-1570888800@expositionpark.ca.gov
SUMMARY:LAFC Member Appreciation Event
DESCRIPTION:
URL:https://expositionpark.ca.gov/event/lafc-member-appreciation-event/
LOCATION:Banc of California Stadium\, United States
GEO:37.09024;-95.712891
END:VEVENT
BEGIN:VEVENT
DTSTART;TZID=America/Los_Angeles:20191012T130000
DTEND;TZID=America/Los_Angeles:20191012T140000
DTSTAMP:20260423T042112
CREATED:20190712T171249Z
LAST-MODIFIED:20190715T172433Z
UID:10053163-1570885200-1570888800@expositionpark.ca.gov
SUMMARY:CAAM: Docent-Led Tours
DESCRIPTION:Saturday\, September 14\, 2019 | 1:00 – 2:00 p.m. \nSaturday\, October 12\, 2019 | 1:00 – 2:00 p.m. \nSaturday\, November 9\, 2019 | 1:00 – 2:00 p.m. \nSaturday\, December 14\, 2019 | 1:00 – 2:00 p.m. \nDocent-Led Tours
URL:https://expositionpark.ca.gov/event/caam-docent-led-tours-5/
LOCATION:California African American Museum\, 600 State Drive\, Los Angeles\, CA\, 90037\, United States
GEO:34.0159415;-118.2836283
X-APPLE-STRUCTURED-LOCATION;VALUE=URI;X-ADDRESS=California African American Museum 600 State Drive Los Angeles CA 90037 United States;X-APPLE-RADIUS=500;X-TITLE=600 State Drive:geo:-118.2836283,34.0159415
END:VEVENT
BEGIN:VEVENT
DTSTART;TZID=America/Los_Angeles:20191012T190000
DTEND;TZID=America/Los_Angeles:20191012T230000
DTSTAMP:20260423T042112
CREATED:20190207T174722Z
LAST-MODIFIED:20190207T174722Z
UID:10052640-1570906800-1570921200@expositionpark.ca.gov
SUMMARY:Social Event
DESCRIPTION:
URL:https://expositionpark.ca.gov/event/social-event-123/
LOCATION:CSC – Samuel Oschin Pavilion
END:VEVENT
END:VCALENDAR