BEGIN:VCALENDAR
VERSION:2.0
PRODID:-//Exposition Park - ECPv6.15.20//NONSGML v1.0//EN
CALSCALE:GREGORIAN
METHOD:PUBLISH
X-WR-CALNAME:Exposition Park
X-ORIGINAL-URL:https://expositionpark.ca.gov
X-WR-CALDESC:Events for Exposition Park
REFRESH-INTERVAL;VALUE=DURATION:PT1H
X-Robots-Tag:noindex
X-PUBLISHED-TTL:PT1H
BEGIN:VTIMEZONE
TZID:America/Los_Angeles
BEGIN:DAYLIGHT
TZOFFSETFROM:-0800
TZOFFSETTO:-0700
TZNAME:PDT
DTSTART:20180311T100000
END:DAYLIGHT
BEGIN:STANDARD
TZOFFSETFROM:-0700
TZOFFSETTO:-0800
TZNAME:PST
DTSTART:20181104T090000
END:STANDARD
BEGIN:DAYLIGHT
TZOFFSETFROM:-0800
TZOFFSETTO:-0700
TZNAME:PDT
DTSTART:20190310T100000
END:DAYLIGHT
BEGIN:STANDARD
TZOFFSETFROM:-0700
TZOFFSETTO:-0800
TZNAME:PST
DTSTART:20191103T090000
END:STANDARD
BEGIN:DAYLIGHT
TZOFFSETFROM:-0800
TZOFFSETTO:-0700
TZNAME:PDT
DTSTART:20200308T100000
END:DAYLIGHT
BEGIN:STANDARD
TZOFFSETFROM:-0700
TZOFFSETTO:-0800
TZNAME:PST
DTSTART:20201101T090000
END:STANDARD
END:VTIMEZONE
BEGIN:VEVENT
DTSTART;TZID=America/Los_Angeles:20191024T090000
DTEND;TZID=America/Los_Angeles:20191024T170000
DTSTAMP:20260421T170248
CREATED:20190909T225556Z
LAST-MODIFIED:20190909T225556Z
UID:10053240-1571907600-1571936400@expositionpark.ca.gov
SUMMARY:Private Corporate Meeting
DESCRIPTION:
URL:https://expositionpark.ca.gov/event/private-corporate-meeting-7/2019-10-24/
LOCATION:CSC-Loker Conference Center\, 700 Exposition Park Drive\, Los Angeles\, CA\, 90037\, United States
END:VEVENT
BEGIN:VEVENT
DTSTART;TZID=America/Los_Angeles:20191024T100000
DTEND;TZID=America/Los_Angeles:20191024T160000
DTSTAMP:20260421T170248
CREATED:20190522T212652Z
LAST-MODIFIED:20190522T212652Z
UID:10051345-1571911200-1571932800@expositionpark.ca.gov
SUMMARY:Private Corporate Meeting
DESCRIPTION:
URL:https://expositionpark.ca.gov/event/private-corporate-meeting-10/
LOCATION:WAB-Muses Room\, 700 Expo Park Drive\, LA\, CA\, 90037\, United States
GEO:34.0157877;-118.2862095
X-APPLE-STRUCTURED-LOCATION;VALUE=URI;X-ADDRESS=WAB-Muses Room 700 Expo Park Drive LA CA 90037 United States;X-APPLE-RADIUS=500;X-TITLE=700 Expo Park Drive:geo:-118.2862095,34.0157877
END:VEVENT
BEGIN:VEVENT
DTSTART;TZID=America/Los_Angeles:20191024T140000
DTEND;TZID=America/Los_Angeles:20191024T235900
DTSTAMP:20260421T170248
CREATED:20191018T184435Z
LAST-MODIFIED:20191018T185019Z
UID:10053283-1571925600-1571961540@expositionpark.ca.gov
SUMMARY:LAFC  - MLS Conference Semi-Finals - Road Closure
DESCRIPTION:S. Coliseum Drive will be closed for pedestrian safety \nThe MLS Conference Semi-Finals will be taking place at the Banc of California Stadium \nLAFC vs. (TBD) \nGame time:  7:30pm
URL:https://expositionpark.ca.gov/event/lafc-mls-conference-semi-finals-road-closure/
LOCATION:South Coliseum Drive
END:VEVENT
BEGIN:VEVENT
DTSTART;TZID=America/Los_Angeles:20191024T143000
DTEND;TZID=America/Los_Angeles:20191024T173000
DTSTAMP:20260421T170248
CREATED:20170215T230251Z
LAST-MODIFIED:20170215T230251Z
UID:10045590-1571927400-1571938200@expositionpark.ca.gov
SUMMARY:USC Hybrid
DESCRIPTION:
URL:https://expositionpark.ca.gov/event/usc-hybrid/2019-10-24/
LOCATION:EXPO Center\, 3980 Bill Robertson Lane\, Los Angeles\, CA\, 90037\, United States
GEO:34.0121136;-118.2900829
X-APPLE-STRUCTURED-LOCATION;VALUE=URI;X-ADDRESS=EXPO Center 3980 Bill Robertson Lane Los Angeles CA 90037 United States;X-APPLE-RADIUS=500;X-TITLE=3980 Bill Robertson Lane:geo:-118.2900829,34.0121136
END:VEVENT
BEGIN:VEVENT
DTSTART;TZID=America/Los_Angeles:20191024T180000
DTEND;TZID=America/Los_Angeles:20191024T210000
DTSTAMP:20260421T170248
CREATED:20170214T222818Z
LAST-MODIFIED:20170214T222818Z
UID:10049992-1571940000-1571950800@expositionpark.ca.gov
SUMMARY:Vermont Sports Club
DESCRIPTION:
URL:https://expositionpark.ca.gov/event/vermont-sports-club-7/2019-10-24/
LOCATION:EXPO Center\, 3980 Bill Robertson Lane\, Los Angeles\, CA\, 90037\, United States
GEO:34.0121136;-118.2900829
X-APPLE-STRUCTURED-LOCATION;VALUE=URI;X-ADDRESS=EXPO Center 3980 Bill Robertson Lane Los Angeles CA 90037 United States;X-APPLE-RADIUS=500;X-TITLE=3980 Bill Robertson Lane:geo:-118.2900829,34.0121136
END:VEVENT
BEGIN:VEVENT
DTSTART;TZID=America/Los_Angeles:20191024T183000
DTEND;TZID=America/Los_Angeles:20191024T213000
DTSTAMP:20260421T170248
CREATED:20190826T221023Z
LAST-MODIFIED:20190826T221023Z
UID:10053228-1571941800-1571952600@expositionpark.ca.gov
SUMMARY:Private Corporate Reception
DESCRIPTION:
URL:https://expositionpark.ca.gov/event/private-corporate-reception/
LOCATION:CSC – Samuel Oschin Pavilion
END:VEVENT
BEGIN:VEVENT
DTSTART;TZID=America/Los_Angeles:20191024T193000
DTEND;TZID=America/Los_Angeles:20191024T220000
DTSTAMP:20260421T170248
CREATED:20191015T155553Z
LAST-MODIFIED:20191015T155553Z
UID:10053281-1571945400-1571954400@expositionpark.ca.gov
SUMMARY:LAFC Playoff Game
DESCRIPTION:Conference Semifinals: Single-elimination game. Higher seed hosts. Winners advance to the Conference Finals.
URL:https://expositionpark.ca.gov/event/lafc-playoff-game/
LOCATION:Banc of California Stadium\, United States
GEO:37.09024;-95.712891
END:VEVENT
BEGIN:VEVENT
DTSTART;TZID=America/Los_Angeles:20191024T213000
DTEND;TZID=America/Los_Angeles:20191024T223000
DTSTAMP:20260421T170248
CREATED:20170215T225948Z
LAST-MODIFIED:20170215T225948Z
UID:10044728-1571952600-1571956200@expositionpark.ca.gov
SUMMARY:Tri-Color Soccer League
DESCRIPTION:
URL:https://expositionpark.ca.gov/event/tri-color-soccer-league-2/2019-10-24/
LOCATION:EXPO Center\, 3980 Bill Robertson Lane\, Los Angeles\, CA\, 90037\, United States
GEO:34.0121136;-118.2900829
X-APPLE-STRUCTURED-LOCATION;VALUE=URI;X-ADDRESS=EXPO Center 3980 Bill Robertson Lane Los Angeles CA 90037 United States;X-APPLE-RADIUS=500;X-TITLE=3980 Bill Robertson Lane:geo:-118.2900829,34.0121136
END:VEVENT
END:VCALENDAR