BEGIN:VCALENDAR
VERSION:2.0
PRODID:-//Exposition Park - ECPv6.15.20//NONSGML v1.0//EN
CALSCALE:GREGORIAN
METHOD:PUBLISH
X-WR-CALNAME:Exposition Park
X-ORIGINAL-URL:https://expositionpark.ca.gov
X-WR-CALDESC:Events for Exposition Park
REFRESH-INTERVAL;VALUE=DURATION:PT1H
X-Robots-Tag:noindex
X-PUBLISHED-TTL:PT1H
BEGIN:VTIMEZONE
TZID:America/Los_Angeles
BEGIN:DAYLIGHT
TZOFFSETFROM:-0800
TZOFFSETTO:-0700
TZNAME:PDT
DTSTART:20180311T100000
END:DAYLIGHT
BEGIN:STANDARD
TZOFFSETFROM:-0700
TZOFFSETTO:-0800
TZNAME:PST
DTSTART:20181104T090000
END:STANDARD
BEGIN:DAYLIGHT
TZOFFSETFROM:-0800
TZOFFSETTO:-0700
TZNAME:PDT
DTSTART:20190310T100000
END:DAYLIGHT
BEGIN:STANDARD
TZOFFSETFROM:-0700
TZOFFSETTO:-0800
TZNAME:PST
DTSTART:20191103T090000
END:STANDARD
BEGIN:DAYLIGHT
TZOFFSETFROM:-0800
TZOFFSETTO:-0700
TZNAME:PDT
DTSTART:20200308T100000
END:DAYLIGHT
BEGIN:STANDARD
TZOFFSETFROM:-0700
TZOFFSETTO:-0800
TZNAME:PST
DTSTART:20201101T090000
END:STANDARD
END:VTIMEZONE
BEGIN:VEVENT
DTSTART;TZID=America/Los_Angeles:20191025T080000
DTEND;TZID=America/Los_Angeles:20191025T170000
DTSTAMP:20260423T042115
CREATED:20170215T230439Z
LAST-MODIFIED:20170215T230439Z
UID:10046742-1571990400-1572022800@expositionpark.ca.gov
SUMMARY:San Pedro Soccer League
DESCRIPTION:
URL:https://expositionpark.ca.gov/event/san-pedro-soccer-league-3/2019-10-25/
LOCATION:EXPO Center\, 3980 Bill Robertson Lane\, Los Angeles\, CA\, 90037\, United States
GEO:34.0121136;-118.2900829
X-APPLE-STRUCTURED-LOCATION;VALUE=URI;X-ADDRESS=EXPO Center 3980 Bill Robertson Lane Los Angeles CA 90037 United States;X-APPLE-RADIUS=500;X-TITLE=3980 Bill Robertson Lane:geo:-118.2900829,34.0121136
END:VEVENT
BEGIN:VEVENT
DTSTART;TZID=America/Los_Angeles:20191025T090000
DTEND;TZID=America/Los_Angeles:20191025T170000
DTSTAMP:20260423T042115
CREATED:20190909T225556Z
LAST-MODIFIED:20190909T225556Z
UID:10053241-1571994000-1572022800@expositionpark.ca.gov
SUMMARY:Private Corporate Meeting
DESCRIPTION:
URL:https://expositionpark.ca.gov/event/private-corporate-meeting-7/2019-10-25/
LOCATION:CSC-Loker Conference Center\, 700 Exposition Park Drive\, Los Angeles\, CA\, 90037\, United States
END:VEVENT
BEGIN:VEVENT
DTSTART;TZID=America/Los_Angeles:20191025T140000
DTEND;TZID=America/Los_Angeles:20191025T210000
DTSTAMP:20260423T042115
CREATED:20191007T230711Z
LAST-MODIFIED:20191007T230711Z
UID:10053269-1572012000-1572037200@expositionpark.ca.gov
SUMMARY:CAAM Private Event " New Frontier Democratic Club"
DESCRIPTION:
URL:https://expositionpark.ca.gov/event/caam-private-event-new-frontier-democratic-club/
LOCATION:California African American Museum\, 600 State Drive\, Los Angeles\, CA\, 90037\, United States
GEO:34.0159415;-118.2836283
X-APPLE-STRUCTURED-LOCATION;VALUE=URI;X-ADDRESS=California African American Museum 600 State Drive Los Angeles CA 90037 United States;X-APPLE-RADIUS=500;X-TITLE=600 State Drive:geo:-118.2836283,34.0159415
END:VEVENT
BEGIN:VEVENT
DTSTART;TZID=America/Los_Angeles:20191025T180000
DTEND;TZID=America/Los_Angeles:20191025T210000
DTSTAMP:20260423T042115
CREATED:20170214T222616Z
LAST-MODIFIED:20170214T222616Z
UID:10048840-1572026400-1572037200@expositionpark.ca.gov
SUMMARY:EXPO Soccer Clinic
DESCRIPTION:
URL:https://expositionpark.ca.gov/event/expo-soccer-clinic/2019-10-25/
LOCATION:EXPO Center\, 3980 Bill Robertson Lane\, Los Angeles\, CA\, 90037\, United States
GEO:34.0121136;-118.2900829
X-APPLE-STRUCTURED-LOCATION;VALUE=URI;X-ADDRESS=EXPO Center 3980 Bill Robertson Lane Los Angeles CA 90037 United States;X-APPLE-RADIUS=500;X-TITLE=3980 Bill Robertson Lane:geo:-118.2900829,34.0121136
END:VEVENT
BEGIN:VEVENT
DTSTART;TZID=America/Los_Angeles:20191025T180000
DTEND;TZID=America/Los_Angeles:20191026T180000
DTSTAMP:20260423T042115
CREATED:20190927T214037Z
LAST-MODIFIED:20190927T214037Z
UID:10053261-1572026400-1572112800@expositionpark.ca.gov
SUMMARY:NHM Sleepover
DESCRIPTION:
URL:https://expositionpark.ca.gov/event/nhm-sleepover-5/
LOCATION:Natural History Museum of Los Angeles County\, 900 Exposition Blvd.\, Los Angeles\, CA\, 90007\, United States
ORGANIZER;CN="NHM":MAILTO:vvobis@nhm.org
GEO:34.0170769;-118.2886818
X-APPLE-STRUCTURED-LOCATION;VALUE=URI;X-ADDRESS=Natural History Museum of Los Angeles County 900 Exposition Blvd. Los Angeles CA 90007 United States;X-APPLE-RADIUS=500;X-TITLE=900 Exposition Blvd.:geo:-118.2886818,34.0170769
END:VEVENT
END:VCALENDAR