BEGIN:VCALENDAR
VERSION:2.0
PRODID:-//Exposition Park - ECPv6.15.20//NONSGML v1.0//EN
CALSCALE:GREGORIAN
METHOD:PUBLISH
X-ORIGINAL-URL:https://expositionpark.ca.gov
X-WR-CALDESC:Events for Exposition Park
REFRESH-INTERVAL;VALUE=DURATION:PT1H
X-Robots-Tag:noindex
X-PUBLISHED-TTL:PT1H
BEGIN:VTIMEZONE
TZID:America/Los_Angeles
BEGIN:DAYLIGHT
TZOFFSETFROM:-0800
TZOFFSETTO:-0700
TZNAME:PDT
DTSTART:20180311T100000
END:DAYLIGHT
BEGIN:STANDARD
TZOFFSETFROM:-0700
TZOFFSETTO:-0800
TZNAME:PST
DTSTART:20181104T090000
END:STANDARD
BEGIN:DAYLIGHT
TZOFFSETFROM:-0800
TZOFFSETTO:-0700
TZNAME:PDT
DTSTART:20190310T100000
END:DAYLIGHT
BEGIN:STANDARD
TZOFFSETFROM:-0700
TZOFFSETTO:-0800
TZNAME:PST
DTSTART:20191103T090000
END:STANDARD
BEGIN:DAYLIGHT
TZOFFSETFROM:-0800
TZOFFSETTO:-0700
TZNAME:PDT
DTSTART:20200308T100000
END:DAYLIGHT
BEGIN:STANDARD
TZOFFSETFROM:-0700
TZOFFSETTO:-0800
TZNAME:PST
DTSTART:20201101T090000
END:STANDARD
END:VTIMEZONE
BEGIN:VEVENT
DTSTART;VALUE=DATE:20191102
DTEND;VALUE=DATE:20191103
DTSTAMP:20260420T002021
CREATED:20181207T203407Z
LAST-MODIFIED:20181207T203407Z
UID:10051019-1572652800-1572739199@expositionpark.ca.gov
SUMMARY:Oregon vs USC
DESCRIPTION:The kickoff times for games will be announced during the season\, usually within a 12-day window but occasionally within a 6-day window. This is determined by the Pac-12 agreement with conference media partners ESPN and Fox. All games will be nationally televised by either the ESPN channels\, ABC\, FOX\, FOX Sports 1 or Pac-12 Networks.
URL:https://expositionpark.ca.gov/event/oregon-vs-usc/
LOCATION:Los Angeles Memorial Coliseum\, 3911 S. Figueroa St.\, Los Angeles\, CA\, CA\, 90037\, United States
GEO:34.0128523;-118.2845395
X-APPLE-STRUCTURED-LOCATION;VALUE=URI;X-ADDRESS=Los Angeles Memorial Coliseum 3911 S. Figueroa St. Los Angeles CA CA 90037 United States;X-APPLE-RADIUS=500;X-TITLE=3911 S. Figueroa St.:geo:-118.2845395,34.0128523
END:VEVENT
BEGIN:VEVENT
DTSTART;VALUE=DATE:20191102
DTEND;VALUE=DATE:20191103
DTSTAMP:20260420T002021
CREATED:20190618T231557Z
LAST-MODIFIED:20190618T231557Z
UID:10053086-1572652800-1572739199@expositionpark.ca.gov
SUMMARY:USC Sports Properties/USC Athletics
DESCRIPTION:FanFest/Tailgate – CTL East & West \nUSC vs. Oregon
URL:https://expositionpark.ca.gov/event/usc-sports-properties-usc-athletics-5/
LOCATION:Christmas Tree Lane East & West
END:VEVENT
BEGIN:VEVENT
DTSTART;VALUE=DATE:20191102
DTEND;VALUE=DATE:20191103
DTSTAMP:20260420T002021
CREATED:20190716T184820Z
LAST-MODIFIED:20190716T184820Z
UID:10051464-1572652800-1572739199@expositionpark.ca.gov
SUMMARY:USC Athletics Tailgate
DESCRIPTION:Pre-game USC Athletics tailgate party\nUSC vs Oregon\nGame scheduled: TBD
URL:https://expositionpark.ca.gov/event/usc-athletics-tailgate-10/
LOCATION:South Lawn East (east half)\, CA\, United States
END:VEVENT
BEGIN:VEVENT
DTSTART;VALUE=DATE:20191102
DTEND;VALUE=DATE:20191103
DTSTAMP:20260420T002021
CREATED:20190722T172353Z
LAST-MODIFIED:20190722T172353Z
UID:10053192-1572652800-1572739199@expositionpark.ca.gov
SUMMARY:TKE Tailgate
DESCRIPTION:USC vs. Oregon \nGame time:  TBA\nEvent Time:  TBA
URL:https://expositionpark.ca.gov/event/tke-tailgate-7/
LOCATION:Expo Lawn East (West Half)\, CA\, United States
GEO:36.778261;-119.4179324
END:VEVENT
END:VCALENDAR