BEGIN:VCALENDAR
VERSION:2.0
PRODID:-//Exposition Park - ECPv6.15.20//NONSGML v1.0//EN
CALSCALE:GREGORIAN
METHOD:PUBLISH
X-WR-CALNAME:Exposition Park
X-ORIGINAL-URL:https://expositionpark.ca.gov
X-WR-CALDESC:Events for Exposition Park
REFRESH-INTERVAL;VALUE=DURATION:PT1H
X-Robots-Tag:noindex
X-PUBLISHED-TTL:PT1H
BEGIN:VTIMEZONE
TZID:America/Los_Angeles
BEGIN:DAYLIGHT
TZOFFSETFROM:-0800
TZOFFSETTO:-0700
TZNAME:PDT
DTSTART:20180311T100000
END:DAYLIGHT
BEGIN:STANDARD
TZOFFSETFROM:-0700
TZOFFSETTO:-0800
TZNAME:PST
DTSTART:20181104T090000
END:STANDARD
BEGIN:DAYLIGHT
TZOFFSETFROM:-0800
TZOFFSETTO:-0700
TZNAME:PDT
DTSTART:20190310T100000
END:DAYLIGHT
BEGIN:STANDARD
TZOFFSETFROM:-0700
TZOFFSETTO:-0800
TZNAME:PST
DTSTART:20191103T090000
END:STANDARD
BEGIN:DAYLIGHT
TZOFFSETFROM:-0800
TZOFFSETTO:-0700
TZNAME:PDT
DTSTART:20200308T100000
END:DAYLIGHT
BEGIN:STANDARD
TZOFFSETFROM:-0700
TZOFFSETTO:-0800
TZNAME:PST
DTSTART:20201101T090000
END:STANDARD
END:VTIMEZONE
BEGIN:VEVENT
DTSTART;TZID=America/Los_Angeles:20191113T100000
DTEND;TZID=America/Los_Angeles:20191115T110000
DTSTAMP:20260421T043010
CREATED:20191107T231205Z
LAST-MODIFIED:20191107T231205Z
UID:10051572-1573639200-1573815600@expositionpark.ca.gov
SUMMARY:ABC Studios
DESCRIPTION:Basecamp and Crew Parking \nLot 6 East and VPS Level C and Level D
URL:https://expositionpark.ca.gov/event/abc-studios-17/
LOCATION:CA\, United States
END:VEVENT
BEGIN:VEVENT
DTSTART;TZID=America/Los_Angeles:20191115T080000
DTEND;TZID=America/Los_Angeles:20191115T170000
DTSTAMP:20260421T043010
CREATED:20170215T230439Z
LAST-MODIFIED:20170215T230439Z
UID:10046745-1573804800-1573837200@expositionpark.ca.gov
SUMMARY:San Pedro Soccer League
DESCRIPTION:
URL:https://expositionpark.ca.gov/event/san-pedro-soccer-league-3/2019-11-15/
LOCATION:EXPO Center\, 3980 Bill Robertson Lane\, Los Angeles\, CA\, 90037\, United States
GEO:34.0121136;-118.2900829
X-APPLE-STRUCTURED-LOCATION;VALUE=URI;X-ADDRESS=EXPO Center 3980 Bill Robertson Lane Los Angeles CA 90037 United States;X-APPLE-RADIUS=500;X-TITLE=3980 Bill Robertson Lane:geo:-118.2900829,34.0121136
END:VEVENT
BEGIN:VEVENT
DTSTART;TZID=America/Los_Angeles:20191115T130000
DTEND;TZID=America/Los_Angeles:20191115T140000
DTSTAMP:20260421T043010
CREATED:20190715T173111Z
LAST-MODIFIED:20190715T173111Z
UID:10053179-1573822800-1573826400@expositionpark.ca.gov
SUMMARY:CAAM: Curatorial Walkthrough
DESCRIPTION:Friday\, November 15\, 2019 | 1:00 – 2:00 p.m. \nCuratorial Walkthrough: Making Mammy: A Caricature of Black Womanhood\, 1840–1940
URL:https://expositionpark.ca.gov/event/caam-curatorial-walkthrough-7/
LOCATION:California African American Museum\, 600 State Drive\, Los Angeles\, CA\, 90037\, United States
GEO:34.0159415;-118.2836283
X-APPLE-STRUCTURED-LOCATION;VALUE=URI;X-ADDRESS=California African American Museum 600 State Drive Los Angeles CA 90037 United States;X-APPLE-RADIUS=500;X-TITLE=600 State Drive:geo:-118.2836283,34.0159415
END:VEVENT
BEGIN:VEVENT
DTSTART;TZID=America/Los_Angeles:20191115T140000
DTEND;TZID=America/Los_Angeles:20191115T230000
DTSTAMP:20260421T043010
CREATED:20191106T193211Z
LAST-MODIFIED:20191106T193211Z
UID:10051566-1573826400-1573858800@expositionpark.ca.gov
SUMMARY:CAAM Private Event " College Resource"
DESCRIPTION:
URL:https://expositionpark.ca.gov/event/caam-private-event-college-resource/
LOCATION:California African American Museum\, 600 State Drive\, Los Angeles\, CA\, 90037\, United States
GEO:34.0159415;-118.2836283
X-APPLE-STRUCTURED-LOCATION;VALUE=URI;X-ADDRESS=California African American Museum 600 State Drive Los Angeles CA 90037 United States;X-APPLE-RADIUS=500;X-TITLE=600 State Drive:geo:-118.2836283,34.0159415
END:VEVENT
BEGIN:VEVENT
DTSTART;TZID=America/Los_Angeles:20191115T160000
DTEND;TZID=America/Los_Angeles:20191115T230000
DTSTAMP:20260421T043010
CREATED:20190625T211845Z
LAST-MODIFIED:20190919T193542Z
UID:10053119-1573833600-1573858800@expositionpark.ca.gov
SUMMARY:Adult Swim Festival
DESCRIPTION:Two-day music + comedy festival at Banc of California Stadium.
URL:https://expositionpark.ca.gov/event/adult-swim-festival/2019-11-15/
LOCATION:Banc of California Stadium\, 3939 S. Figueroa Street\, Los Angeles\, CA\, 90037\, United States
ORGANIZER;CN="Brian Smith":MAILTO:brian.smith@lafc.com
END:VEVENT
BEGIN:VEVENT
DTSTART;TZID=America/Los_Angeles:20191115T180000
DTEND;TZID=America/Los_Angeles:20191115T210000
DTSTAMP:20260421T043010
CREATED:20170214T222616Z
LAST-MODIFIED:20170214T222616Z
UID:10048849-1573840800-1573851600@expositionpark.ca.gov
SUMMARY:EXPO Soccer Clinic
DESCRIPTION:
URL:https://expositionpark.ca.gov/event/expo-soccer-clinic/2019-11-15/
LOCATION:EXPO Center\, 3980 Bill Robertson Lane\, Los Angeles\, CA\, 90037\, United States
GEO:34.0121136;-118.2900829
X-APPLE-STRUCTURED-LOCATION;VALUE=URI;X-ADDRESS=EXPO Center 3980 Bill Robertson Lane Los Angeles CA 90037 United States;X-APPLE-RADIUS=500;X-TITLE=3980 Bill Robertson Lane:geo:-118.2900829,34.0121136
END:VEVENT
END:VCALENDAR