BEGIN:VCALENDAR
VERSION:2.0
PRODID:-//Exposition Park - ECPv6.15.20//NONSGML v1.0//EN
CALSCALE:GREGORIAN
METHOD:PUBLISH
X-ORIGINAL-URL:https://expositionpark.ca.gov
X-WR-CALDESC:Events for Exposition Park
REFRESH-INTERVAL;VALUE=DURATION:PT1H
X-Robots-Tag:noindex
X-PUBLISHED-TTL:PT1H
BEGIN:VTIMEZONE
TZID:America/Los_Angeles
BEGIN:DAYLIGHT
TZOFFSETFROM:-0800
TZOFFSETTO:-0700
TZNAME:PDT
DTSTART:20180311T100000
END:DAYLIGHT
BEGIN:STANDARD
TZOFFSETFROM:-0700
TZOFFSETTO:-0800
TZNAME:PST
DTSTART:20181104T090000
END:STANDARD
BEGIN:DAYLIGHT
TZOFFSETFROM:-0800
TZOFFSETTO:-0700
TZNAME:PDT
DTSTART:20190310T100000
END:DAYLIGHT
BEGIN:STANDARD
TZOFFSETFROM:-0700
TZOFFSETTO:-0800
TZNAME:PST
DTSTART:20191103T090000
END:STANDARD
BEGIN:DAYLIGHT
TZOFFSETFROM:-0800
TZOFFSETTO:-0700
TZNAME:PDT
DTSTART:20200308T100000
END:DAYLIGHT
BEGIN:STANDARD
TZOFFSETFROM:-0700
TZOFFSETTO:-0800
TZNAME:PST
DTSTART:20201101T090000
END:STANDARD
END:VTIMEZONE
BEGIN:VEVENT
DTSTART;TZID=America/Los_Angeles:20191116T070000
DTEND;TZID=America/Los_Angeles:20191116T140000
DTSTAMP:20260421T234826
CREATED:20191112T184127Z
LAST-MODIFIED:20191112T184127Z
UID:10053286-1573887600-1573912800@expositionpark.ca.gov
SUMMARY:Team Swim La Swim Meet
DESCRIPTION:City of Los Angeles Novice Swim Meet
URL:https://expositionpark.ca.gov/event/team-swim-la-swim-meet/
LOCATION:EXPO Center / John C. Argue Swim Stadium\, CA\, United States
ORGANIZER;CN="Wendy Escobar":MAILTO:wendy.escobar@lacity.org
END:VEVENT
BEGIN:VEVENT
DTSTART;TZID=America/Los_Angeles:20191116T080000
DTEND;TZID=America/Los_Angeles:20191116T170000
DTSTAMP:20260421T234826
CREATED:20191007T231008Z
LAST-MODIFIED:20191007T231008Z
UID:10053275-1573891200-1573923600@expositionpark.ca.gov
SUMMARY:CAAM Private Event "Herman Institute of American History"
DESCRIPTION:
URL:https://expositionpark.ca.gov/event/caam-private-event-herman-institute-of-american-history/
LOCATION:California African American Museum\, 600 State Drive\, Los Angeles\, CA\, 90037\, United States
GEO:34.0159415;-118.2836283
X-APPLE-STRUCTURED-LOCATION;VALUE=URI;X-ADDRESS=California African American Museum 600 State Drive Los Angeles CA 90037 United States;X-APPLE-RADIUS=500;X-TITLE=600 State Drive:geo:-118.2836283,34.0159415
END:VEVENT
BEGIN:VEVENT
DTSTART;TZID=America/Los_Angeles:20191116T130000
DTEND;TZID=America/Los_Angeles:20191116T230000
DTSTAMP:20260421T234826
CREATED:20190625T211845Z
LAST-MODIFIED:20190919T193542Z
UID:10053120-1573909200-1573945200@expositionpark.ca.gov
SUMMARY:Adult Swim Festival
DESCRIPTION:Two-day music + comedy festival at Banc of California Stadium.
URL:https://expositionpark.ca.gov/event/adult-swim-festival/2019-11-16/
LOCATION:Banc of California Stadium\, 3939 S. Figueroa Street\, Los Angeles\, CA\, 90037\, United States
ORGANIZER;CN="Brian Smith":MAILTO:brian.smith@lafc.com
END:VEVENT
BEGIN:VEVENT
DTSTART;TZID=America/Los_Angeles:20191116T160000
DTEND;TZID=America/Los_Angeles:20191117T000000
DTSTAMP:20260421T234826
CREATED:20190419T162329Z
LAST-MODIFIED:20190419T162329Z
UID:10051301-1573920000-1573948800@expositionpark.ca.gov
SUMMARY:Private Event
DESCRIPTION:
URL:https://expositionpark.ca.gov/event/private-event-148/
LOCATION:Natural History Museum of Los Angeles County\, 900 Exposition Blvd.\, Los Angeles\, CA\, 90007\, United States
ORGANIZER;CN="NHM":MAILTO:vvobis@nhm.org
GEO:34.0170769;-118.2886818
X-APPLE-STRUCTURED-LOCATION;VALUE=URI;X-ADDRESS=Natural History Museum of Los Angeles County 900 Exposition Blvd. Los Angeles CA 90007 United States;X-APPLE-RADIUS=500;X-TITLE=900 Exposition Blvd.:geo:-118.2886818,34.0170769
END:VEVENT
BEGIN:VEVENT
DTSTART;TZID=America/Los_Angeles:20191116T193000
DTEND;TZID=America/Los_Angeles:20191116T235900
DTSTAMP:20260421T234826
CREATED:20190212T205118Z
LAST-MODIFIED:20190212T205118Z
UID:10051186-1573932600-1573948740@expositionpark.ca.gov
SUMMARY:Private Social Event
DESCRIPTION:
URL:https://expositionpark.ca.gov/event/private-social-event-2/
LOCATION:CSC – Samuel Oschin Pavilion
END:VEVENT
END:VCALENDAR