BEGIN:VCALENDAR
VERSION:2.0
PRODID:-//Exposition Park - ECPv6.15.20//NONSGML v1.0//EN
CALSCALE:GREGORIAN
METHOD:PUBLISH
X-ORIGINAL-URL:https://expositionpark.ca.gov
X-WR-CALDESC:Events for Exposition Park
REFRESH-INTERVAL;VALUE=DURATION:PT1H
X-Robots-Tag:noindex
X-PUBLISHED-TTL:PT1H
BEGIN:VTIMEZONE
TZID:America/Los_Angeles
BEGIN:DAYLIGHT
TZOFFSETFROM:-0800
TZOFFSETTO:-0700
TZNAME:PDT
DTSTART:20180311T100000
END:DAYLIGHT
BEGIN:STANDARD
TZOFFSETFROM:-0700
TZOFFSETTO:-0800
TZNAME:PST
DTSTART:20181104T090000
END:STANDARD
BEGIN:DAYLIGHT
TZOFFSETFROM:-0800
TZOFFSETTO:-0700
TZNAME:PDT
DTSTART:20190310T100000
END:DAYLIGHT
BEGIN:STANDARD
TZOFFSETFROM:-0700
TZOFFSETTO:-0800
TZNAME:PST
DTSTART:20191103T090000
END:STANDARD
BEGIN:DAYLIGHT
TZOFFSETFROM:-0800
TZOFFSETTO:-0700
TZNAME:PDT
DTSTART:20200308T100000
END:DAYLIGHT
BEGIN:STANDARD
TZOFFSETFROM:-0700
TZOFFSETTO:-0800
TZNAME:PST
DTSTART:20201101T090000
END:STANDARD
END:VTIMEZONE
BEGIN:VEVENT
DTSTART;TZID=America/Los_Angeles:20191120T080000
DTEND;TZID=America/Los_Angeles:20191124T170000
DTSTAMP:20260421T153525
CREATED:20191113T162005Z
LAST-MODIFIED:20191125T201442Z
UID:10053287-1574236800-1574614800@expositionpark.ca.gov
SUMMARY:USC Sports Properties
DESCRIPTION:Set-Up for Nov 23\, 2019 – USC vs. UCLA \nHeisman House
URL:https://expositionpark.ca.gov/event/usc-sports-properties/
LOCATION:South Lawn East (East Half)\, CA\, United States
END:VEVENT
BEGIN:VEVENT
DTSTART;TZID=America/Los_Angeles:20191124T080000
DTEND;TZID=America/Los_Angeles:20191124T170000
DTSTAMP:20260421T153525
CREATED:20170215T230650Z
LAST-MODIFIED:20170215T230650Z
UID:10047178-1574582400-1574614800@expositionpark.ca.gov
SUMMARY:Vermont Sports Club
DESCRIPTION:
URL:https://expositionpark.ca.gov/event/vermont-sports-club-9/2019-11-24/
LOCATION:EXPO Center\, 3980 Bill Robertson Lane\, Los Angeles\, CA\, 90037\, United States
GEO:34.0121136;-118.2900829
X-APPLE-STRUCTURED-LOCATION;VALUE=URI;X-ADDRESS=EXPO Center 3980 Bill Robertson Lane Los Angeles CA 90037 United States;X-APPLE-RADIUS=500;X-TITLE=3980 Bill Robertson Lane:geo:-118.2900829,34.0121136
END:VEVENT
BEGIN:VEVENT
DTSTART;TZID=America/Los_Angeles:20191124T130000
DTEND;TZID=America/Los_Angeles:20191124T150000
DTSTAMP:20260421T153525
CREATED:20190715T173151Z
LAST-MODIFIED:20190715T173151Z
UID:10053181-1574600400-1574607600@expositionpark.ca.gov
SUMMARY:CAAM: Family Workshop
DESCRIPTION:Sunday\, November 24\, 2019 | 1:00 – 3:00 p.m. \nI Live Here
URL:https://expositionpark.ca.gov/event/caam-family-workshop-15/
LOCATION:California African American Museum\, 600 State Drive\, Los Angeles\, CA\, 90037\, United States
GEO:34.0159415;-118.2836283
X-APPLE-STRUCTURED-LOCATION;VALUE=URI;X-ADDRESS=California African American Museum 600 State Drive Los Angeles CA 90037 United States;X-APPLE-RADIUS=500;X-TITLE=600 State Drive:geo:-118.2836283,34.0159415
END:VEVENT
BEGIN:VEVENT
DTSTART;TZID=America/Los_Angeles:20191124T153000
DTEND;TZID=America/Los_Angeles:20191124T183000
DTSTAMP:20260421T153525
CREATED:20191115T174853Z
LAST-MODIFIED:20191115T174853Z
UID:10053292-1574609400-1574620200@expositionpark.ca.gov
SUMMARY:Private Event
DESCRIPTION:Parking in Lot 4. Enter at Gate 7.
URL:https://expositionpark.ca.gov/event/private-event-200/
LOCATION:Los Angeles Memorial Coliseum\, 3911 S. Figueroa St.\, Los Angeles\, CA\, CA\, 90037\, United States
GEO:34.0128523;-118.2845395
X-APPLE-STRUCTURED-LOCATION;VALUE=URI;X-ADDRESS=Los Angeles Memorial Coliseum 3911 S. Figueroa St. Los Angeles CA CA 90037 United States;X-APPLE-RADIUS=500;X-TITLE=3911 S. Figueroa St.:geo:-118.2845395,34.0128523
END:VEVENT
END:VCALENDAR