BEGIN:VCALENDAR
VERSION:2.0
PRODID:-//Exposition Park - ECPv6.15.20//NONSGML v1.0//EN
CALSCALE:GREGORIAN
METHOD:PUBLISH
X-ORIGINAL-URL:https://expositionpark.ca.gov
X-WR-CALDESC:Events for Exposition Park
REFRESH-INTERVAL;VALUE=DURATION:PT1H
X-Robots-Tag:noindex
X-PUBLISHED-TTL:PT1H
BEGIN:VTIMEZONE
TZID:America/Los_Angeles
BEGIN:DAYLIGHT
TZOFFSETFROM:-0800
TZOFFSETTO:-0700
TZNAME:PDT
DTSTART:20180311T100000
END:DAYLIGHT
BEGIN:STANDARD
TZOFFSETFROM:-0700
TZOFFSETTO:-0800
TZNAME:PST
DTSTART:20181104T090000
END:STANDARD
BEGIN:DAYLIGHT
TZOFFSETFROM:-0800
TZOFFSETTO:-0700
TZNAME:PDT
DTSTART:20190310T100000
END:DAYLIGHT
BEGIN:STANDARD
TZOFFSETFROM:-0700
TZOFFSETTO:-0800
TZNAME:PST
DTSTART:20191103T090000
END:STANDARD
BEGIN:DAYLIGHT
TZOFFSETFROM:-0800
TZOFFSETTO:-0700
TZNAME:PDT
DTSTART:20200308T100000
END:DAYLIGHT
BEGIN:STANDARD
TZOFFSETFROM:-0700
TZOFFSETTO:-0800
TZNAME:PST
DTSTART:20201101T090000
END:STANDARD
END:VTIMEZONE
BEGIN:VEVENT
DTSTART;VALUE=DATE:20191125
DTEND;VALUE=DATE:20191126
DTSTAMP:20260421T122226
CREATED:20190419T161738Z
LAST-MODIFIED:20190419T161738Z
UID:10052892-1574640000-1574726399@expositionpark.ca.gov
SUMMARY:Baltimore Ravens vs Los Angeles Rams
DESCRIPTION:Kickoff 5:15 PM
URL:https://expositionpark.ca.gov/event/baltimore-ravens-vs-los-angeles-rams/
LOCATION:Los Angeles Memorial Coliseum\, 3911 S. Figueroa St.\, Los Angeles\, CA\, CA\, 90037\, United States
ORGANIZER;CN="Los Angeles Rams":MAILTO:info@therams.com
GEO:34.0128523;-118.2845395
X-APPLE-STRUCTURED-LOCATION;VALUE=URI;X-ADDRESS=Los Angeles Memorial Coliseum 3911 S. Figueroa St. Los Angeles CA CA 90037 United States;X-APPLE-RADIUS=500;X-TITLE=3911 S. Figueroa St.:geo:-118.2845395,34.0128523
END:VEVENT
BEGIN:VEVENT
DTSTART;TZID=America/Los_Angeles:20191125T080000
DTEND;TZID=America/Los_Angeles:20191125T235900
DTSTAMP:20260421T122226
CREATED:20190722T185247Z
LAST-MODIFIED:20190722T185247Z
UID:10053199-1574668800-1574726340@expositionpark.ca.gov
SUMMARY:LA Rams Bag Check-In Area
DESCRIPTION:Bag checks will be made available on a first-come-first-serve basis in South Lawn (near Gate 23) and Lot 4 parking lots (near Gate 4) at the Los Angeles Memorial Coliseum. Bag check opens four hours prior to kickoff and closes one hour after the game.
URL:https://expositionpark.ca.gov/event/la-rams-bag-check-in-area-6/
LOCATION:South Lawn East (North Half)\, 800 Exposition Park Drive\, Los Angeles\, CA\, 90037\, United States
END:VEVENT
BEGIN:VEVENT
DTSTART;TZID=America/Los_Angeles:20191125T120000
DTEND;TZID=America/Los_Angeles:20191125T170000
DTSTAMP:20260421T122226
CREATED:20191120T175506Z
LAST-MODIFIED:20191120T175506Z
UID:10053297-1574683200-1574701200@expositionpark.ca.gov
SUMMARY:Seven Hills Global Tailgate
DESCRIPTION:Private tailgate experience.
URL:https://expositionpark.ca.gov/event/seven-hills-global-tailgate-2/
LOCATION:Plaza A\, CA\, United States
END:VEVENT
BEGIN:VEVENT
DTSTART;TZID=America/Los_Angeles:20191125T130000
DTEND;TZID=America/Los_Angeles:20191125T170000
DTSTAMP:20260421T122226
CREATED:20190809T170233Z
LAST-MODIFIED:20190809T170233Z
UID:10051495-1574686800-1574701200@expositionpark.ca.gov
SUMMARY:LA Rams Fan Fest - Rams vs Ravens
DESCRIPTION:Jump-start your game day experience with a pregame visit to the official LA Rams Fan Fest! Free public entry includes special live entertainment and music performances\, cheerleader and NFL Alumni appearances\, contests\, giveaways\, and games for the entire family! \n\n\nConveniently located on Christmas Tree Lane at the east end of the Coliseum\, Fan Fest gates open four hours prior to kickoff. With official team stores\, fan-favorite food and beverages available for purchase\, there’s no better way to gear up on game day. Also potential private rentable group tailgates on Expo Lawn through Tailgate Guys.
URL:https://expositionpark.ca.gov/event/la-rams-fan-fest-rams-vs-ravens/
LOCATION:Christmas Tree Lane East/West and Expo Lawn East/West\, CA\, United States
END:VEVENT
BEGIN:VEVENT
DTSTART;TZID=America/Los_Angeles:20191125T180000
DTEND;TZID=America/Los_Angeles:20191125T210000
DTSTAMP:20260421T122226
CREATED:20170214T222616Z
LAST-MODIFIED:20170214T222616Z
UID:10048853-1574704800-1574715600@expositionpark.ca.gov
SUMMARY:EXPO Soccer Clinic
DESCRIPTION:
URL:https://expositionpark.ca.gov/event/expo-soccer-clinic/2019-11-25/
LOCATION:EXPO Center\, 3980 Bill Robertson Lane\, Los Angeles\, CA\, 90037\, United States
GEO:34.0121136;-118.2900829
X-APPLE-STRUCTURED-LOCATION;VALUE=URI;X-ADDRESS=EXPO Center 3980 Bill Robertson Lane Los Angeles CA 90037 United States;X-APPLE-RADIUS=500;X-TITLE=3980 Bill Robertson Lane:geo:-118.2900829,34.0121136
END:VEVENT
BEGIN:VEVENT
DTSTART;TZID=America/Los_Angeles:20191125T211500
DTEND;TZID=America/Los_Angeles:20191125T221500
DTSTAMP:20260421T122226
CREATED:20170214T222531Z
LAST-MODIFIED:20170214T222531Z
UID:10048130-1574716500-1574720100@expositionpark.ca.gov
SUMMARY:Tri-Color Soccer League
DESCRIPTION:
URL:https://expositionpark.ca.gov/event/tri-color-soccer-league/2019-11-25/
LOCATION:EXPO Center\, 3980 Bill Robertson Lane\, Los Angeles\, CA\, 90037\, United States
GEO:34.0121136;-118.2900829
X-APPLE-STRUCTURED-LOCATION;VALUE=URI;X-ADDRESS=EXPO Center 3980 Bill Robertson Lane Los Angeles CA 90037 United States;X-APPLE-RADIUS=500;X-TITLE=3980 Bill Robertson Lane:geo:-118.2900829,34.0121136
END:VEVENT
END:VCALENDAR