BEGIN:VCALENDAR
VERSION:2.0
PRODID:-//Exposition Park - ECPv6.15.20//NONSGML v1.0//EN
CALSCALE:GREGORIAN
METHOD:PUBLISH
X-WR-CALNAME:Exposition Park
X-ORIGINAL-URL:https://expositionpark.ca.gov
X-WR-CALDESC:Events for Exposition Park
REFRESH-INTERVAL;VALUE=DURATION:PT1H
X-Robots-Tag:noindex
X-PUBLISHED-TTL:PT1H
BEGIN:VTIMEZONE
TZID:America/Los_Angeles
BEGIN:DAYLIGHT
TZOFFSETFROM:-0800
TZOFFSETTO:-0700
TZNAME:PDT
DTSTART:20180311T100000
END:DAYLIGHT
BEGIN:STANDARD
TZOFFSETFROM:-0700
TZOFFSETTO:-0800
TZNAME:PST
DTSTART:20181104T090000
END:STANDARD
BEGIN:DAYLIGHT
TZOFFSETFROM:-0800
TZOFFSETTO:-0700
TZNAME:PDT
DTSTART:20190310T100000
END:DAYLIGHT
BEGIN:STANDARD
TZOFFSETFROM:-0700
TZOFFSETTO:-0800
TZNAME:PST
DTSTART:20191103T090000
END:STANDARD
BEGIN:DAYLIGHT
TZOFFSETFROM:-0800
TZOFFSETTO:-0700
TZNAME:PDT
DTSTART:20200308T100000
END:DAYLIGHT
BEGIN:STANDARD
TZOFFSETFROM:-0700
TZOFFSETTO:-0800
TZNAME:PST
DTSTART:20201101T090000
END:STANDARD
END:VTIMEZONE
BEGIN:VEVENT
DTSTART;TZID=America/Los_Angeles:20191221T090000
DTEND;TZID=America/Los_Angeles:20191224T170000
DTSTAMP:20260421T025244
CREATED:20191226T175852Z
LAST-MODIFIED:20191226T175852Z
UID:10053317-1576918800-1577206800@expositionpark.ca.gov
SUMMARY:Christmas Tree Giveaway
DESCRIPTION: Community Christmas Tree giveaway\n Limited quantities of Christmas Trees will be distributed each day\n First available basis \nVehicles should enter from 39th and Figueroa and pick up from Coliseum Olympic Plaza\, then exit to S. Hoover or back to Figueroa.
URL:https://expositionpark.ca.gov/event/christmas-tree-giveaway/
LOCATION:Los Angeles Memorial Coliseum Olympic Plaza\, 3911 S Figueroa St.\, Los Angeles\, CA\, 90037\, United States
END:VEVENT
BEGIN:VEVENT
DTSTART;TZID=America/Los_Angeles:20191221T100000
DTEND;TZID=America/Los_Angeles:20191221T130000
DTSTAMP:20260421T025244
CREATED:20190711T212647Z
LAST-MODIFIED:20190711T212647Z
UID:10053156-1576922400-1576933200@expositionpark.ca.gov
SUMMARY:2019 Expo Center Winter Holiday Festival
DESCRIPTION:
URL:https://expositionpark.ca.gov/event/2019-expo-center-winter-holiday-festival-2/
LOCATION:EXPO Center
ORGANIZER;CN="Exposition Center Special Events":MAILTO:Rap-expospecialevents@lacity.org
END:VEVENT
BEGIN:VEVENT
DTSTART;TZID=America/Los_Angeles:20191221T100000
DTEND;TZID=America/Los_Angeles:20191221T130000
DTSTAMP:20260421T025244
CREATED:20191219T222433Z
LAST-MODIFIED:20191219T222433Z
UID:10053315-1576922400-1576933200@expositionpark.ca.gov
SUMMARY:2019 EXPO Center Winter Holiday Festival
DESCRIPTION:EXPO Center’s Holiday Festival!!! \nCome join us and celebrate the holidays with Santa\, Snow Play Area\, Picture Booth\, Gifts\, Food\, Jumpers\, Games and lots of Fun.
URL:https://expositionpark.ca.gov/event/2019-expo-center-winter-holiday-festival/
LOCATION:EXPO Center Front Lawn\, 3980 Bill Robertson Lane\, Los Angeles\, CA\, 90037\, United States
END:VEVENT
BEGIN:VEVENT
DTSTART;TZID=America/Los_Angeles:20191221T130000
DTEND;TZID=America/Los_Angeles:20191221T150000
DTSTAMP:20260421T025244
CREATED:20190715T173304Z
LAST-MODIFIED:20190715T173304Z
UID:10053183-1576933200-1576940400@expositionpark.ca.gov
SUMMARY:CAAM: Family Workshop
DESCRIPTION:Saturday\, December 21\, 2019 | 1:00 – 3:00 p.m.  \nAbstract Metallic
URL:https://expositionpark.ca.gov/event/caam-family-workshop-16/
LOCATION:California African American Museum\, 600 State Drive\, Los Angeles\, CA\, 90037\, United States
GEO:34.0159415;-118.2836283
X-APPLE-STRUCTURED-LOCATION;VALUE=URI;X-ADDRESS=California African American Museum 600 State Drive Los Angeles CA 90037 United States;X-APPLE-RADIUS=500;X-TITLE=600 State Drive:geo:-118.2836283,34.0159415
END:VEVENT
END:VCALENDAR