BEGIN:VCALENDAR
VERSION:2.0
PRODID:-//Exposition Park - ECPv6.15.20//NONSGML v1.0//EN
CALSCALE:GREGORIAN
METHOD:PUBLISH
X-WR-CALNAME:Exposition Park
X-ORIGINAL-URL:https://expositionpark.ca.gov
X-WR-CALDESC:Events for Exposition Park
REFRESH-INTERVAL;VALUE=DURATION:PT1H
X-Robots-Tag:noindex
X-PUBLISHED-TTL:PT1H
BEGIN:VTIMEZONE
TZID:America/Los_Angeles
BEGIN:DAYLIGHT
TZOFFSETFROM:-0800
TZOFFSETTO:-0700
TZNAME:PDT
DTSTART:20190310T100000
END:DAYLIGHT
BEGIN:STANDARD
TZOFFSETFROM:-0700
TZOFFSETTO:-0800
TZNAME:PST
DTSTART:20191103T090000
END:STANDARD
BEGIN:DAYLIGHT
TZOFFSETFROM:-0800
TZOFFSETTO:-0700
TZNAME:PDT
DTSTART:20200308T100000
END:DAYLIGHT
BEGIN:STANDARD
TZOFFSETFROM:-0700
TZOFFSETTO:-0800
TZNAME:PST
DTSTART:20201101T090000
END:STANDARD
BEGIN:DAYLIGHT
TZOFFSETFROM:-0800
TZOFFSETTO:-0700
TZNAME:PDT
DTSTART:20210314T100000
END:DAYLIGHT
BEGIN:STANDARD
TZOFFSETFROM:-0700
TZOFFSETTO:-0800
TZNAME:PST
DTSTART:20211107T090000
END:STANDARD
END:VTIMEZONE
BEGIN:VEVENT
DTSTART;TZID=America/Los_Angeles:20200106T060000
DTEND;TZID=America/Los_Angeles:20200204T210000
DTSTAMP:20260420T145048
CREATED:20191223T210419Z
LAST-MODIFIED:20200125T003302Z
UID:10053316-1578290400-1580850000@expositionpark.ca.gov
SUMMARY:USC/Los Angeles Memorial Coliseum
DESCRIPTION:Sod and Equipment Storage
URL:https://expositionpark.ca.gov/event/usc-los-angeles-memorial-coliseum-2/
LOCATION:Lot 4
END:VEVENT
BEGIN:VEVENT
DTSTART;TZID=America/Los_Angeles:20200106T080000
DTEND;TZID=America/Los_Angeles:20200110T170000
DTSTAMP:20260420T145048
CREATED:20190730T231203Z
LAST-MODIFIED:20190730T231203Z
UID:10051488-1578297600-1578675600@expositionpark.ca.gov
SUMMARY:Winter Adventures in Nature Camp
DESCRIPTION:This  winter\, join us for Adventures in Nature Summer Day Camp! Whether it’s becoming a dinosaur or engaging with nature in new ways\, NHM has dedicated three decades of hands-on experiences and behind-the-scenes tours to campers – giving them access to 4.5 billion years of life on Earth.  With so much adventure\, your child’s camp memories will surely last a lifetime!
URL:https://expositionpark.ca.gov/event/winter-adventures-in-nature-camp/
LOCATION:Natural History Museum of Los Angeles County\, 900 Exposition Blvd.\, Los Angeles\, CA\, 90007\, United States
ORGANIZER;CN="Christina Kastely":MAILTO:ckastely@nhm.org
GEO:34.0170769;-118.2886818
X-APPLE-STRUCTURED-LOCATION;VALUE=URI;X-ADDRESS=Natural History Museum of Los Angeles County 900 Exposition Blvd. Los Angeles CA 90007 United States;X-APPLE-RADIUS=500;X-TITLE=900 Exposition Blvd.:geo:-118.2886818,34.0170769
END:VEVENT
BEGIN:VEVENT
DTSTART;TZID=America/Los_Angeles:20200110T080000
DTEND;TZID=America/Los_Angeles:20200110T170000
DTSTAMP:20260420T145048
CREATED:20170215T230439Z
LAST-MODIFIED:20170215T230439Z
UID:10046753-1578643200-1578675600@expositionpark.ca.gov
SUMMARY:San Pedro Soccer League
DESCRIPTION:
URL:https://expositionpark.ca.gov/event/san-pedro-soccer-league-3/2020-01-10/
LOCATION:EXPO Center\, 3980 Bill Robertson Lane\, Los Angeles\, CA\, 90037\, United States
GEO:34.0121136;-118.2900829
X-APPLE-STRUCTURED-LOCATION;VALUE=URI;X-ADDRESS=EXPO Center 3980 Bill Robertson Lane Los Angeles CA 90037 United States;X-APPLE-RADIUS=500;X-TITLE=3980 Bill Robertson Lane:geo:-118.2900829,34.0121136
END:VEVENT
BEGIN:VEVENT
DTSTART;TZID=America/Los_Angeles:20200110T180000
DTEND;TZID=America/Los_Angeles:20200110T210000
DTSTAMP:20260420T145048
CREATED:20170214T222616Z
LAST-MODIFIED:20170214T222616Z
UID:10048873-1578679200-1578690000@expositionpark.ca.gov
SUMMARY:EXPO Soccer Clinic
DESCRIPTION:
URL:https://expositionpark.ca.gov/event/expo-soccer-clinic/2020-01-10/
LOCATION:EXPO Center\, 3980 Bill Robertson Lane\, Los Angeles\, CA\, 90037\, United States
GEO:34.0121136;-118.2900829
X-APPLE-STRUCTURED-LOCATION;VALUE=URI;X-ADDRESS=EXPO Center 3980 Bill Robertson Lane Los Angeles CA 90037 United States;X-APPLE-RADIUS=500;X-TITLE=3980 Bill Robertson Lane:geo:-118.2900829,34.0121136
END:VEVENT
END:VCALENDAR