BEGIN:VCALENDAR
VERSION:2.0
PRODID:-//Exposition Park - ECPv6.15.20//NONSGML v1.0//EN
CALSCALE:GREGORIAN
METHOD:PUBLISH
X-WR-CALNAME:Exposition Park
X-ORIGINAL-URL:https://expositionpark.ca.gov
X-WR-CALDESC:Events for Exposition Park
REFRESH-INTERVAL;VALUE=DURATION:PT1H
X-Robots-Tag:noindex
X-PUBLISHED-TTL:PT1H
BEGIN:VTIMEZONE
TZID:America/Los_Angeles
BEGIN:DAYLIGHT
TZOFFSETFROM:-0800
TZOFFSETTO:-0700
TZNAME:PDT
DTSTART:20190310T100000
END:DAYLIGHT
BEGIN:STANDARD
TZOFFSETFROM:-0700
TZOFFSETTO:-0800
TZNAME:PST
DTSTART:20191103T090000
END:STANDARD
BEGIN:DAYLIGHT
TZOFFSETFROM:-0800
TZOFFSETTO:-0700
TZNAME:PDT
DTSTART:20200308T100000
END:DAYLIGHT
BEGIN:STANDARD
TZOFFSETFROM:-0700
TZOFFSETTO:-0800
TZNAME:PST
DTSTART:20201101T090000
END:STANDARD
BEGIN:DAYLIGHT
TZOFFSETFROM:-0800
TZOFFSETTO:-0700
TZNAME:PDT
DTSTART:20210314T100000
END:DAYLIGHT
BEGIN:STANDARD
TZOFFSETFROM:-0700
TZOFFSETTO:-0800
TZNAME:PST
DTSTART:20211107T090000
END:STANDARD
END:VTIMEZONE
BEGIN:VEVENT
DTSTART;TZID=America/Los_Angeles:20200106T060000
DTEND;TZID=America/Los_Angeles:20200204T210000
DTSTAMP:20260420T182137
CREATED:20191223T210419Z
LAST-MODIFIED:20200125T003302Z
UID:10053316-1578290400-1580850000@expositionpark.ca.gov
SUMMARY:USC/Los Angeles Memorial Coliseum
DESCRIPTION:Sod and Equipment Storage
URL:https://expositionpark.ca.gov/event/usc-los-angeles-memorial-coliseum-2/
LOCATION:Lot 4
END:VEVENT
BEGIN:VEVENT
DTSTART;TZID=America/Los_Angeles:20200116T080000
DTEND;TZID=America/Los_Angeles:20200116T140000
DTSTAMP:20260420T182137
CREATED:20200107T223947Z
LAST-MODIFIED:20200107T223947Z
UID:10053327-1579161600-1579183200@expositionpark.ca.gov
SUMMARY:Recreation and Parks Commission Meeting
DESCRIPTION:RAP Commission Meeting will be held at the EXPO Center on Thursday\, January 16th.
URL:https://expositionpark.ca.gov/event/recreation-and-parks-commission-meeting/
LOCATION:EXPO Center
END:VEVENT
BEGIN:VEVENT
DTSTART;TZID=America/Los_Angeles:20200116T143000
DTEND;TZID=America/Los_Angeles:20200116T173000
DTSTAMP:20260420T182137
CREATED:20170215T230251Z
LAST-MODIFIED:20170215T230251Z
UID:10045614-1579185000-1579195800@expositionpark.ca.gov
SUMMARY:USC Hybrid
DESCRIPTION:
URL:https://expositionpark.ca.gov/event/usc-hybrid/2020-01-16/
LOCATION:EXPO Center\, 3980 Bill Robertson Lane\, Los Angeles\, CA\, 90037\, United States
GEO:34.0121136;-118.2900829
X-APPLE-STRUCTURED-LOCATION;VALUE=URI;X-ADDRESS=EXPO Center 3980 Bill Robertson Lane Los Angeles CA 90037 United States;X-APPLE-RADIUS=500;X-TITLE=3980 Bill Robertson Lane:geo:-118.2900829,34.0121136
END:VEVENT
BEGIN:VEVENT
DTSTART;TZID=America/Los_Angeles:20200116T180000
DTEND;TZID=America/Los_Angeles:20200116T210000
DTSTAMP:20260420T182137
CREATED:20170214T222818Z
LAST-MODIFIED:20170214T222818Z
UID:10050016-1579197600-1579208400@expositionpark.ca.gov
SUMMARY:Vermont Sports Club
DESCRIPTION:
URL:https://expositionpark.ca.gov/event/vermont-sports-club-7/2020-01-16/
LOCATION:EXPO Center\, 3980 Bill Robertson Lane\, Los Angeles\, CA\, 90037\, United States
GEO:34.0121136;-118.2900829
X-APPLE-STRUCTURED-LOCATION;VALUE=URI;X-ADDRESS=EXPO Center 3980 Bill Robertson Lane Los Angeles CA 90037 United States;X-APPLE-RADIUS=500;X-TITLE=3980 Bill Robertson Lane:geo:-118.2900829,34.0121136
END:VEVENT
BEGIN:VEVENT
DTSTART;TZID=America/Los_Angeles:20200116T190000
DTEND;TZID=America/Los_Angeles:20200116T210000
DTSTAMP:20260420T182137
CREATED:20200107T183802Z
LAST-MODIFIED:20200107T183802Z
UID:10053324-1579201200-1579208400@expositionpark.ca.gov
SUMMARY:CAAM: The Afrofuture is Here
DESCRIPTION:The Afrofuturist Podcast’s co-creator and host\, Ahmed Best\, and panelists discuss ideas\, stories\, and products that are shaping the future. In conjunction with the exhibition Timothy Washington: Citizen/Ship\, hear Lonny J Avi Brooks\, co-creator of The Afrofuturist podcast and associate professor of strategic communication at California State University\, East Bay\, and Anthony Sparks\, executive producer\, writer\, and showrunner of the television series Queen Sugar\, explore the cultural aesthetic of Afrofuturism and the latest in black-led tech and media innovations.
URL:https://expositionpark.ca.gov/event/caam-the-afrofuture-is-here/
LOCATION:California African American Museum\, 600 State Drive\, Los Angeles\, CA\, 90037\, United States
GEO:34.0159415;-118.2836283
X-APPLE-STRUCTURED-LOCATION;VALUE=URI;X-ADDRESS=California African American Museum 600 State Drive Los Angeles CA 90037 United States;X-APPLE-RADIUS=500;X-TITLE=600 State Drive:geo:-118.2836283,34.0159415
END:VEVENT
BEGIN:VEVENT
DTSTART;TZID=America/Los_Angeles:20200116T213000
DTEND;TZID=America/Los_Angeles:20200116T223000
DTSTAMP:20260420T182137
CREATED:20170215T225948Z
LAST-MODIFIED:20170215T225948Z
UID:10044752-1579210200-1579213800@expositionpark.ca.gov
SUMMARY:Tri-Color Soccer League
DESCRIPTION:
URL:https://expositionpark.ca.gov/event/tri-color-soccer-league-2/2020-01-16/
LOCATION:EXPO Center\, 3980 Bill Robertson Lane\, Los Angeles\, CA\, 90037\, United States
GEO:34.0121136;-118.2900829
X-APPLE-STRUCTURED-LOCATION;VALUE=URI;X-ADDRESS=EXPO Center 3980 Bill Robertson Lane Los Angeles CA 90037 United States;X-APPLE-RADIUS=500;X-TITLE=3980 Bill Robertson Lane:geo:-118.2900829,34.0121136
END:VEVENT
END:VCALENDAR