BEGIN:VCALENDAR
VERSION:2.0
PRODID:-//Exposition Park - ECPv6.15.20//NONSGML v1.0//EN
CALSCALE:GREGORIAN
METHOD:PUBLISH
X-ORIGINAL-URL:https://expositionpark.ca.gov
X-WR-CALDESC:Events for Exposition Park
REFRESH-INTERVAL;VALUE=DURATION:PT1H
X-Robots-Tag:noindex
X-PUBLISHED-TTL:PT1H
BEGIN:VTIMEZONE
TZID:America/Los_Angeles
BEGIN:DAYLIGHT
TZOFFSETFROM:-0800
TZOFFSETTO:-0700
TZNAME:PDT
DTSTART:20190310T100000
END:DAYLIGHT
BEGIN:STANDARD
TZOFFSETFROM:-0700
TZOFFSETTO:-0800
TZNAME:PST
DTSTART:20191103T090000
END:STANDARD
BEGIN:DAYLIGHT
TZOFFSETFROM:-0800
TZOFFSETTO:-0700
TZNAME:PDT
DTSTART:20200308T100000
END:DAYLIGHT
BEGIN:STANDARD
TZOFFSETFROM:-0700
TZOFFSETTO:-0800
TZNAME:PST
DTSTART:20201101T090000
END:STANDARD
BEGIN:DAYLIGHT
TZOFFSETFROM:-0800
TZOFFSETTO:-0700
TZNAME:PDT
DTSTART:20210314T100000
END:DAYLIGHT
BEGIN:STANDARD
TZOFFSETFROM:-0700
TZOFFSETTO:-0800
TZNAME:PST
DTSTART:20211107T090000
END:STANDARD
END:VTIMEZONE
BEGIN:VEVENT
DTSTART;TZID=America/Los_Angeles:20200106T060000
DTEND;TZID=America/Los_Angeles:20200204T210000
DTSTAMP:20260420T221618
CREATED:20191223T210419Z
LAST-MODIFIED:20200125T003302Z
UID:10053316-1578290400-1580850000@expositionpark.ca.gov
SUMMARY:USC/Los Angeles Memorial Coliseum
DESCRIPTION:Sod and Equipment Storage
URL:https://expositionpark.ca.gov/event/usc-los-angeles-memorial-coliseum-2/
LOCATION:Lot 4
END:VEVENT
BEGIN:VEVENT
DTSTART;TZID=America/Los_Angeles:20200120T100000
DTEND;TZID=America/Los_Angeles:20200120T170000
DTSTAMP:20260420T221618
CREATED:20200108T231724Z
LAST-MODIFIED:20200109T204349Z
UID:10053338-1579514400-1579539600@expositionpark.ca.gov
SUMMARY:CAAM-MLK Jr. Day Celebration
DESCRIPTION:Celebrate Martin Luther King Jr. Day immersed in art\, culture\, and community\, and commemorate the 55th anniversary of the Voting Rights Act of 1965. Enjoy an array of vibrant programs and activities for all ages. Bring your children for art workshops and food\, visit our exhibitions\, and hear recitations of King’s speeches about keeping the spirit of democracy alive. Free for everyone!
URL:https://expositionpark.ca.gov/event/caam-mlk-jr-day-celebration/
LOCATION:California African American Museum\, 600 State Drive\, Los Angeles\, CA\, 90037\, United States
GEO:34.0159415;-118.2836283
X-APPLE-STRUCTURED-LOCATION;VALUE=URI;X-ADDRESS=California African American Museum 600 State Drive Los Angeles CA 90037 United States;X-APPLE-RADIUS=500;X-TITLE=600 State Drive:geo:-118.2836283,34.0159415
END:VEVENT
BEGIN:VEVENT
DTSTART;TZID=America/Los_Angeles:20200120T180000
DTEND;TZID=America/Los_Angeles:20200120T210000
DTSTAMP:20260420T221618
CREATED:20170214T222616Z
LAST-MODIFIED:20170214T222616Z
UID:10048877-1579543200-1579554000@expositionpark.ca.gov
SUMMARY:EXPO Soccer Clinic
DESCRIPTION:
URL:https://expositionpark.ca.gov/event/expo-soccer-clinic/2020-01-20/
LOCATION:EXPO Center\, 3980 Bill Robertson Lane\, Los Angeles\, CA\, 90037\, United States
GEO:34.0121136;-118.2900829
X-APPLE-STRUCTURED-LOCATION;VALUE=URI;X-ADDRESS=EXPO Center 3980 Bill Robertson Lane Los Angeles CA 90037 United States;X-APPLE-RADIUS=500;X-TITLE=3980 Bill Robertson Lane:geo:-118.2900829,34.0121136
END:VEVENT
BEGIN:VEVENT
DTSTART;TZID=America/Los_Angeles:20200120T211500
DTEND;TZID=America/Los_Angeles:20200120T221500
DTSTAMP:20260420T221618
CREATED:20170214T222531Z
LAST-MODIFIED:20170214T222531Z
UID:10048138-1579554900-1579558500@expositionpark.ca.gov
SUMMARY:Tri-Color Soccer League
DESCRIPTION:
URL:https://expositionpark.ca.gov/event/tri-color-soccer-league/2020-01-20/
LOCATION:EXPO Center\, 3980 Bill Robertson Lane\, Los Angeles\, CA\, 90037\, United States
GEO:34.0121136;-118.2900829
X-APPLE-STRUCTURED-LOCATION;VALUE=URI;X-ADDRESS=EXPO Center 3980 Bill Robertson Lane Los Angeles CA 90037 United States;X-APPLE-RADIUS=500;X-TITLE=3980 Bill Robertson Lane:geo:-118.2900829,34.0121136
END:VEVENT
END:VCALENDAR