BEGIN:VCALENDAR
VERSION:2.0
PRODID:-//Exposition Park - ECPv6.15.20//NONSGML v1.0//EN
CALSCALE:GREGORIAN
METHOD:PUBLISH
X-ORIGINAL-URL:https://expositionpark.ca.gov
X-WR-CALDESC:Events for Exposition Park
REFRESH-INTERVAL;VALUE=DURATION:PT1H
X-Robots-Tag:noindex
X-PUBLISHED-TTL:PT1H
BEGIN:VTIMEZONE
TZID:America/Los_Angeles
BEGIN:DAYLIGHT
TZOFFSETFROM:-0800
TZOFFSETTO:-0700
TZNAME:PDT
DTSTART:20190310T100000
END:DAYLIGHT
BEGIN:STANDARD
TZOFFSETFROM:-0700
TZOFFSETTO:-0800
TZNAME:PST
DTSTART:20191103T090000
END:STANDARD
BEGIN:DAYLIGHT
TZOFFSETFROM:-0800
TZOFFSETTO:-0700
TZNAME:PDT
DTSTART:20200308T100000
END:DAYLIGHT
BEGIN:STANDARD
TZOFFSETFROM:-0700
TZOFFSETTO:-0800
TZNAME:PST
DTSTART:20201101T090000
END:STANDARD
BEGIN:DAYLIGHT
TZOFFSETFROM:-0800
TZOFFSETTO:-0700
TZNAME:PDT
DTSTART:20210314T100000
END:DAYLIGHT
BEGIN:STANDARD
TZOFFSETFROM:-0700
TZOFFSETTO:-0800
TZNAME:PST
DTSTART:20211107T090000
END:STANDARD
END:VTIMEZONE
BEGIN:VEVENT
DTSTART;TZID=America/Los_Angeles:20200106T060000
DTEND;TZID=America/Los_Angeles:20200204T210000
DTSTAMP:20260421T121101
CREATED:20191223T210419Z
LAST-MODIFIED:20200125T003302Z
UID:10053316-1578290400-1580850000@expositionpark.ca.gov
SUMMARY:USC/Los Angeles Memorial Coliseum
DESCRIPTION:Sod and Equipment Storage
URL:https://expositionpark.ca.gov/event/usc-los-angeles-memorial-coliseum-2/
LOCATION:Lot 4
END:VEVENT
BEGIN:VEVENT
DTSTART;TZID=America/Los_Angeles:20200122T180000
DTEND;TZID=America/Los_Angeles:20200125T060000
DTSTAMP:20260421T121101
CREATED:20200121T201731Z
LAST-MODIFIED:20200121T233631Z
UID:10051643-1579716000-1579932000@expositionpark.ca.gov
SUMMARY:Netflix Productions\, LLC
DESCRIPTION:Private Event
URL:https://expositionpark.ca.gov/event/netflix-productions-llc/
LOCATION:Lot 6 East Portion\, CA\, United States
END:VEVENT
BEGIN:VEVENT
DTSTART;TZID=America/Los_Angeles:20200125T073000
DTEND;TZID=America/Los_Angeles:20200125T183000
DTSTAMP:20260421T121101
CREATED:20200115T193800Z
LAST-MODIFIED:20200117T181454Z
UID:10053360-1579937400-1579977000@expositionpark.ca.gov
SUMMARY:Lifeguard Recertification Training
DESCRIPTION:Lifeguard training and recertification for all LA City Aquatics Department Lifesaving Staff
URL:https://expositionpark.ca.gov/event/lifeguard-recertification-training-2/
LOCATION:EXPO Center / John C. Argue Swim Stadium\, CA\, United States
ORGANIZER;CN="Eric Ceja":MAILTO:eric.ceja@lacity.org
END:VEVENT
BEGIN:VEVENT
DTSTART;TZID=America/Los_Angeles:20200125T090000
DTEND;TZID=America/Los_Angeles:20200125T170000
DTSTAMP:20260421T121101
CREATED:20191210T000750Z
LAST-MODIFIED:20191210T000750Z
UID:10053311-1579942800-1579971600@expositionpark.ca.gov
SUMMARY:SoCal Museums Free-For-All
DESCRIPTION:Free Museum day at NHM from 9am-5pm
URL:https://expositionpark.ca.gov/event/socal-museums-free-for-all/
LOCATION:Natural History Museum of Los Angeles County\, 900 Exposition Blvd.\, Los Angeles\, CA\, 90007\, United States
ORGANIZER;CN="NHM":MAILTO:vvobis@nhm.org
GEO:34.0170769;-118.2886818
X-APPLE-STRUCTURED-LOCATION;VALUE=URI;X-ADDRESS=Natural History Museum of Los Angeles County 900 Exposition Blvd. Los Angeles CA 90007 United States;X-APPLE-RADIUS=500;X-TITLE=900 Exposition Blvd.:geo:-118.2886818,34.0170769
END:VEVENT
BEGIN:VEVENT
DTSTART;TZID=America/Los_Angeles:20200125T193000
DTEND;TZID=America/Los_Angeles:20200125T213000
DTSTAMP:20260421T121101
CREATED:20200107T230419Z
LAST-MODIFIED:20200107T230419Z
UID:10053328-1579980600-1579987800@expositionpark.ca.gov
SUMMARY:LAFC vs Peñarol (Preseason)
DESCRIPTION:
URL:https://expositionpark.ca.gov/event/lafc-vs-penarol-preseason/
LOCATION:Banc of California Stadium\, United States
GEO:37.09024;-95.712891
END:VEVENT
BEGIN:VEVENT
DTSTART;TZID=America/Los_Angeles:20200125T200000
DTEND;TZID=America/Los_Angeles:20200125T230000
DTSTAMP:20260421T121101
CREATED:20191206T185642Z
LAST-MODIFIED:20191206T185642Z
UID:10053310-1579982400-1579993200@expositionpark.ca.gov
SUMMARY:High School Winter Formal
DESCRIPTION:
URL:https://expositionpark.ca.gov/event/high-school-winter-formal-2/
LOCATION:CSC – Samuel Oschin Pavilion
END:VEVENT
END:VCALENDAR