BEGIN:VCALENDAR
VERSION:2.0
PRODID:-//Exposition Park - ECPv6.15.20//NONSGML v1.0//EN
CALSCALE:GREGORIAN
METHOD:PUBLISH
X-WR-CALNAME:Exposition Park
X-ORIGINAL-URL:https://expositionpark.ca.gov
X-WR-CALDESC:Events for Exposition Park
REFRESH-INTERVAL;VALUE=DURATION:PT1H
X-Robots-Tag:noindex
X-PUBLISHED-TTL:PT1H
BEGIN:VTIMEZONE
TZID:America/Los_Angeles
BEGIN:DAYLIGHT
TZOFFSETFROM:-0800
TZOFFSETTO:-0700
TZNAME:PDT
DTSTART:20190310T100000
END:DAYLIGHT
BEGIN:STANDARD
TZOFFSETFROM:-0700
TZOFFSETTO:-0800
TZNAME:PST
DTSTART:20191103T090000
END:STANDARD
BEGIN:DAYLIGHT
TZOFFSETFROM:-0800
TZOFFSETTO:-0700
TZNAME:PDT
DTSTART:20200308T100000
END:DAYLIGHT
BEGIN:STANDARD
TZOFFSETFROM:-0700
TZOFFSETTO:-0800
TZNAME:PST
DTSTART:20201101T090000
END:STANDARD
BEGIN:DAYLIGHT
TZOFFSETFROM:-0800
TZOFFSETTO:-0700
TZNAME:PDT
DTSTART:20210314T100000
END:DAYLIGHT
BEGIN:STANDARD
TZOFFSETFROM:-0700
TZOFFSETTO:-0800
TZNAME:PST
DTSTART:20211107T090000
END:STANDARD
END:VTIMEZONE
BEGIN:VEVENT
DTSTART;TZID=America/Los_Angeles:20200106T060000
DTEND;TZID=America/Los_Angeles:20200204T210000
DTSTAMP:20260422T215831
CREATED:20191223T210419Z
LAST-MODIFIED:20200125T003302Z
UID:10053316-1578290400-1580850000@expositionpark.ca.gov
SUMMARY:USC/Los Angeles Memorial Coliseum
DESCRIPTION:Sod and Equipment Storage
URL:https://expositionpark.ca.gov/event/usc-los-angeles-memorial-coliseum-2/
LOCATION:Lot 4
END:VEVENT
BEGIN:VEVENT
DTSTART;TZID=America/Los_Angeles:20200201T203000
DTEND;TZID=America/Los_Angeles:20200202T020000
DTSTAMP:20260422T215831
CREATED:20200108T204553Z
LAST-MODIFIED:20200109T204417Z
UID:10053332-1580589000-1580608800@expositionpark.ca.gov
SUMMARY:Private Event
DESCRIPTION:
URL:https://expositionpark.ca.gov/event/private-event-210/
LOCATION:Natural History Museum\, 900 Exposition Blvd\, Los Angeles\, CA\, 90037\, United States
ORGANIZER;CN="NHM":MAILTO:vvobis@nhm.org
GEO:34.0170769;-118.2886818
X-APPLE-STRUCTURED-LOCATION;VALUE=URI;X-ADDRESS=Natural History Museum 900 Exposition Blvd Los Angeles CA 90037 United States;X-APPLE-RADIUS=500;X-TITLE=900 Exposition Blvd:geo:-118.2886818,34.0170769
END:VEVENT
BEGIN:VEVENT
DTSTART;TZID=America/Los_Angeles:20200202T080000
DTEND;TZID=America/Los_Angeles:20200202T140000
DTSTAMP:20260422T215831
CREATED:20200117T183700Z
LAST-MODIFIED:20200117T183700Z
UID:10051637-1580630400-1580652000@expositionpark.ca.gov
SUMMARY:Lifeguard Testing
DESCRIPTION:Potential new Lifeguards will be testing. This test is the first step of the City of Los Angeles Hiring Process.
URL:https://expositionpark.ca.gov/event/lifeguard-testing/
LOCATION:EXPO Center / John C. Argue Swim Stadium\, CA\, United States
ORGANIZER;CN="Eric Ceja":MAILTO:eric.ceja@lacity.org
END:VEVENT
BEGIN:VEVENT
DTSTART;TZID=America/Los_Angeles:20200202T080000
DTEND;TZID=America/Los_Angeles:20200202T170000
DTSTAMP:20260422T215831
CREATED:20170215T230650Z
LAST-MODIFIED:20170215T230650Z
UID:10047188-1580630400-1580662800@expositionpark.ca.gov
SUMMARY:Vermont Sports Club
DESCRIPTION:
URL:https://expositionpark.ca.gov/event/vermont-sports-club-9/2020-02-02/
LOCATION:EXPO Center\, 3980 Bill Robertson Lane\, Los Angeles\, CA\, 90037\, United States
GEO:34.0121136;-118.2900829
X-APPLE-STRUCTURED-LOCATION;VALUE=URI;X-ADDRESS=EXPO Center 3980 Bill Robertson Lane Los Angeles CA 90037 United States;X-APPLE-RADIUS=500;X-TITLE=3980 Bill Robertson Lane:geo:-118.2900829,34.0121136
END:VEVENT
END:VCALENDAR