BEGIN:VCALENDAR
VERSION:2.0
PRODID:-//Exposition Park - ECPv6.15.20//NONSGML v1.0//EN
CALSCALE:GREGORIAN
METHOD:PUBLISH
X-ORIGINAL-URL:https://expositionpark.ca.gov
X-WR-CALDESC:Events for Exposition Park
REFRESH-INTERVAL;VALUE=DURATION:PT1H
X-Robots-Tag:noindex
X-PUBLISHED-TTL:PT1H
BEGIN:VTIMEZONE
TZID:America/Los_Angeles
BEGIN:DAYLIGHT
TZOFFSETFROM:-0800
TZOFFSETTO:-0700
TZNAME:PDT
DTSTART:20190310T100000
END:DAYLIGHT
BEGIN:STANDARD
TZOFFSETFROM:-0700
TZOFFSETTO:-0800
TZNAME:PST
DTSTART:20191103T090000
END:STANDARD
BEGIN:DAYLIGHT
TZOFFSETFROM:-0800
TZOFFSETTO:-0700
TZNAME:PDT
DTSTART:20200308T100000
END:DAYLIGHT
BEGIN:STANDARD
TZOFFSETFROM:-0700
TZOFFSETTO:-0800
TZNAME:PST
DTSTART:20201101T090000
END:STANDARD
BEGIN:DAYLIGHT
TZOFFSETFROM:-0800
TZOFFSETTO:-0700
TZNAME:PDT
DTSTART:20210314T100000
END:DAYLIGHT
BEGIN:STANDARD
TZOFFSETFROM:-0700
TZOFFSETTO:-0800
TZNAME:PST
DTSTART:20211107T090000
END:STANDARD
END:VTIMEZONE
BEGIN:VEVENT
DTSTART;TZID=America/Los_Angeles:20200223T080000
DTEND;TZID=America/Los_Angeles:20200223T170000
DTSTAMP:20260422T013427
CREATED:20170215T230650Z
LAST-MODIFIED:20170215T230650Z
UID:10047191-1582444800-1582477200@expositionpark.ca.gov
SUMMARY:Vermont Sports Club
DESCRIPTION:
URL:https://expositionpark.ca.gov/event/vermont-sports-club-9/2020-02-23/
LOCATION:EXPO Center\, 3980 Bill Robertson Lane\, Los Angeles\, CA\, 90037\, United States
GEO:34.0121136;-118.2900829
X-APPLE-STRUCTURED-LOCATION;VALUE=URI;X-ADDRESS=EXPO Center 3980 Bill Robertson Lane Los Angeles CA 90037 United States;X-APPLE-RADIUS=500;X-TITLE=3980 Bill Robertson Lane:geo:-118.2900829,34.0121136
END:VEVENT
BEGIN:VEVENT
DTSTART;TZID=America/Los_Angeles:20200223T143000
DTEND;TZID=America/Los_Angeles:20200223T150000
DTSTAMP:20260422T013427
CREATED:20200107T185213Z
LAST-MODIFIED:20200107T185213Z
UID:10051603-1582468200-1582470000@expositionpark.ca.gov
SUMMARY:CAAM:Animated Space
DESCRIPTION:The Debbie Allen Dance Academy DADA Ensemble performs dances inspired by Cross\nColours: Black Fashion in the 20th Century and Hip Hop music.
URL:https://expositionpark.ca.gov/event/caamanimated-space/
LOCATION:California African American Museum\, 600 State Drive\, Los Angeles\, CA\, 90037\, United States
GEO:34.0159415;-118.2836283
X-APPLE-STRUCTURED-LOCATION;VALUE=URI;X-ADDRESS=California African American Museum 600 State Drive Los Angeles CA 90037 United States;X-APPLE-RADIUS=500;X-TITLE=600 State Drive:geo:-118.2836283,34.0159415
END:VEVENT
BEGIN:VEVENT
DTSTART;TZID=America/Los_Angeles:20200223T150000
DTEND;TZID=America/Los_Angeles:20200223T163000
DTSTAMP:20260422T013427
CREATED:20200107T185239Z
LAST-MODIFIED:20200107T185239Z
UID:10051604-1582470000-1582475400@expositionpark.ca.gov
SUMMARY:CAAM: Reads!
DESCRIPTION:Calling all book lovers! Our monthly book club continues this winter with titles that complement our ongoing exhibitions. As part of our programming honoring Black History Month in February\, and in conjunction with the exhibition Making Mammy: A Caricature of Black Womanhood\, 1840–1940\, we will discuss Hunger: A Memoir of (My) Body by leading cultural critic Roxane Gay. See the exhibitions beforehand and come ready to share your ideas.
URL:https://expositionpark.ca.gov/event/caam-reads-14/
LOCATION:California African American Museum\, 600 State Drive\, Los Angeles\, CA\, 90037\, United States
GEO:34.0159415;-118.2836283
X-APPLE-STRUCTURED-LOCATION;VALUE=URI;X-ADDRESS=California African American Museum 600 State Drive Los Angeles CA 90037 United States;X-APPLE-RADIUS=500;X-TITLE=600 State Drive:geo:-118.2836283,34.0159415
END:VEVENT
END:VCALENDAR