BEGIN:VCALENDAR
VERSION:2.0
PRODID:-//Exposition Park - ECPv6.15.20//NONSGML v1.0//EN
CALSCALE:GREGORIAN
METHOD:PUBLISH
X-WR-CALNAME:Exposition Park
X-ORIGINAL-URL:https://expositionpark.ca.gov
X-WR-CALDESC:Events for Exposition Park
REFRESH-INTERVAL;VALUE=DURATION:PT1H
X-Robots-Tag:noindex
X-PUBLISHED-TTL:PT1H
BEGIN:VTIMEZONE
TZID:America/Los_Angeles
BEGIN:DAYLIGHT
TZOFFSETFROM:-0800
TZOFFSETTO:-0700
TZNAME:PDT
DTSTART:20190310T100000
END:DAYLIGHT
BEGIN:STANDARD
TZOFFSETFROM:-0700
TZOFFSETTO:-0800
TZNAME:PST
DTSTART:20191103T090000
END:STANDARD
BEGIN:DAYLIGHT
TZOFFSETFROM:-0800
TZOFFSETTO:-0700
TZNAME:PDT
DTSTART:20200308T100000
END:DAYLIGHT
BEGIN:STANDARD
TZOFFSETFROM:-0700
TZOFFSETTO:-0800
TZNAME:PST
DTSTART:20201101T090000
END:STANDARD
BEGIN:DAYLIGHT
TZOFFSETFROM:-0800
TZOFFSETTO:-0700
TZNAME:PDT
DTSTART:20210314T100000
END:DAYLIGHT
BEGIN:STANDARD
TZOFFSETFROM:-0700
TZOFFSETTO:-0800
TZNAME:PST
DTSTART:20211107T090000
END:STANDARD
END:VTIMEZONE
BEGIN:VEVENT
DTSTART;TZID=America/Los_Angeles:20200315T080000
DTEND;TZID=America/Los_Angeles:20200315T170000
DTSTAMP:20260421T025333
CREATED:20170215T230650Z
LAST-MODIFIED:20170215T230650Z
UID:10047194-1584259200-1584291600@expositionpark.ca.gov
SUMMARY:Vermont Sports Club
DESCRIPTION:
URL:https://expositionpark.ca.gov/event/vermont-sports-club-9/2020-03-15/
LOCATION:EXPO Center\, 3980 Bill Robertson Lane\, Los Angeles\, CA\, 90037\, United States
GEO:34.0121136;-118.2900829
X-APPLE-STRUCTURED-LOCATION;VALUE=URI;X-ADDRESS=EXPO Center 3980 Bill Robertson Lane Los Angeles CA 90037 United States;X-APPLE-RADIUS=500;X-TITLE=3980 Bill Robertson Lane:geo:-118.2900829,34.0121136
END:VEVENT
BEGIN:VEVENT
DTSTART;TZID=America/Los_Angeles:20200315T093000
DTEND;TZID=America/Los_Angeles:20200315T170000
DTSTAMP:20260421T025333
CREATED:20190524T172323Z
LAST-MODIFIED:20200311T154336Z
UID:10052977-1584264600-1584291600@expositionpark.ca.gov
SUMMARY:L.A. Nature Fest - Postponed Until Further Notice
DESCRIPTION:L.A. Nature Fest is a two-day festival that celebrates L.A.’s wild side! \nThere’s a surprising amount of nature in Los Angeles\, and the more you know how to look for it\, the more you’ll see. You’ll be blown away by the plants\, animals\, and the people devoted to protecting and studying them. Each day will be filled with performances\, hands-on activities\, and presentations. 
URL:https://expositionpark.ca.gov/event/l-a-nature-fest-3/2020-03-15/
LOCATION:Natural History Museum of Los Angeles County\, 900 Exposition Blvd.\, Los Angeles\, CA\, 90007\, United States
ORGANIZER;CN="Vanessa Vobis":MAILTO:vvobis@nhm.org
GEO:34.0170769;-118.2886818
X-APPLE-STRUCTURED-LOCATION;VALUE=URI;X-ADDRESS=Natural History Museum of Los Angeles County 900 Exposition Blvd. Los Angeles CA 90007 United States;X-APPLE-RADIUS=500;X-TITLE=900 Exposition Blvd.:geo:-118.2886818,34.0170769
END:VEVENT
END:VCALENDAR