BEGIN:VCALENDAR
VERSION:2.0
PRODID:-//Exposition Park - ECPv6.15.20//NONSGML v1.0//EN
CALSCALE:GREGORIAN
METHOD:PUBLISH
X-ORIGINAL-URL:https://expositionpark.ca.gov
X-WR-CALDESC:Events for Exposition Park
REFRESH-INTERVAL;VALUE=DURATION:PT1H
X-Robots-Tag:noindex
X-PUBLISHED-TTL:PT1H
BEGIN:VTIMEZONE
TZID:America/Los_Angeles
BEGIN:DAYLIGHT
TZOFFSETFROM:-0800
TZOFFSETTO:-0700
TZNAME:PDT
DTSTART:20190310T100000
END:DAYLIGHT
BEGIN:STANDARD
TZOFFSETFROM:-0700
TZOFFSETTO:-0800
TZNAME:PST
DTSTART:20191103T090000
END:STANDARD
BEGIN:DAYLIGHT
TZOFFSETFROM:-0800
TZOFFSETTO:-0700
TZNAME:PDT
DTSTART:20200308T100000
END:DAYLIGHT
BEGIN:STANDARD
TZOFFSETFROM:-0700
TZOFFSETTO:-0800
TZNAME:PST
DTSTART:20201101T090000
END:STANDARD
BEGIN:DAYLIGHT
TZOFFSETFROM:-0800
TZOFFSETTO:-0700
TZNAME:PDT
DTSTART:20210314T100000
END:DAYLIGHT
BEGIN:STANDARD
TZOFFSETFROM:-0700
TZOFFSETTO:-0800
TZNAME:PST
DTSTART:20211107T090000
END:STANDARD
END:VTIMEZONE
BEGIN:VEVENT
DTSTART;VALUE=DATE:20200411
DTEND;VALUE=DATE:20200413
DTSTAMP:20260420T221624
CREATED:20200410T010347Z
LAST-MODIFIED:20200410T010347Z
UID:10053464-1586563200-1586735999@expositionpark.ca.gov
SUMMARY:Exposition Park Closed to General Public
DESCRIPTION:Following guidance from both the City and County of Los Angeles\, Exposition Park will be closed to the public Saturday\, April 11th and Sunday\, April 12th.  Park will reopen the morning of Monday\, April 13th.
URL:https://expositionpark.ca.gov/event/exposition-park-closed-to-general-public/
LOCATION:Exposition Park\, 3919 S. Figueroa Street\, Los Angeles\, CA\, 90037\, United States
END:VEVENT
BEGIN:VEVENT
DTSTART;TZID=America/Los_Angeles:20200411T080000
DTEND;TZID=America/Los_Angeles:20200411T170000
DTSTAMP:20260420T221624
CREATED:20191121T001538Z
LAST-MODIFIED:20200403T155738Z
UID:10053298-1586592000-1586624400@expositionpark.ca.gov
SUMMARY:EXPO Center's Spring Festival 2020 - Cancelled
DESCRIPTION:Come join the EXPO Center in the ROSE GARDEN for food\, fun\, dancers\, performances and bands from different genre of music! An Event for the Community!!!
URL:https://expositionpark.ca.gov/event/expo-centers-spring-festival-2020/
LOCATION:EXPO Center Front Lawn\, 3980 Bill Robertson Lane\, Los Angeles\, CA\, 90037\, United States
END:VEVENT
BEGIN:VEVENT
DTSTART;TZID=America/Los_Angeles:20200411T130000
DTEND;TZID=America/Los_Angeles:20200411T140000
DTSTAMP:20260420T221624
CREATED:20200228T195728Z
LAST-MODIFIED:20200404T010019Z
UID:10053432-1586610000-1586613600@expositionpark.ca.gov
SUMMARY:Docent-Led Tours - Cancelled
DESCRIPTION:Every second Saturday\, CAAM offers in-depth tours of selected exhibitions. Meet passionate and knowledgeable members of CAAM’s Volunteer Docent Council for spirited conversations about the exhibitions Sula Bermúdez-Silverman: Neither Fish\, Flesh\, nor Fowl in March\, Sanctuary: Recent Acquisitions to the Permanent Collection in April\, Men of Change: Power. Triumph. Truth. in May\, and Nikita Gale: PRIVATE DANCER in June.  \nCancelled for the months of April & May 2020
URL:https://expositionpark.ca.gov/event/docent-led-tours-2/
LOCATION:California African American Museum\, 600 State Drive\, Los Angeles\, CA\, 90037\, United States
GEO:34.0159415;-118.2836283
X-APPLE-STRUCTURED-LOCATION;VALUE=URI;X-ADDRESS=California African American Museum 600 State Drive Los Angeles CA 90037 United States;X-APPLE-RADIUS=500;X-TITLE=600 State Drive:geo:-118.2836283,34.0159415
END:VEVENT
END:VCALENDAR