BEGIN:VCALENDAR
VERSION:2.0
PRODID:-//Exposition Park - ECPv6.15.20//NONSGML v1.0//EN
CALSCALE:GREGORIAN
METHOD:PUBLISH
X-WR-CALNAME:Exposition Park
X-ORIGINAL-URL:https://expositionpark.ca.gov
X-WR-CALDESC:Events for Exposition Park
REFRESH-INTERVAL;VALUE=DURATION:PT1H
X-Robots-Tag:noindex
X-PUBLISHED-TTL:PT1H
BEGIN:VTIMEZONE
TZID:America/Los_Angeles
BEGIN:DAYLIGHT
TZOFFSETFROM:-0800
TZOFFSETTO:-0700
TZNAME:PDT
DTSTART:20190310T100000
END:DAYLIGHT
BEGIN:STANDARD
TZOFFSETFROM:-0700
TZOFFSETTO:-0800
TZNAME:PST
DTSTART:20191103T090000
END:STANDARD
BEGIN:DAYLIGHT
TZOFFSETFROM:-0800
TZOFFSETTO:-0700
TZNAME:PDT
DTSTART:20200308T100000
END:DAYLIGHT
BEGIN:STANDARD
TZOFFSETFROM:-0700
TZOFFSETTO:-0800
TZNAME:PST
DTSTART:20201101T090000
END:STANDARD
BEGIN:DAYLIGHT
TZOFFSETFROM:-0800
TZOFFSETTO:-0700
TZNAME:PDT
DTSTART:20210314T100000
END:DAYLIGHT
BEGIN:STANDARD
TZOFFSETFROM:-0700
TZOFFSETTO:-0800
TZNAME:PST
DTSTART:20211107T090000
END:STANDARD
END:VTIMEZONE
BEGIN:VEVENT
DTSTART;TZID=America/Los_Angeles:20200418T140000
DTEND;TZID=America/Los_Angeles:20200418T160000
DTSTAMP:20260420T182159
CREATED:20200228T195922Z
LAST-MODIFIED:20200416T231407Z
UID:10053436-1587218400-1587225600@expositionpark.ca.gov
SUMMARY:Still Life through the Lens Workshop - Cancelled - Moved to Virtual Platform
DESCRIPTION:Many of the artists in Sanctuary: Recent Acquisitions to the Permanent Collection use photography to tell their stories. Artist Janna Ireland poses herself in works such as Loveseat or uses carefully chosen objects in a still life to evoke particular meanings. For this workshop\, under the guidance of artist Jean-Guerly Petion\, arrange and photograph a still life based on objects you bring with you or choose from our supply. No previous experience necessary and any type of camera\, including cell phones\, may be used. Ages 6 and up.  \nEvents Cancelled through April and May 2020 \n*This event was moved to a virtual platform
URL:https://expositionpark.ca.gov/event/still-life-through-the-lens-workshop/
LOCATION:California African American Museum\, 600 State Drive\, Los Angeles\, CA\, 90037\, United States
GEO:34.0159415;-118.2836283
X-APPLE-STRUCTURED-LOCATION;VALUE=URI;X-ADDRESS=California African American Museum 600 State Drive Los Angeles CA 90037 United States;X-APPLE-RADIUS=500;X-TITLE=600 State Drive:geo:-118.2836283,34.0159415
END:VEVENT
BEGIN:VEVENT
DTSTART;TZID=America/Los_Angeles:20200418T193000
DTEND;TZID=America/Los_Angeles:20200418T223000
DTSTAMP:20260420T182159
CREATED:20200108T205705Z
LAST-MODIFIED:20200320T205953Z
UID:10051613-1587238200-1587249000@expositionpark.ca.gov
SUMMARY:Postponed: LAFC vs Real Salt Lake
DESCRIPTION:MLS Regular Season Match
URL:https://expositionpark.ca.gov/event/lafc-vs-real-salt-lake-3/
LOCATION:Banc of California Stadium\, United States
GEO:37.09024;-95.712891
END:VEVENT
END:VCALENDAR