BEGIN:VCALENDAR
VERSION:2.0
PRODID:-//Exposition Park - ECPv6.15.20//NONSGML v1.0//EN
CALSCALE:GREGORIAN
METHOD:PUBLISH
X-ORIGINAL-URL:https://expositionpark.ca.gov
X-WR-CALDESC:Events for Exposition Park
REFRESH-INTERVAL;VALUE=DURATION:PT1H
X-Robots-Tag:noindex
X-PUBLISHED-TTL:PT1H
BEGIN:VTIMEZONE
TZID:America/Los_Angeles
BEGIN:DAYLIGHT
TZOFFSETFROM:-0800
TZOFFSETTO:-0700
TZNAME:PDT
DTSTART:20190310T100000
END:DAYLIGHT
BEGIN:STANDARD
TZOFFSETFROM:-0700
TZOFFSETTO:-0800
TZNAME:PST
DTSTART:20191103T090000
END:STANDARD
BEGIN:DAYLIGHT
TZOFFSETFROM:-0800
TZOFFSETTO:-0700
TZNAME:PDT
DTSTART:20200308T100000
END:DAYLIGHT
BEGIN:STANDARD
TZOFFSETFROM:-0700
TZOFFSETTO:-0800
TZNAME:PST
DTSTART:20201101T090000
END:STANDARD
BEGIN:DAYLIGHT
TZOFFSETFROM:-0800
TZOFFSETTO:-0700
TZNAME:PDT
DTSTART:20210314T100000
END:DAYLIGHT
BEGIN:STANDARD
TZOFFSETFROM:-0700
TZOFFSETTO:-0800
TZNAME:PST
DTSTART:20211107T090000
END:STANDARD
END:VTIMEZONE
BEGIN:VEVENT
DTSTART;TZID=America/Los_Angeles:20200504T090000
DTEND;TZID=America/Los_Angeles:20200731T150000
DTSTAMP:20260421T122241
CREATED:20200505T204629Z
LAST-MODIFIED:20200701T213251Z
UID:10053475-1588582800-1596207600@expositionpark.ca.gov
SUMMARY:COVID-19 Testing
DESCRIPTION:The California community-based program to test individuals for COVID-19\, in collaboration with the Baseline COVID-19 Program\, is now available in our community. This program is free and meant to reduce the burden on our hospital system and is complementary to testing happening in a clinical care situation. People with acute symptoms need acute triage and should not visit the sample collection sites\, as the sites are not prepared to provide medical care. \nIf you are in California and interested in getting tested for COVID-19\, complete an online screener (here) based on guidelines from public health officials and see if testing is available for you through this program at this time. The screener is dynamic and the criteria may change over time based on epidemiological data and government directives. For more detail into the screening and testing process\, please see this video. \nPlease note the following:\n\nTests are available for eligible individuals by appointment only.\nAppointments must be made online. No walk-ups.\nYou must arrive for your appointment in a vehicle.\n\n\nExamen de COVID-19 basada en la comunidad de California\nEl programa comunitario de California para evaluar individuos para COVID-19\, en colaboración con el programa Baseline COVID-19\, ahora está disponible en nuestra comunidad. Este programa es gratuito y ayuda a reducir la carga sobre nuestro sistema hospitalario y es complementario a las pruebas que se realizan en una situación de atención clínica. Las personas con síntomas agudos necesitan un triaje agudo y no deben visitar los sitios de recolección de muestras\, ya que los sitios no están preparados para brindar atención médica. \nSi está en California y está interesado en hacerse la prueba de COVID-19\, complete un examen en línea (aquí) basado en las guias de los funcionarios de salud pública y vea si las pruebas están disponibles para usted a través de este programa en este momento. El analizador es dinámico y los criterios pueden cambiar con el tiempo según los datos epidemiológicos y las directivas gubernamentales. \nTenga en cuenta lo siguiente:\n\nLas pruebas están disponibles para personas elegibles solo con cita previa.\nLas citas deben hacerse por medio del internet. No se aceptan sin cita.\nDebe llegar para su cita en un vehículo.
URL:https://expositionpark.ca.gov/event/covid-19-testing/
LOCATION:Green Lot (Formerly Lot 6)\, 3986 Hoover St\, Los Angeles\, CA\, 90037\, United States
END:VEVENT
BEGIN:VEVENT
DTSTART;TZID=America/Los_Angeles:20200622T080000
DTEND;TZID=America/Los_Angeles:20200731T170000
DTSTAMP:20260421T122241
CREATED:20190730T231321Z
LAST-MODIFIED:20200529T155526Z
UID:10051489-1592812800-1596214800@expositionpark.ca.gov
SUMMARY:Adventures in Nature Summer Camp - Virtual Platform
DESCRIPTION:This  summer\, join us for Adventures in Nature Summer Day Camp! Whether it’s becoming a dinosaur or engaging with nature in new ways\, NHM has dedicated three decades of hands-on experiences and behind-the-scenes tours to campers – giving them access to 4.5 billion years of life on Earth.  With so much adventure\, your child’s camp memories will surely last a lifetime!
URL:https://expositionpark.ca.gov/event/adventures-in-nature-summer-camp/
LOCATION:CA
ORGANIZER;CN="Christina Kastely":MAILTO:ckastely@nhm.org
END:VEVENT
BEGIN:VEVENT
DTSTART;TZID=America/Los_Angeles:20200627T100000
DTEND;TZID=America/Los_Angeles:20200627T120000
DTSTAMP:20260421T122241
CREATED:20200622T223419Z
LAST-MODIFIED:20200622T223419Z
UID:10051720-1593252000-1593259200@expositionpark.ca.gov
SUMMARY:Youth March
DESCRIPTION:March will start at Jefferson and McClintock and travel to the steps at CA African American Museum via Figueroa St.
URL:https://expositionpark.ca.gov/event/youth-march/
LOCATION:CA\, United States
END:VEVENT
BEGIN:VEVENT
DTSTART;TZID=America/Los_Angeles:20200627T140000
DTEND;TZID=America/Los_Angeles:20200627T153000
DTSTAMP:20260421T122241
CREATED:20200228T203228Z
LAST-MODIFIED:20200228T203228Z
UID:10051685-1593266400-1593271800@expositionpark.ca.gov
SUMMARY:CAAM Reads!
DESCRIPTION:Calling all book lovers! Our monthly book club continues with titles that complement our current exhibitions. In March\, we’ll cover Tanisha C. Ford’s Dressed in Dreams in conjunction with Cross Colours: Black Fashion in the 20th Century. April’s selection will be the highly praised Just Mercy by Bryan Stevenson celebrating the exhibition Men of Change: Power. Triumph. Truth. Sarah M. Broom’s National Book Award-winning memoir\, The Yellow House\, will be discussed in May to complement Sanctuary: Recent Acquisitions to the Permanent Collection. And in June we’ll cover Dahlma Llanos-Figueroa’s Daughters of the Stone\, a selection inspired by the exhibition Sula Bermúdez-Silverman: Neither Fish\, Flesh\, nor Fowl. View the ongoing exhibitions beforehand and come ready to share your thoughts.
URL:https://expositionpark.ca.gov/event/caam-reads-18/
LOCATION:California African American Museum\, 600 State Drive\, Los Angeles\, CA\, 90037\, United States
GEO:34.0159415;-118.2836283
X-APPLE-STRUCTURED-LOCATION;VALUE=URI;X-ADDRESS=California African American Museum 600 State Drive Los Angeles CA 90037 United States;X-APPLE-RADIUS=500;X-TITLE=600 State Drive:geo:-118.2836283,34.0159415
END:VEVENT
BEGIN:VEVENT
DTSTART;TZID=America/Los_Angeles:20200627T160000
DTEND;TZID=America/Los_Angeles:20200627T190000
DTSTAMP:20260421T122241
CREATED:20200615T220519Z
LAST-MODIFIED:20200615T220519Z
UID:10051715-1593273600-1593284400@expositionpark.ca.gov
SUMMARY:LAFC Ford Care Kit Pick-Up
DESCRIPTION:To take place in the Gold Lot
URL:https://expositionpark.ca.gov/event/lafc-ford-care-kit-pick-up/
LOCATION:Banc of California Stadium\, 3939 S Figueroa Street\, Los Angeles\, CA\, 90037\, United States
ORGANIZER;CN="Marcela Munoz":MAILTO:marcela.munoz@lafc.com
END:VEVENT
BEGIN:VEVENT
DTSTART;TZID=America/Los_Angeles:20200627T205500
DTEND;TZID=America/Los_Angeles:20200627T235500
DTSTAMP:20260421T122241
CREATED:20200108T205844Z
LAST-MODIFIED:20200610T161439Z
UID:10051623-1593291300-1593302100@expositionpark.ca.gov
SUMMARY:LAFC vs Nashville SC - Postponed
DESCRIPTION:MLS Regular Season Match
URL:https://expositionpark.ca.gov/event/lafc-vs-nashville-sc/
LOCATION:Banc of California Stadium\, United States
GEO:37.09024;-95.712891
END:VEVENT
END:VCALENDAR