BEGIN:VCALENDAR
VERSION:2.0
PRODID:-//Exposition Park - ECPv6.15.20//NONSGML v1.0//EN
CALSCALE:GREGORIAN
METHOD:PUBLISH
X-WR-CALNAME:Exposition Park
X-ORIGINAL-URL:https://expositionpark.ca.gov
X-WR-CALDESC:Events for Exposition Park
REFRESH-INTERVAL;VALUE=DURATION:PT1H
X-Robots-Tag:noindex
X-PUBLISHED-TTL:PT1H
BEGIN:VTIMEZONE
TZID:America/Los_Angeles
BEGIN:DAYLIGHT
TZOFFSETFROM:-0800
TZOFFSETTO:-0700
TZNAME:PDT
DTSTART:20200308T100000
END:DAYLIGHT
BEGIN:STANDARD
TZOFFSETFROM:-0700
TZOFFSETTO:-0800
TZNAME:PST
DTSTART:20201101T090000
END:STANDARD
BEGIN:DAYLIGHT
TZOFFSETFROM:-0800
TZOFFSETTO:-0700
TZNAME:PDT
DTSTART:20210314T100000
END:DAYLIGHT
BEGIN:STANDARD
TZOFFSETFROM:-0700
TZOFFSETTO:-0800
TZNAME:PST
DTSTART:20211107T090000
END:STANDARD
BEGIN:DAYLIGHT
TZOFFSETFROM:-0800
TZOFFSETTO:-0700
TZNAME:PDT
DTSTART:20220313T100000
END:DAYLIGHT
BEGIN:STANDARD
TZOFFSETFROM:-0700
TZOFFSETTO:-0800
TZNAME:PST
DTSTART:20221106T090000
END:STANDARD
END:VTIMEZONE
BEGIN:VEVENT
DTSTART;TZID=America/Los_Angeles:20211018T080000
DTEND;TZID=America/Los_Angeles:20211219T170000
DTSTAMP:20260420T221719
CREATED:20211026T200650Z
LAST-MODIFIED:20211026T200650Z
UID:10052208-1634544000-1639933200@expositionpark.ca.gov
SUMMARY:Vermont Sports Soccer League
DESCRIPTION:
URL:https://expositionpark.ca.gov/event/vermont-sports-soccer-league/
LOCATION:Soboroff Playfield\, 3980 S. Bill Robertson Lane\, Los Angeles\, CA\, 90037\, United States
END:VEVENT
BEGIN:VEVENT
DTSTART;VALUE=DATE:20211112
DTEND;VALUE=DATE:20211115
DTSTAMP:20260420T221719
CREATED:20210715T221833Z
LAST-MODIFIED:20210715T221833Z
UID:10052068-1636675200-1636934399@expositionpark.ca.gov
SUMMARY:Rufus Du Sol
DESCRIPTION:https://www.bancofcaliforniastadium.com/events/
URL:https://expositionpark.ca.gov/event/rufus-du-sol/
LOCATION:Banc of California Stadium\, United States
GEO:37.09024;-95.712891
END:VEVENT
BEGIN:VEVENT
DTSTART;TZID=America/Los_Angeles:20211113T200000
DTEND;TZID=America/Los_Angeles:20211114T010000
DTSTAMP:20260420T221719
CREATED:20211101T155554Z
LAST-MODIFIED:20211101T155554Z
UID:10053896-1636833600-1636851600@expositionpark.ca.gov
SUMMARY:Private Event
DESCRIPTION:
URL:https://expositionpark.ca.gov/event/private-event-277/
LOCATION:EXPO Center/ Senior  Ballroom\, 3990 Bill Robertson Lane\, Los Angeles\, CA\, 90037\, United States
END:VEVENT
BEGIN:VEVENT
DTSTART;TZID=America/Los_Angeles:20211114T080000
DTEND;TZID=America/Los_Angeles:20211114T110000
DTSTAMP:20260420T221719
CREATED:20210920T210822Z
LAST-MODIFIED:20211022T002332Z
UID:10052178-1636876800-1636887600@expositionpark.ca.gov
SUMMARY:Didi Hirsch Mental Health Services - Charity Walk
DESCRIPTION:Charity Walk and Festival/Expo for families and survivors of suicide. \nFood trucks\, speakers and music. \nLoad-In:  Saturday\, Nov 13\, 2021 at 2pm \nWalk:  Sunday\, November 14\, 2021 from 8am to 11am \nLoad-Out: Sunday\, November 14\, 2021 at 2pm
URL:https://expositionpark.ca.gov/event/didi-hirsch-mental-health-services-charity-walk/
LOCATION:South Lawn East\, CA\, United States
END:VEVENT
BEGIN:VEVENT
DTSTART;TZID=America/Los_Angeles:20211114T080000
DTEND;TZID=America/Los_Angeles:20211114T170000
DTSTAMP:20260420T221719
CREATED:20170215T230650Z
LAST-MODIFIED:20170215T230650Z
UID:10047281-1636876800-1636909200@expositionpark.ca.gov
SUMMARY:Vermont Sports Club
DESCRIPTION:
URL:https://expositionpark.ca.gov/event/vermont-sports-club-9/2021-11-14/
LOCATION:EXPO Center\, 3980 Bill Robertson Lane\, Los Angeles\, CA\, 90037\, United States
GEO:34.0121136;-118.2900829
X-APPLE-STRUCTURED-LOCATION;VALUE=URI;X-ADDRESS=EXPO Center 3980 Bill Robertson Lane Los Angeles CA 90037 United States;X-APPLE-RADIUS=500;X-TITLE=3980 Bill Robertson Lane:geo:-118.2900829,34.0121136
END:VEVENT
BEGIN:VEVENT
DTSTART;TZID=America/Los_Angeles:20211114T143000
DTEND;TZID=America/Los_Angeles:20211114T235900
DTSTAMP:20260420T221719
CREATED:20211111T030352Z
LAST-MODIFIED:20211111T030352Z
UID:10052220-1636900200-1636934340@expositionpark.ca.gov
SUMMARY:BOCS Road Closure
DESCRIPTION:Road closure for pedestrian safety for Rufus du Sol concert.
URL:https://expositionpark.ca.gov/event/bocs-road-closure-9/2021-11-14/
LOCATION:S Coliseum Drive\, CA\, United States
END:VEVENT
BEGIN:VEVENT
DTSTART;TZID=America/Los_Angeles:20211114T183000
DTEND;TZID=America/Los_Angeles:20211114T235900
DTSTAMP:20260420T221719
CREATED:20211110T013333Z
LAST-MODIFIED:20211110T013333Z
UID:10053908-1636914600-1636934340@expositionpark.ca.gov
SUMMARY:Art Installation
DESCRIPTION:Art installation for the Rufus du Sol show dates
URL:https://expositionpark.ca.gov/event/art-installation/2021-11-14/
LOCATION:Christmas Tree Lane East\, CA\, United States
END:VEVENT
END:VCALENDAR