BEGIN:VCALENDAR
VERSION:2.0
PRODID:-//Exposition Park - ECPv6.15.20//NONSGML v1.0//EN
CALSCALE:GREGORIAN
METHOD:PUBLISH
X-WR-CALNAME:Exposition Park
X-ORIGINAL-URL:https://expositionpark.ca.gov
X-WR-CALDESC:Events for Exposition Park
REFRESH-INTERVAL;VALUE=DURATION:PT1H
X-Robots-Tag:noindex
X-PUBLISHED-TTL:PT1H
BEGIN:VTIMEZONE
TZID:America/Los_Angeles
BEGIN:DAYLIGHT
TZOFFSETFROM:-0800
TZOFFSETTO:-0700
TZNAME:PDT
DTSTART:20210314T100000
END:DAYLIGHT
BEGIN:STANDARD
TZOFFSETFROM:-0700
TZOFFSETTO:-0800
TZNAME:PST
DTSTART:20211107T090000
END:STANDARD
BEGIN:DAYLIGHT
TZOFFSETFROM:-0800
TZOFFSETTO:-0700
TZNAME:PDT
DTSTART:20220313T100000
END:DAYLIGHT
BEGIN:STANDARD
TZOFFSETFROM:-0700
TZOFFSETTO:-0800
TZNAME:PST
DTSTART:20221106T090000
END:STANDARD
BEGIN:DAYLIGHT
TZOFFSETFROM:-0800
TZOFFSETTO:-0700
TZNAME:PDT
DTSTART:20230312T100000
END:DAYLIGHT
BEGIN:STANDARD
TZOFFSETFROM:-0700
TZOFFSETTO:-0800
TZNAME:PST
DTSTART:20231105T090000
END:STANDARD
END:VTIMEZONE
BEGIN:VEVENT
DTSTART;TZID=America/Los_Angeles:20221106T080000
DTEND;TZID=America/Los_Angeles:20221106T170000
DTSTAMP:20260424T011028
CREATED:20170215T230650Z
LAST-MODIFIED:20170215T230650Z
UID:10047332-1667721600-1667754000@expositionpark.ca.gov
SUMMARY:Vermont Sports Club
DESCRIPTION:
URL:https://expositionpark.ca.gov/event/vermont-sports-club-9/2022-11-06/
LOCATION:EXPO Center\, 3980 Bill Robertson Lane\, Los Angeles\, CA\, 90037\, United States
GEO:34.0121136;-118.2900829
X-APPLE-STRUCTURED-LOCATION;VALUE=URI;X-ADDRESS=EXPO Center 3980 Bill Robertson Lane Los Angeles CA 90037 United States;X-APPLE-RADIUS=500;X-TITLE=3980 Bill Robertson Lane:geo:-118.2900829,34.0121136
END:VEVENT
BEGIN:VEVENT
DTSTART;TZID=America/Los_Angeles:20221106T090000
DTEND;TZID=America/Los_Angeles:20221106T123000
DTSTAMP:20260424T011028
CREATED:20220812T182604Z
LAST-MODIFIED:20221101T184503Z
UID:10054218-1667725200-1667737800@expositionpark.ca.gov
SUMMARY:ALS Association Golden West Chapter - Walk to Defeat ALS
DESCRIPTION:The Walk to Defeat ALS is an opportunity to bring hope to people impacted by ALS\, to raise funds for treatments and cures\, and to come together in support of the ALS community. \n  \nThis event is free and open to everyone.  Walk Day activities:  ALS Resource Fair\, Kids Zone\, and Festival Zone. \nLoad-In:  Saturday\, November 5th @ TBD (after USC game)\nEvent:  Sunday\, November 6th: 9am to 12:30pm – Walk starts at 11am\nLoad-Out:  Sunday\, November 6th at 3:00pm
URL:https://expositionpark.ca.gov/event/als-association-golden-west-chapter-walk-to-defeat-als/
LOCATION:South Lawn East
END:VEVENT
END:VCALENDAR