BEGIN:VCALENDAR
VERSION:2.0
PRODID:-//Exposition Park - ECPv6.15.20//NONSGML v1.0//EN
CALSCALE:GREGORIAN
METHOD:PUBLISH
X-WR-CALNAME:Exposition Park
X-ORIGINAL-URL:https://expositionpark.ca.gov
X-WR-CALDESC:Events for Exposition Park
REFRESH-INTERVAL;VALUE=DURATION:PT1H
X-Robots-Tag:noindex
X-PUBLISHED-TTL:PT1H
BEGIN:VTIMEZONE
TZID:America/Los_Angeles
BEGIN:DAYLIGHT
TZOFFSETFROM:-0800
TZOFFSETTO:-0700
TZNAME:PDT
DTSTART:20220313T100000
END:DAYLIGHT
BEGIN:STANDARD
TZOFFSETFROM:-0700
TZOFFSETTO:-0800
TZNAME:PST
DTSTART:20221106T090000
END:STANDARD
BEGIN:DAYLIGHT
TZOFFSETFROM:-0800
TZOFFSETTO:-0700
TZNAME:PDT
DTSTART:20230312T100000
END:DAYLIGHT
BEGIN:STANDARD
TZOFFSETFROM:-0700
TZOFFSETTO:-0800
TZNAME:PST
DTSTART:20231105T090000
END:STANDARD
BEGIN:DAYLIGHT
TZOFFSETFROM:-0800
TZOFFSETTO:-0700
TZNAME:PDT
DTSTART:20240310T100000
END:DAYLIGHT
BEGIN:STANDARD
TZOFFSETFROM:-0700
TZOFFSETTO:-0800
TZNAME:PST
DTSTART:20241103T090000
END:STANDARD
END:VTIMEZONE
BEGIN:VEVENT
DTSTART;TZID=America/Los_Angeles:20230929T070000
DTEND;TZID=America/Los_Angeles:20230929T180000
DTSTAMP:20260422T092916
CREATED:20230127T013330Z
LAST-MODIFIED:20230127T013330Z
UID:10054420-1695970800-1696010400@expositionpark.ca.gov
SUMMARY:Private Event
DESCRIPTION:
URL:https://expositionpark.ca.gov/event/private-event-483/
LOCATION:Los Angeles Memorial Coliseum\, 3911 S. Figueroa Street\, Los Angeles\, CA\, 90037\, United States
GEO:34.0128523;-118.2845395
X-APPLE-STRUCTURED-LOCATION;VALUE=URI;X-ADDRESS=Los Angeles Memorial Coliseum 3911 S. Figueroa Street Los Angeles CA 90037 United States;X-APPLE-RADIUS=500;X-TITLE=3911 S. Figueroa Street:geo:-118.2845395,34.0128523
END:VEVENT
BEGIN:VEVENT
DTSTART;TZID=America/Los_Angeles:20230929T070000
DTEND;TZID=America/Los_Angeles:20230929T180000
DTSTAMP:20260422T092916
CREATED:20230202T223945Z
LAST-MODIFIED:20230202T223945Z
UID:10052736-1695970800-1696010400@expositionpark.ca.gov
SUMMARY:Private Event
DESCRIPTION:
URL:https://expositionpark.ca.gov/event/private-event-485/
LOCATION:Los Angeles Memorial Coliseum\, 3911 S. Figueroa Street\, Los Angeles\, CA\, 90037\, United States
GEO:34.0128523;-118.2845395
X-APPLE-STRUCTURED-LOCATION;VALUE=URI;X-ADDRESS=Los Angeles Memorial Coliseum 3911 S. Figueroa Street Los Angeles CA 90037 United States;X-APPLE-RADIUS=500;X-TITLE=3911 S. Figueroa Street:geo:-118.2845395,34.0128523
END:VEVENT
BEGIN:VEVENT
DTSTART;TZID=America/Los_Angeles:20230929T080000
DTEND;TZID=America/Los_Angeles:20230929T170000
DTSTAMP:20260422T092916
CREATED:20170215T230439Z
LAST-MODIFIED:20170215T230439Z
UID:10046947-1695974400-1696006800@expositionpark.ca.gov
SUMMARY:San Pedro Soccer League
DESCRIPTION:
URL:https://expositionpark.ca.gov/event/san-pedro-soccer-league-3/2023-09-29/
LOCATION:EXPO Center\, 3980 Bill Robertson Lane\, Los Angeles\, CA\, 90037\, United States
GEO:34.0121136;-118.2900829
X-APPLE-STRUCTURED-LOCATION;VALUE=URI;X-ADDRESS=EXPO Center 3980 Bill Robertson Lane Los Angeles CA 90037 United States;X-APPLE-RADIUS=500;X-TITLE=3980 Bill Robertson Lane:geo:-118.2900829,34.0121136
END:VEVENT
BEGIN:VEVENT
DTSTART;TZID=America/Los_Angeles:20230929T090000
DTEND;TZID=America/Los_Angeles:20230929T160000
DTSTAMP:20260422T092916
CREATED:20230814T223654Z
LAST-MODIFIED:20230814T223654Z
UID:10054697-1695978000-1696003200@expositionpark.ca.gov
SUMMARY:Private Meeting
DESCRIPTION:
URL:https://expositionpark.ca.gov/event/private-meeting-12/
LOCATION:WAB-Muses Room\, 700 Expo Park Drive\, LA\, CA\, 90037\, United States
GEO:34.0157877;-118.2862095
X-APPLE-STRUCTURED-LOCATION;VALUE=URI;X-ADDRESS=WAB-Muses Room 700 Expo Park Drive LA CA 90037 United States;X-APPLE-RADIUS=500;X-TITLE=700 Expo Park Drive:geo:-118.2862095,34.0157877
END:VEVENT
BEGIN:VEVENT
DTSTART;TZID=America/Los_Angeles:20230929T170000
DTEND;TZID=America/Los_Angeles:20230929T230000
DTSTAMP:20260422T092916
CREATED:20230511T191816Z
LAST-MODIFIED:20230511T191816Z
UID:10052861-1696006800-1696028400@expositionpark.ca.gov
SUMMARY:Motionless In White: The Touring The End Of The World Tour
DESCRIPTION:HEADLINER: \nMotionless In White \n  \nSUPPORT: \nKnocked Loose \nAfter The Burial \nAlpha Wolf
URL:https://expositionpark.ca.gov/event/motionless-in-white-the-touring-the-end-of-the-world-tour/
LOCATION:The Torch at Los Angeles Memorial Coliseum\, 3911 Figueroa St\,\, LOS ANGELES\, CA\, 90037\, United States
END:VEVENT
BEGIN:VEVENT
DTSTART;TZID=America/Los_Angeles:20230929T180000
DTEND;TZID=America/Los_Angeles:20230929T210000
DTSTAMP:20260422T092916
CREATED:20170214T222616Z
LAST-MODIFIED:20170214T222616Z
UID:10049455-1696010400-1696021200@expositionpark.ca.gov
SUMMARY:EXPO Soccer Clinic
DESCRIPTION:
URL:https://expositionpark.ca.gov/event/expo-soccer-clinic/2023-09-29/
LOCATION:EXPO Center\, 3980 Bill Robertson Lane\, Los Angeles\, CA\, 90037\, United States
GEO:34.0121136;-118.2900829
X-APPLE-STRUCTURED-LOCATION;VALUE=URI;X-ADDRESS=EXPO Center 3980 Bill Robertson Lane Los Angeles CA 90037 United States;X-APPLE-RADIUS=500;X-TITLE=3980 Bill Robertson Lane:geo:-118.2900829,34.0121136
END:VEVENT
BEGIN:VEVENT
DTSTART;TZID=America/Los_Angeles:20230929T180000
DTEND;TZID=America/Los_Angeles:20230929T220000
DTSTAMP:20260422T092916
CREATED:20230724T181927Z
LAST-MODIFIED:20230724T181927Z
UID:10052896-1696010400-1696024800@expositionpark.ca.gov
SUMMARY:Boney Island
DESCRIPTION:Boney Island evening programming at the Natural History Museum of Los Angeles County.
URL:https://expositionpark.ca.gov/event/boney-island/2023-09-29/
LOCATION:Natural History Museum of Los Angeles County\, 900 Exposition Blvd.\, Los Angeles\, CA\, 90007\, United States
ORGANIZER;CN="Laurel Robinson":MAILTO:aalarcon@nhm.org
GEO:34.0170769;-118.2886818
X-APPLE-STRUCTURED-LOCATION;VALUE=URI;X-ADDRESS=Natural History Museum of Los Angeles County 900 Exposition Blvd. Los Angeles CA 90007 United States;X-APPLE-RADIUS=500;X-TITLE=900 Exposition Blvd.:geo:-118.2886818,34.0170769
END:VEVENT
END:VCALENDAR