BEGIN:VCALENDAR
VERSION:2.0
PRODID:-//Exposition Park - ECPv6.15.20//NONSGML v1.0//EN
CALSCALE:GREGORIAN
METHOD:PUBLISH
X-WR-CALNAME:Exposition Park
X-ORIGINAL-URL:https://expositionpark.ca.gov
X-WR-CALDESC:Events for Exposition Park
REFRESH-INTERVAL;VALUE=DURATION:PT1H
X-Robots-Tag:noindex
X-PUBLISHED-TTL:PT1H
BEGIN:VTIMEZONE
TZID:America/Los_Angeles
BEGIN:DAYLIGHT
TZOFFSETFROM:-0800
TZOFFSETTO:-0700
TZNAME:PDT
DTSTART:20230312T100000
END:DAYLIGHT
BEGIN:STANDARD
TZOFFSETFROM:-0700
TZOFFSETTO:-0800
TZNAME:PST
DTSTART:20231105T090000
END:STANDARD
BEGIN:DAYLIGHT
TZOFFSETFROM:-0800
TZOFFSETTO:-0700
TZNAME:PDT
DTSTART:20240310T100000
END:DAYLIGHT
BEGIN:STANDARD
TZOFFSETFROM:-0700
TZOFFSETTO:-0800
TZNAME:PST
DTSTART:20241103T090000
END:STANDARD
BEGIN:DAYLIGHT
TZOFFSETFROM:-0800
TZOFFSETTO:-0700
TZNAME:PDT
DTSTART:20250309T100000
END:DAYLIGHT
BEGIN:STANDARD
TZOFFSETFROM:-0700
TZOFFSETTO:-0800
TZNAME:PST
DTSTART:20251102T090000
END:STANDARD
END:VTIMEZONE
BEGIN:VEVENT
DTSTART;TZID=America/Los_Angeles:20240921T090000
DTEND;TZID=America/Los_Angeles:20240921T170000
DTSTAMP:20260421T135528
CREATED:20240620T215435Z
LAST-MODIFIED:20240620T215436Z
UID:10055043-1726909200-1726938000@expositionpark.ca.gov
SUMMARY:Significant Museum Event - Dino Fest 2024
DESCRIPTION:Join us for a festival celebrating dinosaurs\, their prehistoric past\, and the science that brings their world back to life.
URL:https://expositionpark.ca.gov/event/significant-museum-event-dino-fest-2024/
LOCATION:Natural History Museum of Los Angeles County\, 900 Exposition Blvd.\, Los Angeles\, CA\, 90007\, United States
ORGANIZER;CN="Rocio Santoyo":MAILTO:rsantoyo@nhm.org
GEO:34.0170769;-118.2886818
X-APPLE-STRUCTURED-LOCATION;VALUE=URI;X-ADDRESS=Natural History Museum of Los Angeles County 900 Exposition Blvd. Los Angeles CA 90007 United States;X-APPLE-RADIUS=500;X-TITLE=900 Exposition Blvd.:geo:-118.2886818,34.0170769
END:VEVENT
BEGIN:VEVENT
DTSTART;TZID=America/Los_Angeles:20240921T160000
DTEND;TZID=America/Los_Angeles:20240921T190000
DTSTAMP:20260421T135528
CREATED:20240909T165728Z
LAST-MODIFIED:20240909T165728Z
UID:10055181-1726934400-1726945200@expositionpark.ca.gov
SUMMARY:Private Event
DESCRIPTION:
URL:https://expositionpark.ca.gov/event/private-event-667/
LOCATION:EXPO Center Rose Garden
END:VEVENT
BEGIN:VEVENT
DTSTART;TZID=America/Los_Angeles:20240921T170000
DTEND;TZID=America/Los_Angeles:20240921T230000
DTSTAMP:20260421T135528
CREATED:20240725T182643Z
LAST-MODIFIED:20240725T182643Z
UID:10055082-1726938000-1726959600@expositionpark.ca.gov
SUMMARY:Timmy Trumpet - Torch Show
DESCRIPTION:Insomniac presents Timmy Trumpet’s FREAKSHOW LA at The Torch at the LA Coliseum on Saturday\, September 21\, 2024. \nAll tickets for this show are General Admission Standing Room only. Ages 18+. \nARTIST LINEUP\nTimmy Trumpet\nSub Zero Project\nBlastoyz\nRestricted
URL:https://expositionpark.ca.gov/event/timmy-trumpet-torch-show/
LOCATION:The Torch at Los Angeles Memorial Coliseum\, 3911 Figueroa St\,\, LOS ANGELES\, CA\, 90037\, United States
END:VEVENT
BEGIN:VEVENT
DTSTART;TZID=America/Los_Angeles:20240921T170000
DTEND;TZID=America/Los_Angeles:20240921T235900
DTSTAMP:20260421T135528
CREATED:20240821T224147Z
LAST-MODIFIED:20240821T224147Z
UID:10055146-1726938000-1726963140@expositionpark.ca.gov
SUMMARY:LAMC - Ride Share Activation
DESCRIPTION:Ride Share Activation for Torch Show – Timmy Trumpets Freak Show \n50 Spaces
URL:https://expositionpark.ca.gov/event/lamc-ride-share-activation-7/
LOCATION:Green Lot – West End
END:VEVENT
END:VCALENDAR