BEGIN:VCALENDAR
VERSION:2.0
PRODID:-//Exposition Park - ECPv6.15.20//NONSGML v1.0//EN
CALSCALE:GREGORIAN
METHOD:PUBLISH
X-ORIGINAL-URL:https://expositionpark.ca.gov
X-WR-CALDESC:Events for Exposition Park
REFRESH-INTERVAL;VALUE=DURATION:PT1H
X-Robots-Tag:noindex
X-PUBLISHED-TTL:PT1H
BEGIN:VTIMEZONE
TZID:America/Los_Angeles
BEGIN:DAYLIGHT
TZOFFSETFROM:-0800
TZOFFSETTO:-0700
TZNAME:PDT
DTSTART:20230312T100000
END:DAYLIGHT
BEGIN:STANDARD
TZOFFSETFROM:-0700
TZOFFSETTO:-0800
TZNAME:PST
DTSTART:20231105T090000
END:STANDARD
BEGIN:DAYLIGHT
TZOFFSETFROM:-0800
TZOFFSETTO:-0700
TZNAME:PDT
DTSTART:20240310T100000
END:DAYLIGHT
BEGIN:STANDARD
TZOFFSETFROM:-0700
TZOFFSETTO:-0800
TZNAME:PST
DTSTART:20241103T090000
END:STANDARD
BEGIN:DAYLIGHT
TZOFFSETFROM:-0800
TZOFFSETTO:-0700
TZNAME:PDT
DTSTART:20250309T100000
END:DAYLIGHT
BEGIN:STANDARD
TZOFFSETFROM:-0700
TZOFFSETTO:-0800
TZNAME:PST
DTSTART:20251102T090000
END:STANDARD
END:VTIMEZONE
BEGIN:VEVENT
DTSTART;TZID=America/Los_Angeles:20241103T000000
DTEND;TZID=America/Los_Angeles:20241103T235900
DTSTAMP:20260419T131220
CREATED:20241023T234133Z
LAST-MODIFIED:20241023T234133Z
UID:10055228-1730592000-1730678340@expositionpark.ca.gov
SUMMARY:BMO - KAYTRANADA - Rideshare
DESCRIPTION:Green Lot – West End – 200 Spaces \nSunday\, November 3\, 2024 – 12am to 11:59pm
URL:https://expositionpark.ca.gov/event/bmo-kaytranada-rideshare/
LOCATION:Green Lot – West End
END:VEVENT
BEGIN:VEVENT
DTSTART;VALUE=DATE:20241103
DTEND;VALUE=DATE:20241104
DTSTAMP:20260419T131220
CREATED:20240807T225752Z
LAST-MODIFIED:20250626T223405Z
UID:10055119-1730592000-1730678399@expositionpark.ca.gov
SUMMARY:KAYTRANADA
DESCRIPTION:More info HERE \nPurchase tickets HERE \nPre-purchase parking HERE
URL:https://expositionpark.ca.gov/event/kaytranada/
LOCATION:BMO Stadium\, 3939 S Figueroa St\, Los Angeles\, CA\, 90037\, United States
CATEGORIES:BMO Concert,Concert
END:VEVENT
BEGIN:VEVENT
DTSTART;TZID=America/Los_Angeles:20241103T080000
DTEND;TZID=America/Los_Angeles:20241103T170000
DTSTAMP:20260419T131220
CREATED:20170215T230650Z
LAST-MODIFIED:20170215T230650Z
UID:10047436-1730620800-1730653200@expositionpark.ca.gov
SUMMARY:Vermont Sports Club
DESCRIPTION:
URL:https://expositionpark.ca.gov/event/vermont-sports-club-9/2024-11-03/
LOCATION:EXPO Center\, 3980 Bill Robertson Lane\, Los Angeles\, CA\, 90037\, United States
GEO:34.0121136;-118.2900829
X-APPLE-STRUCTURED-LOCATION;VALUE=URI;X-ADDRESS=EXPO Center 3980 Bill Robertson Lane Los Angeles CA 90037 United States;X-APPLE-RADIUS=500;X-TITLE=3980 Bill Robertson Lane:geo:-118.2900829,34.0121136
END:VEVENT
BEGIN:VEVENT
DTSTART;TZID=America/Los_Angeles:20241103T110000
DTEND;TZID=America/Los_Angeles:20241103T150000
DTSTAMP:20260419T131220
CREATED:20241009T204035Z
LAST-MODIFIED:20241009T204035Z
UID:10055206-1730631600-1730646000@expositionpark.ca.gov
SUMMARY:Welcome Day: Día de los Muertos
DESCRIPTION:Join us as we honor the customs and heritage around Día de los Muertos (Day of the Dead)\, a cultural tradition observed in Mexico and throughout Latin America to remember and celebrate the lives of departed loved ones. Enjoy live music\, participate in hands-on art activities\, get an up-close look at NHM’s interpretive ofrenda (altar) for commemorating the dead\, and more. Come together as a community and take part in this celebration of life!
URL:https://expositionpark.ca.gov/event/welcome-day-dia-de-los-muertos-2/
LOCATION:Natural History Museum of Los Angeles County\, 900 Exposition Blvd.\, Los Angeles\, CA\, 90007\, United States
ORGANIZER;CN="Rocio Santoyo":MAILTO:rsantoyo@nhm.org
GEO:34.0170769;-118.2886818
X-APPLE-STRUCTURED-LOCATION;VALUE=URI;X-ADDRESS=Natural History Museum of Los Angeles County 900 Exposition Blvd. Los Angeles CA 90007 United States;X-APPLE-RADIUS=500;X-TITLE=900 Exposition Blvd.:geo:-118.2886818,34.0170769
END:VEVENT
END:VCALENDAR