BEGIN:VCALENDAR
VERSION:2.0
PRODID:-//Exposition Park - ECPv6.15.20//NONSGML v1.0//EN
CALSCALE:GREGORIAN
METHOD:PUBLISH
X-WR-CALNAME:Exposition Park
X-ORIGINAL-URL:https://expositionpark.ca.gov
X-WR-CALDESC:Events for Exposition Park
REFRESH-INTERVAL;VALUE=DURATION:PT1H
X-Robots-Tag:noindex
X-PUBLISHED-TTL:PT1H
BEGIN:VTIMEZONE
TZID:America/Los_Angeles
BEGIN:DAYLIGHT
TZOFFSETFROM:-0800
TZOFFSETTO:-0700
TZNAME:PDT
DTSTART:20240310T100000
END:DAYLIGHT
BEGIN:STANDARD
TZOFFSETFROM:-0700
TZOFFSETTO:-0800
TZNAME:PST
DTSTART:20241103T090000
END:STANDARD
BEGIN:DAYLIGHT
TZOFFSETFROM:-0800
TZOFFSETTO:-0700
TZNAME:PDT
DTSTART:20250309T100000
END:DAYLIGHT
BEGIN:STANDARD
TZOFFSETFROM:-0700
TZOFFSETTO:-0800
TZNAME:PST
DTSTART:20251102T090000
END:STANDARD
BEGIN:DAYLIGHT
TZOFFSETFROM:-0800
TZOFFSETTO:-0700
TZNAME:PDT
DTSTART:20260308T100000
END:DAYLIGHT
BEGIN:STANDARD
TZOFFSETFROM:-0700
TZOFFSETTO:-0800
TZNAME:PST
DTSTART:20261101T090000
END:STANDARD
END:VTIMEZONE
BEGIN:VEVENT
DTSTART;VALUE=DATE:20250402
DTEND;VALUE=DATE:20250403
DTSTAMP:20260423T073812
CREATED:20250317T174929Z
LAST-MODIFIED:20250626T223813Z
UID:10053699-1743552000-1743638399@expositionpark.ca.gov
SUMMARY:LAFC vs Miami FC CONCACAF Champions Cup - Quarterfinals
DESCRIPTION:This is a CONCACAF Champions Cup match. \nDoors: 5:30 PM \nKickoff: 8:30 PM \nMore information HERE \nPurchase tickets HERE \nPre-purchase parking HERE
URL:https://expositionpark.ca.gov/event/lafc-vs-miami-fc-concacaf-champions-cup-quarterfinals/
LOCATION:BMO Stadium\, 3939 S Figueroa St\, Los Angeles\, CA\, 90037\, United States
END:VEVENT
BEGIN:VEVENT
DTSTART;TZID=America/Los_Angeles:20250402T080000
DTEND;TZID=America/Los_Angeles:20250402T170000
DTSTAMP:20260423T073812
CREATED:20170215T230401Z
LAST-MODIFIED:20170215T230401Z
UID:10046595-1743580800-1743613200@expositionpark.ca.gov
SUMMARY:New Star
DESCRIPTION:
URL:https://expositionpark.ca.gov/event/new-star/2025-04-02/
LOCATION:EXPO Center\, 3980 Bill Robertson Lane\, Los Angeles\, CA\, 90037\, United States
GEO:34.0121136;-118.2900829
X-APPLE-STRUCTURED-LOCATION;VALUE=URI;X-ADDRESS=EXPO Center 3980 Bill Robertson Lane Los Angeles CA 90037 United States;X-APPLE-RADIUS=500;X-TITLE=3980 Bill Robertson Lane:geo:-118.2900829,34.0121136
END:VEVENT
BEGIN:VEVENT
DTSTART;TZID=America/Los_Angeles:20250402T080000
DTEND;TZID=America/Los_Angeles:20250402T235900
DTSTAMP:20260423T073812
CREATED:20250325T233749Z
LAST-MODIFIED:20250626T222312Z
UID:10053718-1743580800-1743638340@expositionpark.ca.gov
SUMMARY:LAFC vs. Miami FC - CONCACAF Champions Cup - Quarterfinals - Road Closure & Family Picnic
DESCRIPTION:S. Coliseum Drive – Road Closure: 8am to 11:59pm \n  \n 
URL:https://expositionpark.ca.gov/event/lafc-vs-miami-fc-concacaf-champions-cup-quarterfinals-road-closure-family-picnic/
LOCATION:S. Coliseum Drive & CTL East
CATEGORIES:Family Picnic,LAFC Family Picnic,Road Closure,S Coliseum Dr Road Closure
END:VEVENT
BEGIN:VEVENT
DTSTART;TZID=America/Los_Angeles:20250402T180000
DTEND;TZID=America/Los_Angeles:20250402T210000
DTSTAMP:20260423T073812
CREATED:20170214T222616Z
LAST-MODIFIED:20170214T222616Z
UID:10049691-1743616800-1743627600@expositionpark.ca.gov
SUMMARY:EXPO Soccer Clinic
DESCRIPTION:
URL:https://expositionpark.ca.gov/event/expo-soccer-clinic/2025-04-02/
LOCATION:EXPO Center\, 3980 Bill Robertson Lane\, Los Angeles\, CA\, 90037\, United States
GEO:34.0121136;-118.2900829
X-APPLE-STRUCTURED-LOCATION;VALUE=URI;X-ADDRESS=EXPO Center 3980 Bill Robertson Lane Los Angeles CA 90037 United States;X-APPLE-RADIUS=500;X-TITLE=3980 Bill Robertson Lane:geo:-118.2900829,34.0121136
END:VEVENT
BEGIN:VEVENT
DTSTART;TZID=America/Los_Angeles:20250402T200000
DTEND;TZID=America/Los_Angeles:20250403T010000
DTSTAMP:20260423T073812
CREATED:20250326T171733Z
LAST-MODIFIED:20250326T171733Z
UID:10053724-1743624000-1743642000@expositionpark.ca.gov
SUMMARY:NHM Private Event
DESCRIPTION:
URL:https://expositionpark.ca.gov/event/nhm-private-event-2/
LOCATION:Natural History Museum of Los Angeles County\, 900 Exposition Blvd.\, Los Angeles\, CA\, 90007\, United States
ORGANIZER;CN="NHMLA Special Events":MAILTO:specialevents@nhm.org
GEO:34.0170769;-118.2886818
X-APPLE-STRUCTURED-LOCATION;VALUE=URI;X-ADDRESS=Natural History Museum of Los Angeles County 900 Exposition Blvd. Los Angeles CA 90007 United States;X-APPLE-RADIUS=500;X-TITLE=900 Exposition Blvd.:geo:-118.2886818,34.0170769
END:VEVENT
END:VCALENDAR