BEGIN:VCALENDAR
VERSION:2.0
PRODID:-//Exposition Park - ECPv6.15.20//NONSGML v1.0//EN
CALSCALE:GREGORIAN
METHOD:PUBLISH
X-WR-CALNAME:Exposition Park
X-ORIGINAL-URL:https://expositionpark.ca.gov
X-WR-CALDESC:Events for Exposition Park
REFRESH-INTERVAL;VALUE=DURATION:PT1H
X-Robots-Tag:noindex
X-PUBLISHED-TTL:PT1H
BEGIN:VTIMEZONE
TZID:America/Los_Angeles
BEGIN:DAYLIGHT
TZOFFSETFROM:-0800
TZOFFSETTO:-0700
TZNAME:PDT
DTSTART:20190310T100000
END:DAYLIGHT
BEGIN:STANDARD
TZOFFSETFROM:-0700
TZOFFSETTO:-0800
TZNAME:PST
DTSTART:20191103T090000
END:STANDARD
BEGIN:DAYLIGHT
TZOFFSETFROM:-0800
TZOFFSETTO:-0700
TZNAME:PDT
DTSTART:20200308T100000
END:DAYLIGHT
BEGIN:STANDARD
TZOFFSETFROM:-0700
TZOFFSETTO:-0800
TZNAME:PST
DTSTART:20201101T090000
END:STANDARD
BEGIN:DAYLIGHT
TZOFFSETFROM:-0800
TZOFFSETTO:-0700
TZNAME:PDT
DTSTART:20210314T100000
END:DAYLIGHT
BEGIN:STANDARD
TZOFFSETFROM:-0700
TZOFFSETTO:-0800
TZNAME:PST
DTSTART:20211107T090000
END:STANDARD
END:VTIMEZONE
BEGIN:VEVENT
DTSTART;TZID=America/Los_Angeles:20200504T090000
DTEND;TZID=America/Los_Angeles:20200731T150000
DTSTAMP:20260421T164837
CREATED:20200505T204629Z
LAST-MODIFIED:20200701T213251Z
UID:10053475-1588582800-1596207600@expositionpark.ca.gov
SUMMARY:COVID-19 Testing
DESCRIPTION:The California community-based program to test individuals for COVID-19\, in collaboration with the Baseline COVID-19 Program\, is now available in our community. This program is free and meant to reduce the burden on our hospital system and is complementary to testing happening in a clinical care situation. People with acute symptoms need acute triage and should not visit the sample collection sites\, as the sites are not prepared to provide medical care. \nIf you are in California and interested in getting tested for COVID-19\, complete an online screener (here) based on guidelines from public health officials and see if testing is available for you through this program at this time. The screener is dynamic and the criteria may change over time based on epidemiological data and government directives. For more detail into the screening and testing process\, please see this video. \nPlease note the following:\n\nTests are available for eligible individuals by appointment only.\nAppointments must be made online. No walk-ups.\nYou must arrive for your appointment in a vehicle.\n\n\nExamen de COVID-19 basada en la comunidad de California\nEl programa comunitario de California para evaluar individuos para COVID-19\, en colaboración con el programa Baseline COVID-19\, ahora está disponible en nuestra comunidad. Este programa es gratuito y ayuda a reducir la carga sobre nuestro sistema hospitalario y es complementario a las pruebas que se realizan en una situación de atención clínica. Las personas con síntomas agudos necesitan un triaje agudo y no deben visitar los sitios de recolección de muestras\, ya que los sitios no están preparados para brindar atención médica. \nSi está en California y está interesado en hacerse la prueba de COVID-19\, complete un examen en línea (aquí) basado en las guias de los funcionarios de salud pública y vea si las pruebas están disponibles para usted a través de este programa en este momento. El analizador es dinámico y los criterios pueden cambiar con el tiempo según los datos epidemiológicos y las directivas gubernamentales. \nTenga en cuenta lo siguiente:\n\nLas pruebas están disponibles para personas elegibles solo con cita previa.\nLas citas deben hacerse por medio del internet. No se aceptan sin cita.\nDebe llegar para su cita en un vehículo.
URL:https://expositionpark.ca.gov/event/covid-19-testing/
LOCATION:Green Lot (Formerly Lot 6)\, 3986 Hoover St\, Los Angeles\, CA\, 90037\, United States
END:VEVENT
BEGIN:VEVENT
DTSTART;TZID=America/Los_Angeles:20200522T080000
DTEND;TZID=America/Los_Angeles:20200522T170000
DTSTAMP:20260421T164837
CREATED:20170215T230439Z
LAST-MODIFIED:20170215T230439Z
UID:10046772-1590134400-1590166800@expositionpark.ca.gov
SUMMARY:San Pedro Soccer League
DESCRIPTION:
URL:https://expositionpark.ca.gov/event/san-pedro-soccer-league-3/2020-05-22/
LOCATION:EXPO Center\, 3980 Bill Robertson Lane\, Los Angeles\, CA\, 90037\, United States
GEO:34.0121136;-118.2900829
X-APPLE-STRUCTURED-LOCATION;VALUE=URI;X-ADDRESS=EXPO Center 3980 Bill Robertson Lane Los Angeles CA 90037 United States;X-APPLE-RADIUS=500;X-TITLE=3980 Bill Robertson Lane:geo:-118.2900829,34.0121136
END:VEVENT
BEGIN:VEVENT
DTSTART;TZID=America/Los_Angeles:20200522T173000
DTEND;TZID=America/Los_Angeles:20200522T230000
DTSTAMP:20260421T164837
CREATED:20200128T204751Z
LAST-MODIFIED:20200416T230527Z
UID:10053367-1590168600-1590188400@expositionpark.ca.gov
SUMMARY:ROCK CONCERT - Postponed
DESCRIPTION:
URL:https://expositionpark.ca.gov/event/rock-concert/
LOCATION:Banc of California Stadium\, United States
GEO:37.09024;-95.712891
END:VEVENT
BEGIN:VEVENT
DTSTART;TZID=America/Los_Angeles:20200522T180000
DTEND;TZID=America/Los_Angeles:20200522T210000
DTSTAMP:20260421T164837
CREATED:20170214T222616Z
LAST-MODIFIED:20170214T222616Z
UID:10048930-1590170400-1590181200@expositionpark.ca.gov
SUMMARY:EXPO Soccer Clinic
DESCRIPTION:
URL:https://expositionpark.ca.gov/event/expo-soccer-clinic/2020-05-22/
LOCATION:EXPO Center\, 3980 Bill Robertson Lane\, Los Angeles\, CA\, 90037\, United States
GEO:34.0121136;-118.2900829
X-APPLE-STRUCTURED-LOCATION;VALUE=URI;X-ADDRESS=EXPO Center 3980 Bill Robertson Lane Los Angeles CA 90037 United States;X-APPLE-RADIUS=500;X-TITLE=3980 Bill Robertson Lane:geo:-118.2900829,34.0121136
END:VEVENT
BEGIN:VEVENT
DTSTART;TZID=America/Los_Angeles:20200522T190000
DTEND;TZID=America/Los_Angeles:20200522T230000
DTSTAMP:20260421T164837
CREATED:20200317T155205Z
LAST-MODIFIED:20200414T201045Z
UID:10051703-1590174000-1590188400@expositionpark.ca.gov
SUMMARY:High School Prom - Cancelled
DESCRIPTION:
URL:https://expositionpark.ca.gov/event/high-school-prom-17/
LOCATION:CSC – Samuel Oschin Pavilion
END:VEVENT
BEGIN:VEVENT
DTSTART;TZID=America/Los_Angeles:20200522T193000
DTEND;TZID=America/Los_Angeles:20200522T233000
DTSTAMP:20260421T164837
CREATED:20200317T160141Z
LAST-MODIFIED:20200507T034327Z
UID:10051707-1590175800-1590190200@expositionpark.ca.gov
SUMMARY:High School Prom - Cancelled
DESCRIPTION:
URL:https://expositionpark.ca.gov/event/high-school-prom-30/
LOCATION:Wallis Annenberg Building
END:VEVENT
BEGIN:VEVENT
DTSTART;TZID=America/Los_Angeles:20200523T080000
DTEND;TZID=America/Los_Angeles:20200523T235900
DTSTAMP:20260421T164837
CREATED:20200317T180237Z
LAST-MODIFIED:20200507T034235Z
UID:10053462-1590220800-1590278340@expositionpark.ca.gov
SUMMARY:High School Prom - Cancelled
DESCRIPTION:
URL:https://expositionpark.ca.gov/event/high-school-prom-32/
LOCATION:CSC – Howard F. Ahmanson Building\, 700 Exposition Park Drive\, Los Angeles\, CA\, 90037\, United States
END:VEVENT
BEGIN:VEVENT
DTSTART;TZID=America/Los_Angeles:20200523T140000
DTEND;TZID=America/Los_Angeles:20200523T150000
DTSTAMP:20260421T164837
CREATED:20200228T200837Z
LAST-MODIFIED:20200404T015506Z
UID:10053440-1590242400-1590246000@expositionpark.ca.gov
SUMMARY:CAAM Reads! - Cancelled
DESCRIPTION:Calling all book lovers! Our monthly book club continues with titles that complement our current exhibitions. In March\, we’ll cover Tanisha C. Ford’s Dressed in Dreams in conjunction with Cross Colours: Black Fashion in the 20th Century. April’s selection will be the highly praised Just Mercy by Bryan Stevenson celebrating the exhibition Men of Change: Power. Triumph. Truth. Sarah M. Broom’s National Book Award-winning memoir\, The Yellow House\, will be discussed in May to complement Sanctuary: Recent Acquisitions to the Permanent Collection. And in June we’ll cover Dahlma Llanos-Figueroa’s Daughters of the Stone\, a selection inspired by the exhibition Sula Bermúdez-Silverman: Neither Fish\, Flesh\, nor Fowl. View the ongoing exhibitions beforehand and come ready to share your thoughts. \nEvents are cancelled for the month of May 2020.
URL:https://expositionpark.ca.gov/event/caam-reads-17/
LOCATION:California African American Museum\, 600 State Drive\, Los Angeles\, CA\, 90037\, United States
GEO:34.0159415;-118.2836283
X-APPLE-STRUCTURED-LOCATION;VALUE=URI;X-ADDRESS=California African American Museum 600 State Drive Los Angeles CA 90037 United States;X-APPLE-RADIUS=500;X-TITLE=600 State Drive:geo:-118.2836283,34.0159415
END:VEVENT
BEGIN:VEVENT
DTSTART;TZID=America/Los_Angeles:20200523T173000
DTEND;TZID=America/Los_Angeles:20200523T230000
DTSTAMP:20260421T164837
CREATED:20200128T204826Z
LAST-MODIFIED:20200416T230639Z
UID:10053368-1590255000-1590274800@expositionpark.ca.gov
SUMMARY:Rock Concert - Postponed
DESCRIPTION:
URL:https://expositionpark.ca.gov/event/rock-concert-2/
LOCATION:Banc of California Stadium\, United States
GEO:37.09024;-95.712891
END:VEVENT
BEGIN:VEVENT
DTSTART;TZID=America/Los_Angeles:20200523T190000
DTEND;TZID=America/Los_Angeles:20200523T235900
DTSTAMP:20260421T164837
CREATED:20190708T172029Z
LAST-MODIFIED:20200527T180434Z
UID:10051434-1590260400-1590278340@expositionpark.ca.gov
SUMMARY:High School Prom - Cancelled
DESCRIPTION:
URL:https://expositionpark.ca.gov/event/high-school-prom-23/
LOCATION:Wallis Annenberg Building
END:VEVENT
BEGIN:VEVENT
DTSTART;TZID=America/Los_Angeles:20200523T193000
DTEND;TZID=America/Los_Angeles:20200523T233000
DTSTAMP:20260421T164837
CREATED:20200312T214723Z
LAST-MODIFIED:20200527T180514Z
UID:10053460-1590262200-1590276600@expositionpark.ca.gov
SUMMARY:High School Prom - Cancelled
DESCRIPTION:Venue: Ecosystems & Samuel Oschin Pavilion
URL:https://expositionpark.ca.gov/event/high-school-prom-18/
LOCATION:CSC – Samuel Oschin Pavilion
END:VEVENT
BEGIN:VEVENT
DTSTART;TZID=America/Los_Angeles:20200524T080000
DTEND;TZID=America/Los_Angeles:20200524T170000
DTSTAMP:20260421T164837
CREATED:20170215T230650Z
LAST-MODIFIED:20170215T230650Z
UID:10047204-1590307200-1590339600@expositionpark.ca.gov
SUMMARY:Vermont Sports Club
DESCRIPTION:
URL:https://expositionpark.ca.gov/event/vermont-sports-club-9/2020-05-24/
LOCATION:EXPO Center\, 3980 Bill Robertson Lane\, Los Angeles\, CA\, 90037\, United States
GEO:34.0121136;-118.2900829
X-APPLE-STRUCTURED-LOCATION;VALUE=URI;X-ADDRESS=EXPO Center 3980 Bill Robertson Lane Los Angeles CA 90037 United States;X-APPLE-RADIUS=500;X-TITLE=3980 Bill Robertson Lane:geo:-118.2900829,34.0121136
END:VEVENT
BEGIN:VEVENT
DTSTART;TZID=America/Los_Angeles:20200524T140000
DTEND;TZID=America/Los_Angeles:20200524T170000
DTSTAMP:20260421T164837
CREATED:20190425T160222Z
LAST-MODIFIED:20200404T020840Z
UID:10051314-1590328800-1590339600@expositionpark.ca.gov
SUMMARY:Wedding - Cancelled
DESCRIPTION:Events are cancelled for May 2020.
URL:https://expositionpark.ca.gov/event/wedding-43/
LOCATION:Rose Garden\, 701 State Drive\, Los Angeles\, CA\, 90037\, United States
ORGANIZER;CN="Exposition Center Special Events":MAILTO:Rap-expospecialevents@lacity.org
GEO:34.0165246;-118.2843696
X-APPLE-STRUCTURED-LOCATION;VALUE=URI;X-ADDRESS=Rose Garden 701 State Drive Los Angeles CA 90037 United States;X-APPLE-RADIUS=500;X-TITLE=701 State Drive:geo:-118.2843696,34.0165246
END:VEVENT
BEGIN:VEVENT
DTSTART;TZID=America/Los_Angeles:20200524T180000
DTEND;TZID=America/Los_Angeles:20200524T210000
DTSTAMP:20260421T164837
CREATED:20200108T205750Z
LAST-MODIFIED:20200416T230731Z
UID:10051618-1590343200-1590354000@expositionpark.ca.gov
SUMMARY:LAFC vs NYCFC - Postponed
DESCRIPTION:MLS Regular Season Match
URL:https://expositionpark.ca.gov/event/lafc-vs-nycfc/
LOCATION:Banc of California Stadium\, United States
GEO:37.09024;-95.712891
END:VEVENT
BEGIN:VEVENT
DTSTART;TZID=America/Los_Angeles:20200525T180000
DTEND;TZID=America/Los_Angeles:20200525T210000
DTSTAMP:20260421T164837
CREATED:20170214T222616Z
LAST-MODIFIED:20170214T222616Z
UID:10048931-1590429600-1590440400@expositionpark.ca.gov
SUMMARY:EXPO Soccer Clinic
DESCRIPTION:
URL:https://expositionpark.ca.gov/event/expo-soccer-clinic/2020-05-25/
LOCATION:EXPO Center\, 3980 Bill Robertson Lane\, Los Angeles\, CA\, 90037\, United States
GEO:34.0121136;-118.2900829
X-APPLE-STRUCTURED-LOCATION;VALUE=URI;X-ADDRESS=EXPO Center 3980 Bill Robertson Lane Los Angeles CA 90037 United States;X-APPLE-RADIUS=500;X-TITLE=3980 Bill Robertson Lane:geo:-118.2900829,34.0121136
END:VEVENT
BEGIN:VEVENT
DTSTART;TZID=America/Los_Angeles:20200525T211500
DTEND;TZID=America/Los_Angeles:20200525T221500
DTSTAMP:20260421T164837
CREATED:20170214T222531Z
LAST-MODIFIED:20170214T222531Z
UID:10048156-1590441300-1590444900@expositionpark.ca.gov
SUMMARY:Tri-Color Soccer League
DESCRIPTION:
URL:https://expositionpark.ca.gov/event/tri-color-soccer-league/2020-05-25/
LOCATION:EXPO Center\, 3980 Bill Robertson Lane\, Los Angeles\, CA\, 90037\, United States
GEO:34.0121136;-118.2900829
X-APPLE-STRUCTURED-LOCATION;VALUE=URI;X-ADDRESS=EXPO Center 3980 Bill Robertson Lane Los Angeles CA 90037 United States;X-APPLE-RADIUS=500;X-TITLE=3980 Bill Robertson Lane:geo:-118.2900829,34.0121136
END:VEVENT
BEGIN:VEVENT
DTSTART;TZID=America/Los_Angeles:20200526T143000
DTEND;TZID=America/Los_Angeles:20200526T173000
DTSTAMP:20260421T164837
CREATED:20170215T230251Z
LAST-MODIFIED:20170215T230251Z
UID:10045651-1590503400-1590514200@expositionpark.ca.gov
SUMMARY:USC Hybrid
DESCRIPTION:
URL:https://expositionpark.ca.gov/event/usc-hybrid/2020-05-26/
LOCATION:EXPO Center\, 3980 Bill Robertson Lane\, Los Angeles\, CA\, 90037\, United States
GEO:34.0121136;-118.2900829
X-APPLE-STRUCTURED-LOCATION;VALUE=URI;X-ADDRESS=EXPO Center 3980 Bill Robertson Lane Los Angeles CA 90037 United States;X-APPLE-RADIUS=500;X-TITLE=3980 Bill Robertson Lane:geo:-118.2900829,34.0121136
END:VEVENT
BEGIN:VEVENT
DTSTART;TZID=America/Los_Angeles:20200526T180000
DTEND;TZID=America/Los_Angeles:20200526T210000
DTSTAMP:20260421T164837
CREATED:20170214T222818Z
LAST-MODIFIED:20170214T222818Z
UID:10050053-1590516000-1590526800@expositionpark.ca.gov
SUMMARY:Vermont Sports Club
DESCRIPTION:
URL:https://expositionpark.ca.gov/event/vermont-sports-club-7/2020-05-26/
LOCATION:EXPO Center\, 3980 Bill Robertson Lane\, Los Angeles\, CA\, 90037\, United States
GEO:34.0121136;-118.2900829
X-APPLE-STRUCTURED-LOCATION;VALUE=URI;X-ADDRESS=EXPO Center 3980 Bill Robertson Lane Los Angeles CA 90037 United States;X-APPLE-RADIUS=500;X-TITLE=3980 Bill Robertson Lane:geo:-118.2900829,34.0121136
END:VEVENT
BEGIN:VEVENT
DTSTART;TZID=America/Los_Angeles:20200526T213000
DTEND;TZID=America/Los_Angeles:20200526T223000
DTSTAMP:20260421T164837
CREATED:20170215T225948Z
LAST-MODIFIED:20170215T225948Z
UID:10044789-1590528600-1590532200@expositionpark.ca.gov
SUMMARY:Tri-Color Soccer League
DESCRIPTION:
URL:https://expositionpark.ca.gov/event/tri-color-soccer-league-2/2020-05-26/
LOCATION:EXPO Center\, 3980 Bill Robertson Lane\, Los Angeles\, CA\, 90037\, United States
GEO:34.0121136;-118.2900829
X-APPLE-STRUCTURED-LOCATION;VALUE=URI;X-ADDRESS=EXPO Center 3980 Bill Robertson Lane Los Angeles CA 90037 United States;X-APPLE-RADIUS=500;X-TITLE=3980 Bill Robertson Lane:geo:-118.2900829,34.0121136
END:VEVENT
BEGIN:VEVENT
DTSTART;TZID=America/Los_Angeles:20200527T080000
DTEND;TZID=America/Los_Angeles:20200527T170000
DTSTAMP:20260421T164837
CREATED:20170215T230401Z
LAST-MODIFIED:20170215T230401Z
UID:10046342-1590566400-1590598800@expositionpark.ca.gov
SUMMARY:New Star
DESCRIPTION:
URL:https://expositionpark.ca.gov/event/new-star/2020-05-27/
LOCATION:EXPO Center\, 3980 Bill Robertson Lane\, Los Angeles\, CA\, 90037\, United States
GEO:34.0121136;-118.2900829
X-APPLE-STRUCTURED-LOCATION;VALUE=URI;X-ADDRESS=EXPO Center 3980 Bill Robertson Lane Los Angeles CA 90037 United States;X-APPLE-RADIUS=500;X-TITLE=3980 Bill Robertson Lane:geo:-118.2900829,34.0121136
END:VEVENT
BEGIN:VEVENT
DTSTART;TZID=America/Los_Angeles:20200527T090000
DTEND;TZID=America/Los_Angeles:20200527T140000
DTSTAMP:20260421T164837
CREATED:20200505T185021Z
LAST-MODIFIED:20200507T034518Z
UID:10053473-1590570000-1590588000@expositionpark.ca.gov
SUMMARY:Food Distribution - Farm Box Program
DESCRIPTION:This event is in partnership with L.A. County District 2 Supervisor Mark Ridley-Thomas\, Sustainable Economic Enterprises of Los Angeles (SEE-LA)\, Cedars-Sinai\, UNITE HERE Local 11\, Los Angeles Football Club\, Banc of California Stadium and Exposition Park. \nThe food distribution requires registration and is exclusive to UNITE HERE members.
URL:https://expositionpark.ca.gov/event/food-distribution-farm-box-program-5/
LOCATION:BOCS Plaza Area and Christmas Tree Lane East\, CA\, United States
END:VEVENT
BEGIN:VEVENT
DTSTART;TZID=America/Los_Angeles:20200527T180000
DTEND;TZID=America/Los_Angeles:20200527T210000
DTSTAMP:20260421T164837
CREATED:20170214T222616Z
LAST-MODIFIED:20170214T222616Z
UID:10048932-1590602400-1590613200@expositionpark.ca.gov
SUMMARY:EXPO Soccer Clinic
DESCRIPTION:
URL:https://expositionpark.ca.gov/event/expo-soccer-clinic/2020-05-27/
LOCATION:EXPO Center\, 3980 Bill Robertson Lane\, Los Angeles\, CA\, 90037\, United States
GEO:34.0121136;-118.2900829
X-APPLE-STRUCTURED-LOCATION;VALUE=URI;X-ADDRESS=EXPO Center 3980 Bill Robertson Lane Los Angeles CA 90037 United States;X-APPLE-RADIUS=500;X-TITLE=3980 Bill Robertson Lane:geo:-118.2900829,34.0121136
END:VEVENT
BEGIN:VEVENT
DTSTART;TZID=America/Los_Angeles:20200528T143000
DTEND;TZID=America/Los_Angeles:20200528T173000
DTSTAMP:20260421T164837
CREATED:20170215T230251Z
LAST-MODIFIED:20170215T230251Z
UID:10045652-1590676200-1590687000@expositionpark.ca.gov
SUMMARY:USC Hybrid
DESCRIPTION:
URL:https://expositionpark.ca.gov/event/usc-hybrid/2020-05-28/
LOCATION:EXPO Center\, 3980 Bill Robertson Lane\, Los Angeles\, CA\, 90037\, United States
GEO:34.0121136;-118.2900829
X-APPLE-STRUCTURED-LOCATION;VALUE=URI;X-ADDRESS=EXPO Center 3980 Bill Robertson Lane Los Angeles CA 90037 United States;X-APPLE-RADIUS=500;X-TITLE=3980 Bill Robertson Lane:geo:-118.2900829,34.0121136
END:VEVENT
BEGIN:VEVENT
DTSTART;TZID=America/Los_Angeles:20200528T180000
DTEND;TZID=America/Los_Angeles:20200528T210000
DTSTAMP:20260421T164837
CREATED:20170214T222818Z
LAST-MODIFIED:20170214T222818Z
UID:10050054-1590688800-1590699600@expositionpark.ca.gov
SUMMARY:Vermont Sports Club
DESCRIPTION:
URL:https://expositionpark.ca.gov/event/vermont-sports-club-7/2020-05-28/
LOCATION:EXPO Center\, 3980 Bill Robertson Lane\, Los Angeles\, CA\, 90037\, United States
GEO:34.0121136;-118.2900829
X-APPLE-STRUCTURED-LOCATION;VALUE=URI;X-ADDRESS=EXPO Center 3980 Bill Robertson Lane Los Angeles CA 90037 United States;X-APPLE-RADIUS=500;X-TITLE=3980 Bill Robertson Lane:geo:-118.2900829,34.0121136
END:VEVENT
BEGIN:VEVENT
DTSTART;TZID=America/Los_Angeles:20200528T213000
DTEND;TZID=America/Los_Angeles:20200528T223000
DTSTAMP:20260421T164837
CREATED:20170215T225948Z
LAST-MODIFIED:20170215T225948Z
UID:10044790-1590701400-1590705000@expositionpark.ca.gov
SUMMARY:Tri-Color Soccer League
DESCRIPTION:
URL:https://expositionpark.ca.gov/event/tri-color-soccer-league-2/2020-05-28/
LOCATION:EXPO Center\, 3980 Bill Robertson Lane\, Los Angeles\, CA\, 90037\, United States
GEO:34.0121136;-118.2900829
X-APPLE-STRUCTURED-LOCATION;VALUE=URI;X-ADDRESS=EXPO Center 3980 Bill Robertson Lane Los Angeles CA 90037 United States;X-APPLE-RADIUS=500;X-TITLE=3980 Bill Robertson Lane:geo:-118.2900829,34.0121136
END:VEVENT
BEGIN:VEVENT
DTSTART;TZID=America/Los_Angeles:20200529T080000
DTEND;TZID=America/Los_Angeles:20200529T170000
DTSTAMP:20260421T164837
CREATED:20170215T230439Z
LAST-MODIFIED:20170215T230439Z
UID:10046773-1590739200-1590771600@expositionpark.ca.gov
SUMMARY:San Pedro Soccer League
DESCRIPTION:
URL:https://expositionpark.ca.gov/event/san-pedro-soccer-league-3/2020-05-29/
LOCATION:EXPO Center\, 3980 Bill Robertson Lane\, Los Angeles\, CA\, 90037\, United States
GEO:34.0121136;-118.2900829
X-APPLE-STRUCTURED-LOCATION;VALUE=URI;X-ADDRESS=EXPO Center 3980 Bill Robertson Lane Los Angeles CA 90037 United States;X-APPLE-RADIUS=500;X-TITLE=3980 Bill Robertson Lane:geo:-118.2900829,34.0121136
END:VEVENT
BEGIN:VEVENT
DTSTART;TZID=America/Los_Angeles:20200529T163000
DTEND;TZID=America/Los_Angeles:20200530T090000
DTSTAMP:20260421T164837
CREATED:20191122T224524Z
LAST-MODIFIED:20200409T170456Z
UID:10053300-1590769800-1590829200@expositionpark.ca.gov
SUMMARY:Camp Out at NHM - Cancelled
DESCRIPTION:Join us at the Natural History Museum for a night full of camping and nature fun. We’ll explore the gardens at night\, collect scientific data on the wildlife we find\, and share our L.A. nature stories while we roast marshmallows over the campfire.
URL:https://expositionpark.ca.gov/event/camp-out-at-nhm/
LOCATION:Natural History Museum of Los Angeles County\, 900 Exposition Blvd.\, Los Angeles\, CA\, 90007\, United States
ORGANIZER;CN="Vanessa Vobis":MAILTO:vvobis@nhm.org
GEO:34.0170769;-118.2886818
X-APPLE-STRUCTURED-LOCATION;VALUE=URI;X-ADDRESS=Natural History Museum of Los Angeles County 900 Exposition Blvd. Los Angeles CA 90007 United States;X-APPLE-RADIUS=500;X-TITLE=900 Exposition Blvd.:geo:-118.2886818,34.0170769
END:VEVENT
BEGIN:VEVENT
DTSTART;TZID=America/Los_Angeles:20200529T180000
DTEND;TZID=America/Los_Angeles:20200529T210000
DTSTAMP:20260421T164837
CREATED:20170214T222616Z
LAST-MODIFIED:20170214T222616Z
UID:10048933-1590775200-1590786000@expositionpark.ca.gov
SUMMARY:EXPO Soccer Clinic
DESCRIPTION:
URL:https://expositionpark.ca.gov/event/expo-soccer-clinic/2020-05-29/
LOCATION:EXPO Center\, 3980 Bill Robertson Lane\, Los Angeles\, CA\, 90037\, United States
GEO:34.0121136;-118.2900829
X-APPLE-STRUCTURED-LOCATION;VALUE=URI;X-ADDRESS=EXPO Center 3980 Bill Robertson Lane Los Angeles CA 90037 United States;X-APPLE-RADIUS=500;X-TITLE=3980 Bill Robertson Lane:geo:-118.2900829,34.0121136
END:VEVENT
BEGIN:VEVENT
DTSTART;TZID=America/Los_Angeles:20200529T190000
DTEND;TZID=America/Los_Angeles:20200529T230000
DTSTAMP:20260421T164837
CREATED:20200317T160157Z
LAST-MODIFIED:20200414T201128Z
UID:10053461-1590778800-1590793200@expositionpark.ca.gov
SUMMARY:High School Prom - Cancelled
DESCRIPTION:
URL:https://expositionpark.ca.gov/event/high-school-prom-31/
LOCATION:Wallis Annenberg Building
END:VEVENT
BEGIN:VEVENT
DTSTART;TZID=America/Los_Angeles:20200530T150000
DTEND;TZID=America/Los_Angeles:20200530T160000
DTSTAMP:20260421T164837
CREATED:20200228T201045Z
LAST-MODIFIED:20200416T232251Z
UID:10051675-1590850800-1590854400@expositionpark.ca.gov
SUMMARY:Self-Care: Yoga - Cancelled - Moved to virtual platform
DESCRIPTION:In connection with Sanctuary: Recent Acquisitions to the Permanent Collection and building sacred spaces\, move through a 60-minute yoga flow with yoga and meditation teacher Constance Hartwell. No previous experience necessary. Please bring your own yoga mat and water.  \nEvents are cancelled for the month of May 2020. \nThis event is moved to a virtual platform.
URL:https://expositionpark.ca.gov/event/self-care-yoga/
LOCATION:California African American Museum\, 600 State Drive\, Los Angeles\, CA\, 90037\, United States
GEO:34.0159415;-118.2836283
X-APPLE-STRUCTURED-LOCATION;VALUE=URI;X-ADDRESS=California African American Museum 600 State Drive Los Angeles CA 90037 United States;X-APPLE-RADIUS=500;X-TITLE=600 State Drive:geo:-118.2836283,34.0159415
END:VEVENT
END:VCALENDAR