BEGIN:VCALENDAR
VERSION:2.0
PRODID:-//Exposition Park - ECPv6.15.20//NONSGML v1.0//EN
CALSCALE:GREGORIAN
METHOD:PUBLISH
X-WR-CALNAME:Exposition Park
X-ORIGINAL-URL:https://expositionpark.ca.gov
X-WR-CALDESC:Events for Exposition Park
REFRESH-INTERVAL;VALUE=DURATION:PT1H
X-Robots-Tag:noindex
X-PUBLISHED-TTL:PT1H
BEGIN:VTIMEZONE
TZID:America/Los_Angeles
BEGIN:DAYLIGHT
TZOFFSETFROM:-0800
TZOFFSETTO:-0700
TZNAME:PDT
DTSTART:20190310T100000
END:DAYLIGHT
BEGIN:STANDARD
TZOFFSETFROM:-0700
TZOFFSETTO:-0800
TZNAME:PST
DTSTART:20191103T090000
END:STANDARD
BEGIN:DAYLIGHT
TZOFFSETFROM:-0800
TZOFFSETTO:-0700
TZNAME:PDT
DTSTART:20200308T100000
END:DAYLIGHT
BEGIN:STANDARD
TZOFFSETFROM:-0700
TZOFFSETTO:-0800
TZNAME:PST
DTSTART:20201101T090000
END:STANDARD
BEGIN:DAYLIGHT
TZOFFSETFROM:-0800
TZOFFSETTO:-0700
TZNAME:PDT
DTSTART:20210314T100000
END:DAYLIGHT
BEGIN:STANDARD
TZOFFSETFROM:-0700
TZOFFSETTO:-0800
TZNAME:PST
DTSTART:20211107T090000
END:STANDARD
END:VTIMEZONE
BEGIN:VEVENT
DTSTART;TZID=America/Los_Angeles:20200504T090000
DTEND;TZID=America/Los_Angeles:20200731T150000
DTSTAMP:20260422T232447
CREATED:20200505T204629Z
LAST-MODIFIED:20200701T213251Z
UID:10053475-1588582800-1596207600@expositionpark.ca.gov
SUMMARY:COVID-19 Testing
DESCRIPTION:The California community-based program to test individuals for COVID-19\, in collaboration with the Baseline COVID-19 Program\, is now available in our community. This program is free and meant to reduce the burden on our hospital system and is complementary to testing happening in a clinical care situation. People with acute symptoms need acute triage and should not visit the sample collection sites\, as the sites are not prepared to provide medical care. \nIf you are in California and interested in getting tested for COVID-19\, complete an online screener (here) based on guidelines from public health officials and see if testing is available for you through this program at this time. The screener is dynamic and the criteria may change over time based on epidemiological data and government directives. For more detail into the screening and testing process\, please see this video. \nPlease note the following:\n\nTests are available for eligible individuals by appointment only.\nAppointments must be made online. No walk-ups.\nYou must arrive for your appointment in a vehicle.\n\n\nExamen de COVID-19 basada en la comunidad de California\nEl programa comunitario de California para evaluar individuos para COVID-19\, en colaboración con el programa Baseline COVID-19\, ahora está disponible en nuestra comunidad. Este programa es gratuito y ayuda a reducir la carga sobre nuestro sistema hospitalario y es complementario a las pruebas que se realizan en una situación de atención clínica. Las personas con síntomas agudos necesitan un triaje agudo y no deben visitar los sitios de recolección de muestras\, ya que los sitios no están preparados para brindar atención médica. \nSi está en California y está interesado en hacerse la prueba de COVID-19\, complete un examen en línea (aquí) basado en las guias de los funcionarios de salud pública y vea si las pruebas están disponibles para usted a través de este programa en este momento. El analizador es dinámico y los criterios pueden cambiar con el tiempo según los datos epidemiológicos y las directivas gubernamentales. \nTenga en cuenta lo siguiente:\n\nLas pruebas están disponibles para personas elegibles solo con cita previa.\nLas citas deben hacerse por medio del internet. No se aceptan sin cita.\nDebe llegar para su cita en un vehículo.
URL:https://expositionpark.ca.gov/event/covid-19-testing/
LOCATION:Green Lot (Formerly Lot 6)\, 3986 Hoover St\, Los Angeles\, CA\, 90037\, United States
END:VEVENT
BEGIN:VEVENT
DTSTART;TZID=America/Los_Angeles:20200622T080000
DTEND;TZID=America/Los_Angeles:20200731T170000
DTSTAMP:20260422T232447
CREATED:20190730T231321Z
LAST-MODIFIED:20200529T155526Z
UID:10051489-1592812800-1596214800@expositionpark.ca.gov
SUMMARY:Adventures in Nature Summer Camp - Virtual Platform
DESCRIPTION:This  summer\, join us for Adventures in Nature Summer Day Camp! Whether it’s becoming a dinosaur or engaging with nature in new ways\, NHM has dedicated three decades of hands-on experiences and behind-the-scenes tours to campers – giving them access to 4.5 billion years of life on Earth.  With so much adventure\, your child’s camp memories will surely last a lifetime!
URL:https://expositionpark.ca.gov/event/adventures-in-nature-summer-camp/
LOCATION:CA
ORGANIZER;CN="Christina Kastely":MAILTO:ckastely@nhm.org
END:VEVENT
BEGIN:VEVENT
DTSTART;VALUE=DATE:20200727
DTEND;VALUE=DATE:20200801
DTSTAMP:20260422T232447
CREATED:20200228T205150Z
LAST-MODIFIED:20200529T154921Z
UID:10053445-1595808000-1596239999@expositionpark.ca.gov
SUMMARY:Hands-On Science Camp *Week 6* - Virtual Platform
DESCRIPTION:California Science Center’s Hands-On Science Camp\nExplore with us this Summer! (Pre-K – 10th Grade) \nExciting explorations\, delightful discoveries and wild wonders await your family this summer at Hands-On Science Camp at the California Science Center. We offer more than 30 courses\, including popular parent-and-child classes that give families a chance to investigate science together. The Hands-On Science Camp staff consists of education professionals and working professionals in science fields. Your child will have a unique\, fun and engaging summer! \nMorning Session 9:00am – 11:30am \nAfternoon Session 12:30pm – 3:30pm \n**Extended care is available for early drop off and late pick up for Kinder – 10th Grade campers. \n**A supervised lunch from 11:30am – 12:30pm is automatically included for campers attending a full day of camp from 9:00am – 3:30pm. \nEnroll Online
URL:https://expositionpark.ca.gov/event/hands-on-science-camp-week-6/
LOCATION:California Science Center\, 700 Exposition Park Drive\, Los Angeles\, CA\, 90037\, United States
ORGANIZER;CN="California Science Center%3A Education Department":MAILTO:educationprograms@cscmail.org
GEO:34.0157877;-118.2862095
X-APPLE-STRUCTURED-LOCATION;VALUE=URI;X-ADDRESS=California Science Center 700 Exposition Park Drive Los Angeles CA 90037 United States;X-APPLE-RADIUS=500;X-TITLE=700 Exposition Park Drive:geo:-118.2862095,34.0157877
END:VEVENT
BEGIN:VEVENT
DTSTART;TZID=America/Los_Angeles:20200730T073000
DTEND;TZID=America/Los_Angeles:20200730T180000
DTSTAMP:20260422T232447
CREATED:20200224T204344Z
LAST-MODIFIED:20200227T194420Z
UID:10053416-1596094200-1596132000@expositionpark.ca.gov
SUMMARY:Expo Center's Summer Camp Program
DESCRIPTION:EXPO Center’s Seasonal Camp Program provides youth ages 6-16 with a variety of themed and seasonal activities including swimming\, sports\, field trips and technology clubs.
URL:https://expositionpark.ca.gov/event/expo-centers-summer-camp-program/2020-07-30/
LOCATION:EXPO Center\, 3980 Bill Robertson Lane\, Los Angeles\, CA\, 90037\, United States
GEO:34.0121136;-118.2900829
X-APPLE-STRUCTURED-LOCATION;VALUE=URI;X-ADDRESS=EXPO Center 3980 Bill Robertson Lane Los Angeles CA 90037 United States;X-APPLE-RADIUS=500;X-TITLE=3980 Bill Robertson Lane:geo:-118.2900829,34.0121136
END:VEVENT
BEGIN:VEVENT
DTSTART;TZID=America/Los_Angeles:20200730T143000
DTEND;TZID=America/Los_Angeles:20200730T173000
DTSTAMP:20260422T232447
CREATED:20170215T230251Z
LAST-MODIFIED:20170215T230251Z
UID:10045670-1596119400-1596130200@expositionpark.ca.gov
SUMMARY:USC Hybrid
DESCRIPTION:
URL:https://expositionpark.ca.gov/event/usc-hybrid/2020-07-30/
LOCATION:EXPO Center\, 3980 Bill Robertson Lane\, Los Angeles\, CA\, 90037\, United States
GEO:34.0121136;-118.2900829
X-APPLE-STRUCTURED-LOCATION;VALUE=URI;X-ADDRESS=EXPO Center 3980 Bill Robertson Lane Los Angeles CA 90037 United States;X-APPLE-RADIUS=500;X-TITLE=3980 Bill Robertson Lane:geo:-118.2900829,34.0121136
END:VEVENT
BEGIN:VEVENT
DTSTART;TZID=America/Los_Angeles:20200730T180000
DTEND;TZID=America/Los_Angeles:20200730T210000
DTSTAMP:20260422T232447
CREATED:20170214T222818Z
LAST-MODIFIED:20170214T222818Z
UID:10050072-1596132000-1596142800@expositionpark.ca.gov
SUMMARY:Vermont Sports Club
DESCRIPTION:
URL:https://expositionpark.ca.gov/event/vermont-sports-club-7/2020-07-30/
LOCATION:EXPO Center\, 3980 Bill Robertson Lane\, Los Angeles\, CA\, 90037\, United States
GEO:34.0121136;-118.2900829
X-APPLE-STRUCTURED-LOCATION;VALUE=URI;X-ADDRESS=EXPO Center 3980 Bill Robertson Lane Los Angeles CA 90037 United States;X-APPLE-RADIUS=500;X-TITLE=3980 Bill Robertson Lane:geo:-118.2900829,34.0121136
END:VEVENT
BEGIN:VEVENT
DTSTART;TZID=America/Los_Angeles:20200730T213000
DTEND;TZID=America/Los_Angeles:20200730T223000
DTSTAMP:20260422T232447
CREATED:20170215T225948Z
LAST-MODIFIED:20170215T225948Z
UID:10044808-1596144600-1596148200@expositionpark.ca.gov
SUMMARY:Tri-Color Soccer League
DESCRIPTION:
URL:https://expositionpark.ca.gov/event/tri-color-soccer-league-2/2020-07-30/
LOCATION:EXPO Center\, 3980 Bill Robertson Lane\, Los Angeles\, CA\, 90037\, United States
GEO:34.0121136;-118.2900829
X-APPLE-STRUCTURED-LOCATION;VALUE=URI;X-ADDRESS=EXPO Center 3980 Bill Robertson Lane Los Angeles CA 90037 United States;X-APPLE-RADIUS=500;X-TITLE=3980 Bill Robertson Lane:geo:-118.2900829,34.0121136
END:VEVENT
BEGIN:VEVENT
DTSTART;TZID=America/Los_Angeles:20200731T080000
DTEND;TZID=America/Los_Angeles:20200731T170000
DTSTAMP:20260422T232447
CREATED:20170215T230439Z
LAST-MODIFIED:20170215T230439Z
UID:10046782-1596182400-1596214800@expositionpark.ca.gov
SUMMARY:San Pedro Soccer League
DESCRIPTION:
URL:https://expositionpark.ca.gov/event/san-pedro-soccer-league-3/2020-07-31/
LOCATION:EXPO Center\, 3980 Bill Robertson Lane\, Los Angeles\, CA\, 90037\, United States
GEO:34.0121136;-118.2900829
X-APPLE-STRUCTURED-LOCATION;VALUE=URI;X-ADDRESS=EXPO Center 3980 Bill Robertson Lane Los Angeles CA 90037 United States;X-APPLE-RADIUS=500;X-TITLE=3980 Bill Robertson Lane:geo:-118.2900829,34.0121136
END:VEVENT
BEGIN:VEVENT
DTSTART;TZID=America/Los_Angeles:20200731T180000
DTEND;TZID=America/Los_Angeles:20200731T210000
DTSTAMP:20260422T232447
CREATED:20170214T222616Z
LAST-MODIFIED:20170214T222616Z
UID:10048960-1596218400-1596229200@expositionpark.ca.gov
SUMMARY:EXPO Soccer Clinic
DESCRIPTION:
URL:https://expositionpark.ca.gov/event/expo-soccer-clinic/2020-07-31/
LOCATION:EXPO Center\, 3980 Bill Robertson Lane\, Los Angeles\, CA\, 90037\, United States
GEO:34.0121136;-118.2900829
X-APPLE-STRUCTURED-LOCATION;VALUE=URI;X-ADDRESS=EXPO Center 3980 Bill Robertson Lane Los Angeles CA 90037 United States;X-APPLE-RADIUS=500;X-TITLE=3980 Bill Robertson Lane:geo:-118.2900829,34.0121136
END:VEVENT
BEGIN:VEVENT
DTSTART;TZID=America/Los_Angeles:20200801T070000
DTEND;TZID=America/Los_Angeles:20200801T130000
DTSTAMP:20260422T232447
CREATED:20170214T011928Z
LAST-MODIFIED:20170214T011928Z
UID:10047853-1596265200-1596286800@expositionpark.ca.gov
SUMMARY:Board of Commissioners Meeting
DESCRIPTION:
URL:https://expositionpark.ca.gov/event/board-of-commissioners-meeting/2020-08-01/
LOCATION:EXPO Center\, 3980 Bill Robertson Lane\, Los Angeles\, CA\, 90037\, United States
GEO:34.0121136;-118.2900829
X-APPLE-STRUCTURED-LOCATION;VALUE=URI;X-ADDRESS=EXPO Center 3980 Bill Robertson Lane Los Angeles CA 90037 United States;X-APPLE-RADIUS=500;X-TITLE=3980 Bill Robertson Lane:geo:-118.2900829,34.0121136
END:VEVENT
BEGIN:VEVENT
DTSTART;TZID=America/Los_Angeles:20200802T080000
DTEND;TZID=America/Los_Angeles:20200802T170000
DTSTAMP:20260422T232447
CREATED:20170215T230650Z
LAST-MODIFIED:20170215T230650Z
UID:10047214-1596355200-1596387600@expositionpark.ca.gov
SUMMARY:Vermont Sports Club
DESCRIPTION:
URL:https://expositionpark.ca.gov/event/vermont-sports-club-9/2020-08-02/
LOCATION:EXPO Center\, 3980 Bill Robertson Lane\, Los Angeles\, CA\, 90037\, United States
GEO:34.0121136;-118.2900829
X-APPLE-STRUCTURED-LOCATION;VALUE=URI;X-ADDRESS=EXPO Center 3980 Bill Robertson Lane Los Angeles CA 90037 United States;X-APPLE-RADIUS=500;X-TITLE=3980 Bill Robertson Lane:geo:-118.2900829,34.0121136
END:VEVENT
BEGIN:VEVENT
DTSTART;VALUE=DATE:20200803
DTEND;VALUE=DATE:20200808
DTSTAMP:20260422T232447
CREATED:20200228T205238Z
LAST-MODIFIED:20200228T205238Z
UID:10053446-1596412800-1596844799@expositionpark.ca.gov
SUMMARY:Hands-On Science Camp *Week 7*
DESCRIPTION:California Science Center’s Hands-On Science Camp\nExplore with us this Summer! (Pre-K – 10th Grade) \nExciting explorations\, delightful discoveries and wild wonders await your family this summer at Hands-On Science Camp at the California Science Center. We offer more than 30 courses\, including popular parent-and-child classes that give families a chance to investigate science together. The Hands-On Science Camp staff consists of education professionals and working professionals in science fields. Your child will have a unique\, fun and engaging summer! \nMorning Session 9:00am – 11:30am \nAfternoon Session 12:30pm – 3:30pm \n**Extended care is available for early drop off and late pick up for Kinder – 10th Grade campers. \n**A supervised lunch from 11:30am – 12:30pm is automatically included for campers attending a full day of camp from 9:00am – 3:30pm. \nEnroll Online
URL:https://expositionpark.ca.gov/event/hands-on-science-camp-week-7/
LOCATION:California Science Center\, 700 Exposition Park Drive\, Los Angeles\, CA\, 90037\, United States
ORGANIZER;CN="California Science Center%3A Education Department":MAILTO:educationprograms@cscmail.org
GEO:34.0157877;-118.2862095
X-APPLE-STRUCTURED-LOCATION;VALUE=URI;X-ADDRESS=California Science Center 700 Exposition Park Drive Los Angeles CA 90037 United States;X-APPLE-RADIUS=500;X-TITLE=700 Exposition Park Drive:geo:-118.2862095,34.0157877
END:VEVENT
BEGIN:VEVENT
DTSTART;TZID=America/Los_Angeles:20200803T211500
DTEND;TZID=America/Los_Angeles:20200803T221500
DTSTAMP:20260422T232447
CREATED:20170214T222531Z
LAST-MODIFIED:20170214T222531Z
UID:10048166-1596489300-1596492900@expositionpark.ca.gov
SUMMARY:Tri-Color Soccer League
DESCRIPTION:
URL:https://expositionpark.ca.gov/event/tri-color-soccer-league/2020-08-03/
LOCATION:EXPO Center\, 3980 Bill Robertson Lane\, Los Angeles\, CA\, 90037\, United States
GEO:34.0121136;-118.2900829
X-APPLE-STRUCTURED-LOCATION;VALUE=URI;X-ADDRESS=EXPO Center 3980 Bill Robertson Lane Los Angeles CA 90037 United States;X-APPLE-RADIUS=500;X-TITLE=3980 Bill Robertson Lane:geo:-118.2900829,34.0121136
END:VEVENT
BEGIN:VEVENT
DTSTART;TZID=America/Los_Angeles:20200805T080000
DTEND;TZID=America/Los_Angeles:20200805T170000
DTSTAMP:20260422T232447
CREATED:20170215T230401Z
LAST-MODIFIED:20170215T230401Z
UID:10046352-1596614400-1596646800@expositionpark.ca.gov
SUMMARY:New Star
DESCRIPTION:
URL:https://expositionpark.ca.gov/event/new-star/2020-08-05/
LOCATION:EXPO Center\, 3980 Bill Robertson Lane\, Los Angeles\, CA\, 90037\, United States
GEO:34.0121136;-118.2900829
X-APPLE-STRUCTURED-LOCATION;VALUE=URI;X-ADDRESS=EXPO Center 3980 Bill Robertson Lane Los Angeles CA 90037 United States;X-APPLE-RADIUS=500;X-TITLE=3980 Bill Robertson Lane:geo:-118.2900829,34.0121136
END:VEVENT
BEGIN:VEVENT
DTSTART;TZID=America/Los_Angeles:20200807T180000
DTEND;TZID=America/Los_Angeles:20200807T200000
DTSTAMP:20260422T232447
CREATED:20200630T161402Z
LAST-MODIFIED:20200630T161402Z
UID:10053486-1596823200-1596830400@expositionpark.ca.gov
SUMMARY:Summer Nights at Home - Virtual Platform
DESCRIPTION:Summer Nights at Home – Virtual Platform\n\nThis summer the Nature Gardens and Tar Pits are coming over to your place. Fix yourself a DIY botanical cocktail and join our events happening LIVE. Turn up the DJ tunes and join in on a talk with Museum Staff who’ll be getting to the root of plants from the present day all the way back to the Ice Age. Celebrate your Summer Nights with nature\, music\, and growing your mind. \n#SummerNights \nNoches de verano en casa\nEste verano\, los jardines de naturaleza del Museo de Historia Natural del Condado de Los Ángeles y el Museo de La Brea Tar Pits vendrán a su hogar. Prepárate un cóctel botánico en casa y únete a nuestros eventos EN VIVO. Suba las melodías del DJ y únase a una conversación con el personal del museo\, que llegará a la raíz de las plantas desde el presente hasta la Edad de Hielo. Celebre sus noches de verano con la naturaleza\, la música y el crecimiento de su curiosidad en el mundo a su alrededor. \n#SummerNights \n\nnhm.org/summernights
URL:https://expositionpark.ca.gov/event/summer-nights-at-home-virtual-platform/2020-08-07/
LOCATION:CA\, United States
END:VEVENT
BEGIN:VEVENT
DTSTART;VALUE=DATE:20200810
DTEND;VALUE=DATE:20200815
DTSTAMP:20260422T232447
CREATED:20200228T205337Z
LAST-MODIFIED:20200228T205337Z
UID:10053447-1597017600-1597449599@expositionpark.ca.gov
SUMMARY:Hands-On Science Camp *Week 8*
DESCRIPTION:California Science Center’s Hands-On Science Camp\nExplore with us this Summer! (Pre-K – 10th Grade) \nExciting explorations\, delightful discoveries and wild wonders await your family this summer at Hands-On Science Camp at the California Science Center. We offer more than 30 courses\, including popular parent-and-child classes that give families a chance to investigate science together. The Hands-On Science Camp staff consists of education professionals and working professionals in science fields. Your child will have a unique\, fun and engaging summer! \nMorning Session 9:00am – 11:30am \nAfternoon Session 12:30pm – 3:30pm \n**Extended care is available for early drop off and late pick up for Kinder – 10th Grade campers. \n**A supervised lunch from 11:30am – 12:30pm is automatically included for campers attending a full day of camp from 9:00am – 3:30pm. \nEnroll Online
URL:https://expositionpark.ca.gov/event/hands-on-science-camp-week-8/
LOCATION:California Science Center\, 700 Exposition Park Drive\, Los Angeles\, CA\, 90037\, United States
ORGANIZER;CN="California Science Center%3A Education Department":MAILTO:educationprograms@cscmail.org
GEO:34.0157877;-118.2862095
X-APPLE-STRUCTURED-LOCATION;VALUE=URI;X-ADDRESS=California Science Center 700 Exposition Park Drive Los Angeles CA 90037 United States;X-APPLE-RADIUS=500;X-TITLE=700 Exposition Park Drive:geo:-118.2862095,34.0157877
END:VEVENT
BEGIN:VEVENT
DTSTART;TZID=America/Los_Angeles:20200815T080000
DTEND;TZID=America/Los_Angeles:20200815T120000
DTSTAMP:20260422T232447
CREATED:20200706T233005Z
LAST-MODIFIED:20200706T233727Z
UID:10053488-1597478400-1597492800@expositionpark.ca.gov
SUMMARY:Mother's In Action - Community Event - Pending
DESCRIPTION:Backpack Giveaway – Pre-registration necessary.  Will provide information when event is confirmed.
URL:https://expositionpark.ca.gov/event/mothers-in-action-community-event-pending/
LOCATION:CA\, United States
END:VEVENT
BEGIN:VEVENT
DTSTART;TZID=America/Los_Angeles:20200815T110000
DTEND;TZID=America/Los_Angeles:20200815T140000
DTSTAMP:20260422T232447
CREATED:20200817T184342Z
LAST-MODIFIED:20200817T184342Z
UID:10053494-1597489200-1597500000@expositionpark.ca.gov
SUMMARY:EXPO Center's Grab and Go Food Giveaway
DESCRIPTION:FREE food distribution for the EXPO Center Community at the EXPO Center Boardwalk #1. Boardwalk #1 is located between the EXPO Center Swim Stadium and EXPO Center Senior Center.
URL:https://expositionpark.ca.gov/event/expo-centers-grab-and-go-food-giveaway/
LOCATION:EXPO Center
END:VEVENT
BEGIN:VEVENT
DTSTART;TZID=America/Los_Angeles:20200824T183000
DTEND;TZID=America/Los_Angeles:20200824T233000
DTSTAMP:20260422T232447
CREATED:20200824T232827Z
LAST-MODIFIED:20200824T232827Z
UID:10053496-1598293800-1598311800@expositionpark.ca.gov
SUMMARY:Drive-In Gala
DESCRIPTION:
URL:https://expositionpark.ca.gov/event/drive-in-gala/
LOCATION:Green Lot (Formerly Lot 6)\, 3986 Hoover St\, Los Angeles\, CA\, 90037\, United States
END:VEVENT
BEGIN:VEVENT
DTSTART;TZID=America/Los_Angeles:20200826T100000
DTEND;TZID=America/Los_Angeles:20200826T140000
DTSTAMP:20260422T232447
CREATED:20200820T155410Z
LAST-MODIFIED:20200820T155410Z
UID:10053495-1598436000-1598450400@expositionpark.ca.gov
SUMMARY:NHMLAC Internal Filming
DESCRIPTION:
URL:https://expositionpark.ca.gov/event/nhmlac-internal-filming/
LOCATION:Natural History Museum of Los Angeles County\, 900 Exposition Blvd.\, Los Angeles\, CA\, 90007\, United States
ORGANIZER;CN="Special Events":MAILTO:specialevents@nhm.org
GEO:34.0170769;-118.2886818
X-APPLE-STRUCTURED-LOCATION;VALUE=URI;X-ADDRESS=Natural History Museum of Los Angeles County 900 Exposition Blvd. Los Angeles CA 90007 United States;X-APPLE-RADIUS=500;X-TITLE=900 Exposition Blvd.:geo:-118.2886818,34.0170769
END:VEVENT
BEGIN:VEVENT
DTSTART;VALUE=DATE:20200829
DTEND;VALUE=DATE:20200830
DTSTAMP:20260422T232447
CREATED:20200312T215236Z
LAST-MODIFIED:20200312T215236Z
UID:10051695-1598659200-1598745599@expositionpark.ca.gov
SUMMARY:Concert
DESCRIPTION:
URL:https://expositionpark.ca.gov/event/concert-4/
LOCATION:Banc of California Stadium\, United States
GEO:37.09024;-95.712891
END:VEVENT
BEGIN:VEVENT
DTSTART;TZID=America/Los_Angeles:20200905T190000
DTEND;TZID=America/Los_Angeles:20200905T230000
DTSTAMP:20260422T232447
CREATED:20200831T160049Z
LAST-MODIFIED:20200901T155855Z
UID:10053498-1599332400-1599346800@expositionpark.ca.gov
SUMMARY:Drive-In At the Park
DESCRIPTION:Sponsored by LA County Supervisor Mark Ridley-Thomas\, Exposition Park and Los Angeles Football Club. \nFeaturing: Cool Runnings \nRSVP at TICKETFAIRY.COM/RSVP \nUse Code: Driven1 \nSpace is limited and RSVP is required. Only one ticket is required per vehicle per vehicle. Walk ups are not permitted. \nSocial Distance will be observed.
URL:https://expositionpark.ca.gov/event/drive-in-at-the-park/
LOCATION:Green Lot (Formerly Lot 6)\, 3986 Hoover St\, Los Angeles\, CA\, 90037\, United States
ORGANIZER;CN="Adriana Vasquez":MAILTO:Adriana.Vasquez@Expositionpark.ca.gov
END:VEVENT
BEGIN:VEVENT
DTSTART;TZID=America/Los_Angeles:20200919T080000
DTEND;TZID=America/Los_Angeles:20200919T130000
DTSTAMP:20260422T232448
CREATED:20200828T021748Z
LAST-MODIFIED:20200828T021748Z
UID:10053497-1600502400-1600520400@expositionpark.ca.gov
SUMMARY:Building Bridges
DESCRIPTION:Community Sponsored Event
URL:https://expositionpark.ca.gov/event/building-bridges/
LOCATION:Plaza D and State Drive\, CA\, United States
END:VEVENT
BEGIN:VEVENT
DTSTART;TZID=America/Los_Angeles:20200922T070000
DTEND;TZID=America/Los_Angeles:20201001T220000
DTSTAMP:20260422T232448
CREATED:20200918T220448Z
LAST-MODIFIED:20200918T220448Z
UID:10053505-1600758000-1601589600@expositionpark.ca.gov
SUMMARY:WB Basecamp
DESCRIPTION:Filming basecamp in Pink Lot.
URL:https://expositionpark.ca.gov/event/wb-basecamp/
LOCATION:Pink Lot\, CA\, United States
END:VEVENT
BEGIN:VEVENT
DTSTART;TZID=America/Los_Angeles:20200923T150000
DTEND;TZID=America/Los_Angeles:20200924T150000
DTSTAMP:20260422T232448
CREATED:20200727T190448Z
LAST-MODIFIED:20200727T190448Z
UID:10053490-1600873200-1600959600@expositionpark.ca.gov
SUMMARY:US Census Bureau
DESCRIPTION:Use of Lot 4 and Lot 6 East (partial) for census activation over 24 hour period.
URL:https://expositionpark.ca.gov/event/us-census-bureau-2/
LOCATION:CA\, United States
END:VEVENT
BEGIN:VEVENT
DTSTART;TZID=America/Los_Angeles:20200923T193000
DTEND;TZID=America/Los_Angeles:20200923T220000
DTSTAMP:20260422T232448
CREATED:20200914T171918Z
LAST-MODIFIED:20200914T171918Z
UID:10053500-1600889400-1600898400@expositionpark.ca.gov
SUMMARY:LAFC vs Vancouver Whitecaps FC
DESCRIPTION:Home match at Banc of California Stadium with no fans.
URL:https://expositionpark.ca.gov/event/lafc-vs-vancouver-whitecaps-fc-2/
LOCATION:Banc of California Stadium\, 3939 S. Figueroa Street\, Los Angeles\, CA\, 90037\, United States
ORGANIZER;CN="Brian Smith":MAILTO:brian.smith@lafc.com
END:VEVENT
BEGIN:VEVENT
DTSTART;TZID=America/Los_Angeles:20200926T183000
DTEND;TZID=America/Los_Angeles:20200926T220000
DTSTAMP:20260422T232448
CREATED:20200914T232239Z
LAST-MODIFIED:20200914T232239Z
UID:10053504-1601145000-1601157600@expositionpark.ca.gov
SUMMARY:Street Food Cinema Drive-In
DESCRIPTION:Private Event
URL:https://expositionpark.ca.gov/event/street-food-cinema-drive-in/
LOCATION:Green Lot (Formerly Lot 6)\, 3986 Hoover St\, Los Angeles\, CA\, 90037\, United States
END:VEVENT
BEGIN:VEVENT
DTSTART;TZID=America/Los_Angeles:20200927T193000
DTEND;TZID=America/Los_Angeles:20200927T220000
DTSTAMP:20260422T232448
CREATED:20200914T172953Z
LAST-MODIFIED:20200914T172953Z
UID:10053501-1601235000-1601244000@expositionpark.ca.gov
SUMMARY:LAFC vs San Jose Earthquakes
DESCRIPTION:Home match at Banc of California Stadium with no fans.
URL:https://expositionpark.ca.gov/event/lafc-vs-san-jose-earthquakes-3/
LOCATION:Banc of California Stadium\, 3939 S. Figueroa Street\, Los Angeles\, CA\, 90037\, United States
ORGANIZER;CN="Brian Smith":MAILTO:brian.smith@lafc.com
END:VEVENT
BEGIN:VEVENT
DTSTART;TZID=America/Los_Angeles:20200928T100000
DTEND;TZID=America/Los_Angeles:20200928T210000
DTSTAMP:20260422T232448
CREATED:20200928T175400Z
LAST-MODIFIED:20200928T175400Z
UID:10051732-1601287200-1601326800@expositionpark.ca.gov
SUMMARY:Private Filming
DESCRIPTION:
URL:https://expositionpark.ca.gov/event/private-filming/
LOCATION:Banc of California Stadium\, 3939 S Figueroa St\, Los Angeles\, CA\, 90037\, United States
END:VEVENT
BEGIN:VEVENT
DTSTART;TZID=America/Los_Angeles:20201004T120000
DTEND;TZID=America/Los_Angeles:20201004T150000
DTSTAMP:20260422T232448
CREATED:20201003T012902Z
LAST-MODIFIED:20201003T012902Z
UID:10051734-1601812800-1601823600@expositionpark.ca.gov
SUMMARY:LAFC Member Care Package Event
DESCRIPTION:Private event – Not Open to the Public
URL:https://expositionpark.ca.gov/event/lafc-member-care-package-event-2/
LOCATION:S. Coliseum Drive
GEO:36.778261;-119.4179324
END:VEVENT
END:VCALENDAR