BEGIN:VCALENDAR
VERSION:2.0
PRODID:-//Exposition Park - ECPv6.15.20//NONSGML v1.0//EN
CALSCALE:GREGORIAN
METHOD:PUBLISH
X-WR-CALNAME:Exposition Park
X-ORIGINAL-URL:https://expositionpark.ca.gov
X-WR-CALDESC:Events for Exposition Park
REFRESH-INTERVAL;VALUE=DURATION:PT1H
X-Robots-Tag:noindex
X-PUBLISHED-TTL:PT1H
BEGIN:VTIMEZONE
TZID:America/Los_Angeles
BEGIN:DAYLIGHT
TZOFFSETFROM:-0800
TZOFFSETTO:-0700
TZNAME:PDT
DTSTART:20190310T100000
END:DAYLIGHT
BEGIN:STANDARD
TZOFFSETFROM:-0700
TZOFFSETTO:-0800
TZNAME:PST
DTSTART:20191103T090000
END:STANDARD
BEGIN:DAYLIGHT
TZOFFSETFROM:-0800
TZOFFSETTO:-0700
TZNAME:PDT
DTSTART:20200308T100000
END:DAYLIGHT
BEGIN:STANDARD
TZOFFSETFROM:-0700
TZOFFSETTO:-0800
TZNAME:PST
DTSTART:20201101T090000
END:STANDARD
BEGIN:DAYLIGHT
TZOFFSETFROM:-0800
TZOFFSETTO:-0700
TZNAME:PDT
DTSTART:20210314T100000
END:DAYLIGHT
BEGIN:STANDARD
TZOFFSETFROM:-0700
TZOFFSETTO:-0800
TZNAME:PST
DTSTART:20211107T090000
END:STANDARD
END:VTIMEZONE
BEGIN:VEVENT
DTSTART;TZID=America/Los_Angeles:20201108T080000
DTEND;TZID=America/Los_Angeles:20201108T170000
DTSTAMP:20260420T091644
CREATED:20170215T230650Z
LAST-MODIFIED:20170215T230650Z
UID:10047228-1604822400-1604854800@expositionpark.ca.gov
SUMMARY:Vermont Sports Club
DESCRIPTION:
URL:https://expositionpark.ca.gov/event/vermont-sports-club-9/2020-11-08/
LOCATION:EXPO Center\, 3980 Bill Robertson Lane\, Los Angeles\, CA\, 90037\, United States
GEO:34.0121136;-118.2900829
X-APPLE-STRUCTURED-LOCATION;VALUE=URI;X-ADDRESS=EXPO Center 3980 Bill Robertson Lane Los Angeles CA 90037 United States;X-APPLE-RADIUS=500;X-TITLE=3980 Bill Robertson Lane:geo:-118.2900829,34.0121136
END:VEVENT
BEGIN:VEVENT
DTSTART;TZID=America/Los_Angeles:20201108T153000
DTEND;TZID=America/Los_Angeles:20201108T173000
DTSTAMP:20260420T091644
CREATED:20201009T221859Z
LAST-MODIFIED:20201009T221859Z
UID:10051740-1604849400-1604856600@expositionpark.ca.gov
SUMMARY:LAFC vs Portland Timbers
DESCRIPTION:
URL:https://expositionpark.ca.gov/event/lafc-vs-portland-timbers-3/
LOCATION:Banc of California Stadium\, 3939 S. Figueroa Street\, Los Angeles\, CA\, 90037\, United States
ORGANIZER;CN="Brian Smith":MAILTO:brian.smith@lafc.com
END:VEVENT
BEGIN:VEVENT
DTSTART;TZID=America/Los_Angeles:20201109T180000
DTEND;TZID=America/Los_Angeles:20201109T210000
DTSTAMP:20260420T091644
CREATED:20170214T222616Z
LAST-MODIFIED:20170214T222616Z
UID:10049003-1604944800-1604955600@expositionpark.ca.gov
SUMMARY:EXPO Soccer Clinic
DESCRIPTION:
URL:https://expositionpark.ca.gov/event/expo-soccer-clinic/2020-11-09/
LOCATION:EXPO Center\, 3980 Bill Robertson Lane\, Los Angeles\, CA\, 90037\, United States
GEO:34.0121136;-118.2900829
X-APPLE-STRUCTURED-LOCATION;VALUE=URI;X-ADDRESS=EXPO Center 3980 Bill Robertson Lane Los Angeles CA 90037 United States;X-APPLE-RADIUS=500;X-TITLE=3980 Bill Robertson Lane:geo:-118.2900829,34.0121136
END:VEVENT
BEGIN:VEVENT
DTSTART;TZID=America/Los_Angeles:20201109T211500
DTEND;TZID=America/Los_Angeles:20201109T221500
DTSTAMP:20260420T091644
CREATED:20170214T222531Z
LAST-MODIFIED:20170214T222531Z
UID:10048180-1604956500-1604960100@expositionpark.ca.gov
SUMMARY:Tri-Color Soccer League
DESCRIPTION:
URL:https://expositionpark.ca.gov/event/tri-color-soccer-league/2020-11-09/
LOCATION:EXPO Center\, 3980 Bill Robertson Lane\, Los Angeles\, CA\, 90037\, United States
GEO:34.0121136;-118.2900829
X-APPLE-STRUCTURED-LOCATION;VALUE=URI;X-ADDRESS=EXPO Center 3980 Bill Robertson Lane Los Angeles CA 90037 United States;X-APPLE-RADIUS=500;X-TITLE=3980 Bill Robertson Lane:geo:-118.2900829,34.0121136
END:VEVENT
BEGIN:VEVENT
DTSTART;TZID=America/Los_Angeles:20201110T070000
DTEND;TZID=America/Los_Angeles:20201113T210000
DTSTAMP:20260420T091644
CREATED:20201106T163826Z
LAST-MODIFIED:20201106T163826Z
UID:10053513-1604991600-1605301200@expositionpark.ca.gov
SUMMARY:Private Filming
DESCRIPTION:
URL:https://expositionpark.ca.gov/event/private-filming-3/
LOCATION:Banc of California Stadium\, 3939 S Figueroa St\, Los Angeles\, CA\, 90037\, United States
ORGANIZER;CN="Ginny Sze":MAILTO:ginny.sze@lafc.com
END:VEVENT
BEGIN:VEVENT
DTSTART;TZID=America/Los_Angeles:20201110T143000
DTEND;TZID=America/Los_Angeles:20201110T173000
DTSTAMP:20260420T091644
CREATED:20170215T230251Z
LAST-MODIFIED:20170215T230251Z
UID:10045699-1605018600-1605029400@expositionpark.ca.gov
SUMMARY:USC Hybrid
DESCRIPTION:
URL:https://expositionpark.ca.gov/event/usc-hybrid/2020-11-10/
LOCATION:EXPO Center\, 3980 Bill Robertson Lane\, Los Angeles\, CA\, 90037\, United States
GEO:34.0121136;-118.2900829
X-APPLE-STRUCTURED-LOCATION;VALUE=URI;X-ADDRESS=EXPO Center 3980 Bill Robertson Lane Los Angeles CA 90037 United States;X-APPLE-RADIUS=500;X-TITLE=3980 Bill Robertson Lane:geo:-118.2900829,34.0121136
END:VEVENT
BEGIN:VEVENT
DTSTART;TZID=America/Los_Angeles:20201110T180000
DTEND;TZID=America/Los_Angeles:20201110T210000
DTSTAMP:20260420T091644
CREATED:20170214T222818Z
LAST-MODIFIED:20170214T222818Z
UID:10050101-1605031200-1605042000@expositionpark.ca.gov
SUMMARY:Vermont Sports Club
DESCRIPTION:
URL:https://expositionpark.ca.gov/event/vermont-sports-club-7/2020-11-10/
LOCATION:EXPO Center\, 3980 Bill Robertson Lane\, Los Angeles\, CA\, 90037\, United States
GEO:34.0121136;-118.2900829
X-APPLE-STRUCTURED-LOCATION;VALUE=URI;X-ADDRESS=EXPO Center 3980 Bill Robertson Lane Los Angeles CA 90037 United States;X-APPLE-RADIUS=500;X-TITLE=3980 Bill Robertson Lane:geo:-118.2900829,34.0121136
END:VEVENT
BEGIN:VEVENT
DTSTART;TZID=America/Los_Angeles:20201110T213000
DTEND;TZID=America/Los_Angeles:20201110T223000
DTSTAMP:20260420T091644
CREATED:20170215T225948Z
LAST-MODIFIED:20170215T225948Z
UID:10044837-1605043800-1605047400@expositionpark.ca.gov
SUMMARY:Tri-Color Soccer League
DESCRIPTION:
URL:https://expositionpark.ca.gov/event/tri-color-soccer-league-2/2020-11-10/
LOCATION:EXPO Center\, 3980 Bill Robertson Lane\, Los Angeles\, CA\, 90037\, United States
GEO:34.0121136;-118.2900829
X-APPLE-STRUCTURED-LOCATION;VALUE=URI;X-ADDRESS=EXPO Center 3980 Bill Robertson Lane Los Angeles CA 90037 United States;X-APPLE-RADIUS=500;X-TITLE=3980 Bill Robertson Lane:geo:-118.2900829,34.0121136
END:VEVENT
BEGIN:VEVENT
DTSTART;TZID=America/Los_Angeles:20201111T080000
DTEND;TZID=America/Los_Angeles:20201111T170000
DTSTAMP:20260420T091644
CREATED:20170215T230401Z
LAST-MODIFIED:20170215T230401Z
UID:10046366-1605081600-1605114000@expositionpark.ca.gov
SUMMARY:New Star
DESCRIPTION:
URL:https://expositionpark.ca.gov/event/new-star/2020-11-11/
LOCATION:EXPO Center\, 3980 Bill Robertson Lane\, Los Angeles\, CA\, 90037\, United States
GEO:34.0121136;-118.2900829
X-APPLE-STRUCTURED-LOCATION;VALUE=URI;X-ADDRESS=EXPO Center 3980 Bill Robertson Lane Los Angeles CA 90037 United States;X-APPLE-RADIUS=500;X-TITLE=3980 Bill Robertson Lane:geo:-118.2900829,34.0121136
END:VEVENT
BEGIN:VEVENT
DTSTART;TZID=America/Los_Angeles:20201113T080000
DTEND;TZID=America/Los_Angeles:20201113T170000
DTSTAMP:20260420T091644
CREATED:20170215T230439Z
LAST-MODIFIED:20170215T230439Z
UID:10046797-1605254400-1605286800@expositionpark.ca.gov
SUMMARY:San Pedro Soccer League
DESCRIPTION:
URL:https://expositionpark.ca.gov/event/san-pedro-soccer-league-3/2020-11-13/
LOCATION:EXPO Center\, 3980 Bill Robertson Lane\, Los Angeles\, CA\, 90037\, United States
GEO:34.0121136;-118.2900829
X-APPLE-STRUCTURED-LOCATION;VALUE=URI;X-ADDRESS=EXPO Center 3980 Bill Robertson Lane Los Angeles CA 90037 United States;X-APPLE-RADIUS=500;X-TITLE=3980 Bill Robertson Lane:geo:-118.2900829,34.0121136
END:VEVENT
BEGIN:VEVENT
DTSTART;TZID=America/Los_Angeles:20201114T070000
DTEND;TZID=America/Los_Angeles:20201114T150000
DTSTAMP:20260420T091644
CREATED:20201008T185052Z
LAST-MODIFIED:20201008T185052Z
UID:10051736-1605337200-1605366000@expositionpark.ca.gov
SUMMARY:Field Hockey Clinic
DESCRIPTION:
URL:https://expositionpark.ca.gov/event/field-hockey-clinic/
LOCATION:Soboroff Playfield\, 3980 S. Bill Robertson Lane\, Los Angeles\, CA\, 90037\, United States
END:VEVENT
BEGIN:VEVENT
DTSTART;TZID=America/Los_Angeles:20201118T090000
DTEND;TZID=America/Los_Angeles:20201118T120000
DTSTAMP:20260420T091644
CREATED:20201110T230559Z
LAST-MODIFIED:20201110T230559Z
UID:10053516-1605690000-1605700800@expositionpark.ca.gov
SUMMARY:LAFC Thanksgiving Box Donation
DESCRIPTION:Drive through event on South Coliseum Drive.
URL:https://expositionpark.ca.gov/event/lafc-thanksgiving-box-donation/
LOCATION:S. Coliseum Drive
GEO:36.778261;-119.4179324
END:VEVENT
BEGIN:VEVENT
DTSTART;TZID=America/Los_Angeles:20201119T140000
DTEND;TZID=America/Los_Angeles:20201119T180000
DTSTAMP:20260420T091644
CREATED:20201124T194502Z
LAST-MODIFIED:20201124T194502Z
UID:10053521-1605794400-1605808800@expositionpark.ca.gov
SUMMARY:Donation Drive at BOCS
DESCRIPTION:Donation Drive at BOCS Gold Lot from 2-6pm.
URL:https://expositionpark.ca.gov/event/donation-drive-at-bocs/
LOCATION:Banc of California Stadium\, 3939 S. Figueroa Street\, Los Angeles\, CA\, 90037\, United States
ORGANIZER;CN="Brian Smith":MAILTO:brian.smith@lafc.com
END:VEVENT
BEGIN:VEVENT
DTSTART;TZID=America/Los_Angeles:20201119T153000
DTEND;TZID=America/Los_Angeles:20201119T170000
DTSTAMP:20260420T091644
CREATED:20201119T212532Z
LAST-MODIFIED:20201119T212532Z
UID:10053520-1605799800-1605805200@expositionpark.ca.gov
SUMMARY:Press Conference at BOCS
DESCRIPTION:Press conference on NW Plaza of BOCS. Guests to park in Gold Lot and BOCS loading dock. Anticipate media trucks to park on S. Coliseum Drive.
URL:https://expositionpark.ca.gov/event/press-conference-at-bocs/
LOCATION:Banc of California Stadium\, 3939 S. Figueroa Street\, Los Angeles\, CA\, 90037\, United States
ORGANIZER;CN="Brian Smith":MAILTO:brian.smith@lafc.com
END:VEVENT
BEGIN:VEVENT
DTSTART;TZID=America/Los_Angeles:20201123T040000
DTEND;TZID=America/Los_Angeles:20201124T235900
DTSTAMP:20260420T091645
CREATED:20201103T232337Z
LAST-MODIFIED:20201103T232337Z
UID:10053512-1606104000-1606262340@expositionpark.ca.gov
SUMMARY:Keystone TV Productions\, LLC
DESCRIPTION:
URL:https://expositionpark.ca.gov/event/keystone-tv-productions-llc/
LOCATION:State Drive\, Exposition Park Drive and Blue Strucure\, CA\, United States
END:VEVENT
BEGIN:VEVENT
DTSTART;TZID=America/Los_Angeles:20201123T070000
DTEND;TZID=America/Los_Angeles:20201123T190000
DTSTAMP:20260420T091645
CREATED:20201114T043203Z
LAST-MODIFIED:20201114T043203Z
UID:10053517-1606114800-1606158000@expositionpark.ca.gov
SUMMARY:Filming
DESCRIPTION:Filming at NHMLAC
URL:https://expositionpark.ca.gov/event/filming-3/
LOCATION:Natural History Museum of Los Angeles County\, 900 Exposition Blvd.\, Los Angeles\, CA\, 90007\, United States
ORGANIZER;CN="NHMLA Special Events":MAILTO:specialevents@nhm.org
GEO:34.0170769;-118.2886818
X-APPLE-STRUCTURED-LOCATION;VALUE=URI;X-ADDRESS=Natural History Museum of Los Angeles County 900 Exposition Blvd. Los Angeles CA 90007 United States;X-APPLE-RADIUS=500;X-TITLE=900 Exposition Blvd.:geo:-118.2886818,34.0170769
END:VEVENT
BEGIN:VEVENT
DTSTART;TZID=America/Los_Angeles:20201124T070000
DTEND;TZID=America/Los_Angeles:20201124T210000
DTSTAMP:20260420T091645
CREATED:20201114T043234Z
LAST-MODIFIED:20201114T043234Z
UID:10053518-1606201200-1606251600@expositionpark.ca.gov
SUMMARY:Filming
DESCRIPTION:Filming at NHMLAC
URL:https://expositionpark.ca.gov/event/filming-4/
LOCATION:Natural History Museum of Los Angeles County\, 900 Exposition Blvd.\, Los Angeles\, CA\, 90007\, United States
ORGANIZER;CN="NHMLA Special Events":MAILTO:specialevents@nhm.org
GEO:34.0170769;-118.2886818
X-APPLE-STRUCTURED-LOCATION;VALUE=URI;X-ADDRESS=Natural History Museum of Los Angeles County 900 Exposition Blvd. Los Angeles CA 90007 United States;X-APPLE-RADIUS=500;X-TITLE=900 Exposition Blvd.:geo:-118.2886818,34.0170769
END:VEVENT
BEGIN:VEVENT
DTSTART;TZID=America/Los_Angeles:20201125T070000
DTEND;TZID=America/Los_Angeles:20201125T190000
DTSTAMP:20260420T091645
CREATED:20201114T043250Z
LAST-MODIFIED:20201114T043250Z
UID:10053519-1606287600-1606330800@expositionpark.ca.gov
SUMMARY:Filming
DESCRIPTION:Filming at NHMLAC
URL:https://expositionpark.ca.gov/event/filming-5/
LOCATION:Natural History Museum of Los Angeles County\, 900 Exposition Blvd.\, Los Angeles\, CA\, 90007\, United States
ORGANIZER;CN="NHMLA Special Events":MAILTO:specialevents@nhm.org
GEO:34.0170769;-118.2886818
X-APPLE-STRUCTURED-LOCATION;VALUE=URI;X-ADDRESS=Natural History Museum of Los Angeles County 900 Exposition Blvd. Los Angeles CA 90007 United States;X-APPLE-RADIUS=500;X-TITLE=900 Exposition Blvd.:geo:-118.2886818,34.0170769
END:VEVENT
BEGIN:VEVENT
DTSTART;VALUE=DATE:20201128
DTEND;VALUE=DATE:20201129
DTSTAMP:20260420T091645
CREATED:20201009T222319Z
LAST-MODIFIED:20201009T222319Z
UID:10053507-1606521600-1606607999@expositionpark.ca.gov
SUMMARY:Colorado vs USC
DESCRIPTION:Kickoff times for games will be announced later\, usually within a 12-day window but occasionally within a 6-day window of the game. This is determined by the Pac-12 agreement with conference media partners ESPN and Fox. All games will be nationally televised by either the ESPN channels\, ABC\, FOX\, FOX Sports 1 or Pac-12 Networks. \nSpectator attendance during the COVID-19 pandemic is to be determined upon guidance issued by state and Los Angeles County public health officials. At this time no spectator attendance is allowed. \nAll football competitions will be conducted in accordance with the Pac-12 COVID-19 Medical Advisory Committee health and safety recommendations and guidelines The Conference is prepared to adjust plans if the health situation changes.
URL:https://expositionpark.ca.gov/event/colorado-vs-usc-2/
LOCATION:United Airlines Field at the Los Angeles Memorial Coliseum\, 3911 S Figueroa St\, Los Angeles\, CA\, CA\, 90037\, United States
END:VEVENT
BEGIN:VEVENT
DTSTART;TZID=America/Los_Angeles:20201201T070000
DTEND;TZID=America/Los_Angeles:20201201T130000
DTSTAMP:20260420T091645
CREATED:20170214T011928Z
LAST-MODIFIED:20170214T011928Z
UID:10047857-1606806000-1606827600@expositionpark.ca.gov
SUMMARY:Board of Commissioners Meeting
DESCRIPTION:
URL:https://expositionpark.ca.gov/event/board-of-commissioners-meeting/2020-12-01/
LOCATION:EXPO Center\, 3980 Bill Robertson Lane\, Los Angeles\, CA\, 90037\, United States
GEO:34.0121136;-118.2900829
X-APPLE-STRUCTURED-LOCATION;VALUE=URI;X-ADDRESS=EXPO Center 3980 Bill Robertson Lane Los Angeles CA 90037 United States;X-APPLE-RADIUS=500;X-TITLE=3980 Bill Robertson Lane:geo:-118.2900829,34.0121136
END:VEVENT
BEGIN:VEVENT
DTSTART;VALUE=DATE:20201204
DTEND;VALUE=DATE:20201205
DTSTAMP:20260420T091645
CREATED:20201009T222319Z
LAST-MODIFIED:20201009T222319Z
UID:10053508-1607040000-1607126399@expositionpark.ca.gov
SUMMARY:Washington St. vs USC
DESCRIPTION:Kickoff times for games will be announced later\, usually within a 12-day window but occasionally within a 6-day window of the game. This is determined by the Pac-12 agreement with conference media partners ESPN and Fox. All games will be nationally televised by either the ESPN channels\, ABC\, FOX\, FOX Sports 1 or Pac-12 Networks. \nSpectator attendance during the COVID-19 pandemic is to be determined upon guidance issued by state and Los Angeles County public health officials. At this time no spectator attendance is allowed. \nAll football competitions will be conducted in accordance with the Pac-12 COVID-19 Medical Advisory Committee health and safety recommendations and guidelines The Conference is prepared to adjust plans if the health situation changes.
URL:https://expositionpark.ca.gov/event/washington-st-vs-usc/
LOCATION:United Airlines Field at the Los Angeles Memorial Coliseum\, 3911 S Figueroa St\, Los Angeles\, CA\, CA\, 90037\, United States
END:VEVENT
BEGIN:VEVENT
DTSTART;TZID=America/Los_Angeles:20201205T160000
DTEND;TZID=America/Los_Angeles:20201205T235900
DTSTAMP:20260420T091645
CREATED:20200312T215407Z
LAST-MODIFIED:20201207T213330Z
UID:10051699-1607184000-1607212740@expositionpark.ca.gov
SUMMARY:Postponed - Private Event
DESCRIPTION:
URL:https://expositionpark.ca.gov/event/private-event-230/
LOCATION:Natural History Museum of Los Angeles County\, 900 Exposition Blvd.\, Los Angeles\, CA\, 90007\, United States
GEO:34.0170769;-118.2886818
X-APPLE-STRUCTURED-LOCATION;VALUE=URI;X-ADDRESS=Natural History Museum of Los Angeles County 900 Exposition Blvd. Los Angeles CA 90007 United States;X-APPLE-RADIUS=500;X-TITLE=900 Exposition Blvd.:geo:-118.2886818,34.0170769
END:VEVENT
BEGIN:VEVENT
DTSTART;TZID=America/Los_Angeles:20201208T130000
DTEND;TZID=America/Los_Angeles:20201208T150000
DTSTAMP:20260420T091645
CREATED:20201210T003543Z
LAST-MODIFIED:20201210T003543Z
UID:10053522-1607432400-1607439600@expositionpark.ca.gov
SUMMARY:Private Event
DESCRIPTION:Private filming @ Banc of California Stadium
URL:https://expositionpark.ca.gov/event/private-event-183/
LOCATION:Banc of California Stadium\, United States
GEO:37.09024;-95.712891
END:VEVENT
BEGIN:VEVENT
DTSTART;TZID=America/Los_Angeles:20201212T090000
DTEND;TZID=America/Los_Angeles:20201212T160000
DTSTAMP:20260420T091645
CREATED:20201210T003630Z
LAST-MODIFIED:20201210T003630Z
UID:10053523-1607763600-1607788800@expositionpark.ca.gov
SUMMARY:USC Athletics Holiday Gift Distribution
DESCRIPTION:Guests will not park for this event.  Tickets have been distributed in advance.  Vehicles will enter from Figueroa and proceed to Exposition Park Dr. to Coliseum Gate 23. Guests will remain in their vehicles for gift distribution. 1\,000 participants over 2 days.
URL:https://expositionpark.ca.gov/event/usc-athletics-holiday-gift-distribution/2020-12-12/
LOCATION:Los Angeles Memorial Coliseum\, 3911 S. Figueroa St.\, Los Angeles\, CA\, CA\, 90037\, United States
GEO:34.0128523;-118.2845395
X-APPLE-STRUCTURED-LOCATION;VALUE=URI;X-ADDRESS=Los Angeles Memorial Coliseum 3911 S. Figueroa St. Los Angeles CA CA 90037 United States;X-APPLE-RADIUS=500;X-TITLE=3911 S. Figueroa St.:geo:-118.2845395,34.0128523
END:VEVENT
BEGIN:VEVENT
DTSTART;VALUE=DATE:20201214
DTEND;VALUE=DATE:20201223
DTSTAMP:20260420T091645
CREATED:20201219T154745Z
LAST-MODIFIED:20201219T154745Z
UID:10051756-1607904000-1608681599@expositionpark.ca.gov
SUMMARY:Private Event 12/14 - 12/22
DESCRIPTION:Private filming at Banc of California Stadium
URL:https://expositionpark.ca.gov/event/private-event-12-14-12-22/
LOCATION:Banc of California Stadium\, United States
GEO:37.09024;-95.712891
END:VEVENT
BEGIN:VEVENT
DTSTART;TZID=America/Los_Angeles:20201214T060000
DTEND;TZID=America/Los_Angeles:20201214T193000
DTSTAMP:20260420T091645
CREATED:20201210T003741Z
LAST-MODIFIED:20201210T003741Z
UID:10053525-1607925600-1607974200@expositionpark.ca.gov
SUMMARY:Private Event - 12/14
DESCRIPTION:Private event at Banc of California Stadium
URL:https://expositionpark.ca.gov/event/private-event-12-14/
LOCATION:Banc of California Stadium\, United States
GEO:37.09024;-95.712891
END:VEVENT
BEGIN:VEVENT
DTSTART;TZID=America/Los_Angeles:20201215T080000
DTEND;TZID=America/Los_Angeles:20201215T110000
DTSTAMP:20260420T091645
CREATED:20201212T040100Z
LAST-MODIFIED:20201212T040100Z
UID:10053526-1608019200-1608030000@expositionpark.ca.gov
SUMMARY:Toy and Food Drive
DESCRIPTION:1200 Preregistered guests will be invited to pick up food and toys for the holidays. Not open to general public.
URL:https://expositionpark.ca.gov/event/toy-and-food-drive/
LOCATION:S. Coliseum Drive
GEO:36.778261;-119.4179324
END:VEVENT
BEGIN:VEVENT
DTSTART;TZID=America/Los_Angeles:20201215T080000
DTEND;TZID=America/Los_Angeles:20201215T110000
DTSTAMP:20260420T091645
CREATED:20201219T154725Z
LAST-MODIFIED:20201219T154725Z
UID:10053527-1608019200-1608030000@expositionpark.ca.gov
SUMMARY:Private Event 12/15
DESCRIPTION:
URL:https://expositionpark.ca.gov/event/private-event-12-15/
LOCATION:Banc of California Stadium\, 3939 S Figueroa St\, Los Angeles\, CA\, 90037\, United States
END:VEVENT
BEGIN:VEVENT
DTSTART;TZID=America/Los_Angeles:20201218T170000
DTEND;TZID=America/Los_Angeles:20201218T210000
DTSTAMP:20260420T091645
CREATED:20201009T222319Z
LAST-MODIFIED:20201214T210559Z
UID:10053509-1608310800-1608325200@expositionpark.ca.gov
SUMMARY:Pac-12 Championship USC vs. Oregon
DESCRIPTION:Pac-12 Championship Weekend if determined Coliseum will host a game.
URL:https://expositionpark.ca.gov/event/pac-12-championship-weekend/
LOCATION:United Airlines Field at the Los Angeles Memorial Coliseum\, 3911 S Figueroa St\, Los Angeles\, CA\, CA\, 90037\, United States
END:VEVENT
BEGIN:VEVENT
DTSTART;TZID=America/Los_Angeles:20201219T140000
DTEND;TZID=America/Los_Angeles:20201219T180000
DTSTAMP:20260420T091645
CREATED:20191121T001643Z
LAST-MODIFIED:20191121T001643Z
UID:10053299-1608386400-1608400800@expositionpark.ca.gov
SUMMARY:EXPO's Winter Holiday Festival 2020
DESCRIPTION:Come join the EXPO Center for our annual WINTER HOLIDAY FESTIVAL!!! We will have Santa\, Free Gifts\, Games\, Sledding\, Snow play\, Ice Skating\,  Food\, Performances and Bands from different genre of music! Come and enjoy a Great Community Event.
URL:https://expositionpark.ca.gov/event/expos-winter-holiday-festival-2020/
LOCATION:EXPO Center Front Lawn\, 3980 Bill Robertson Lane\, Los Angeles\, CA\, 90037\, United States
END:VEVENT
END:VCALENDAR