BEGIN:VCALENDAR
VERSION:2.0
PRODID:-//Exposition Park - ECPv6.15.20//NONSGML v1.0//EN
CALSCALE:GREGORIAN
METHOD:PUBLISH
X-ORIGINAL-URL:https://expositionpark.ca.gov
X-WR-CALDESC:Events for Exposition Park
REFRESH-INTERVAL;VALUE=DURATION:PT1H
X-Robots-Tag:noindex
X-PUBLISHED-TTL:PT1H
BEGIN:VTIMEZONE
TZID:America/Los_Angeles
BEGIN:DAYLIGHT
TZOFFSETFROM:-0800
TZOFFSETTO:-0700
TZNAME:PDT
DTSTART:20190310T100000
END:DAYLIGHT
BEGIN:STANDARD
TZOFFSETFROM:-0700
TZOFFSETTO:-0800
TZNAME:PST
DTSTART:20191103T090000
END:STANDARD
BEGIN:DAYLIGHT
TZOFFSETFROM:-0800
TZOFFSETTO:-0700
TZNAME:PDT
DTSTART:20200308T100000
END:DAYLIGHT
BEGIN:STANDARD
TZOFFSETFROM:-0700
TZOFFSETTO:-0800
TZNAME:PST
DTSTART:20201101T090000
END:STANDARD
BEGIN:DAYLIGHT
TZOFFSETFROM:-0800
TZOFFSETTO:-0700
TZNAME:PDT
DTSTART:20210314T100000
END:DAYLIGHT
BEGIN:STANDARD
TZOFFSETFROM:-0700
TZOFFSETTO:-0800
TZNAME:PST
DTSTART:20211107T090000
END:STANDARD
END:VTIMEZONE
BEGIN:VEVENT
DTSTART;TZID=America/Los_Angeles:20200504T090000
DTEND;TZID=America/Los_Angeles:20200731T150000
DTSTAMP:20260421T191046
CREATED:20200505T204629Z
LAST-MODIFIED:20200701T213251Z
UID:10053475-1588582800-1596207600@expositionpark.ca.gov
SUMMARY:COVID-19 Testing
DESCRIPTION:The California community-based program to test individuals for COVID-19\, in collaboration with the Baseline COVID-19 Program\, is now available in our community. This program is free and meant to reduce the burden on our hospital system and is complementary to testing happening in a clinical care situation. People with acute symptoms need acute triage and should not visit the sample collection sites\, as the sites are not prepared to provide medical care. \nIf you are in California and interested in getting tested for COVID-19\, complete an online screener (here) based on guidelines from public health officials and see if testing is available for you through this program at this time. The screener is dynamic and the criteria may change over time based on epidemiological data and government directives. For more detail into the screening and testing process\, please see this video. \nPlease note the following:\n\nTests are available for eligible individuals by appointment only.\nAppointments must be made online. No walk-ups.\nYou must arrive for your appointment in a vehicle.\n\n\nExamen de COVID-19 basada en la comunidad de California\nEl programa comunitario de California para evaluar individuos para COVID-19\, en colaboración con el programa Baseline COVID-19\, ahora está disponible en nuestra comunidad. Este programa es gratuito y ayuda a reducir la carga sobre nuestro sistema hospitalario y es complementario a las pruebas que se realizan en una situación de atención clínica. Las personas con síntomas agudos necesitan un triaje agudo y no deben visitar los sitios de recolección de muestras\, ya que los sitios no están preparados para brindar atención médica. \nSi está en California y está interesado en hacerse la prueba de COVID-19\, complete un examen en línea (aquí) basado en las guias de los funcionarios de salud pública y vea si las pruebas están disponibles para usted a través de este programa en este momento. El analizador es dinámico y los criterios pueden cambiar con el tiempo según los datos epidemiológicos y las directivas gubernamentales. \nTenga en cuenta lo siguiente:\n\nLas pruebas están disponibles para personas elegibles solo con cita previa.\nLas citas deben hacerse por medio del internet. No se aceptan sin cita.\nDebe llegar para su cita en un vehículo.
URL:https://expositionpark.ca.gov/event/covid-19-testing/
LOCATION:Green Lot (Formerly Lot 6)\, 3986 Hoover St\, Los Angeles\, CA\, 90037\, United States
END:VEVENT
BEGIN:VEVENT
DTSTART;VALUE=DATE:20200606
DTEND;VALUE=DATE:20200608
DTSTAMP:20260421T191046
CREATED:20200213T172249Z
LAST-MODIFIED:20200526T210728Z
UID:10051658-1591401600-1591574399@expositionpark.ca.gov
SUMMARY:Virgin Fest LA - Postponed
DESCRIPTION:
URL:https://expositionpark.ca.gov/event/virgin-fest-la/
LOCATION:Banc of Californa\, Lot 4\, 5 and 6\, CA\, United States
END:VEVENT
BEGIN:VEVENT
DTSTART;TZID=America/Los_Angeles:20200606T140000
DTEND;TZID=America/Los_Angeles:20200606T160000
DTSTAMP:20260421T191046
CREATED:20200228T201952Z
LAST-MODIFIED:20200228T201952Z
UID:10051681-1591452000-1591459200@expositionpark.ca.gov
SUMMARY:The Art of Griot: The Stories of Black Futurism
DESCRIPTION:In partnership with Designing in Color and centered around Sanctuary: Recent Acquisitions to the Permanent Collection\, explore the West African traditional practices of the griot to celebrate historical and futuristic stories of black America. This call-and-response performative workshop includes spoken word\, audio\, and visuals. Come ready to be fully engaged and to build a unique sacred space!
URL:https://expositionpark.ca.gov/event/the-art-of-griot-the-stories-of-black-futurism/
LOCATION:California African American Museum\, 600 State Drive\, Los Angeles\, CA\, 90037\, United States
GEO:34.0159415;-118.2836283
X-APPLE-STRUCTURED-LOCATION;VALUE=URI;X-ADDRESS=California African American Museum 600 State Drive Los Angeles CA 90037 United States;X-APPLE-RADIUS=500;X-TITLE=600 State Drive:geo:-118.2836283,34.0159415
END:VEVENT
BEGIN:VEVENT
DTSTART;TZID=America/Los_Angeles:20200607T080000
DTEND;TZID=America/Los_Angeles:20200607T170000
DTSTAMP:20260421T191046
CREATED:20170215T230650Z
LAST-MODIFIED:20170215T230650Z
UID:10047206-1591516800-1591549200@expositionpark.ca.gov
SUMMARY:Vermont Sports Club
DESCRIPTION:
URL:https://expositionpark.ca.gov/event/vermont-sports-club-9/2020-06-07/
LOCATION:EXPO Center\, 3980 Bill Robertson Lane\, Los Angeles\, CA\, 90037\, United States
GEO:34.0121136;-118.2900829
X-APPLE-STRUCTURED-LOCATION;VALUE=URI;X-ADDRESS=EXPO Center 3980 Bill Robertson Lane Los Angeles CA 90037 United States;X-APPLE-RADIUS=500;X-TITLE=3980 Bill Robertson Lane:geo:-118.2900829,34.0121136
END:VEVENT
BEGIN:VEVENT
DTSTART;TZID=America/Los_Angeles:20200607T100000
DTEND;TZID=America/Los_Angeles:20200607T130000
DTSTAMP:20260421T191046
CREATED:20200622T225843Z
LAST-MODIFIED:20200622T225843Z
UID:10051721-1591524000-1591534800@expositionpark.ca.gov
SUMMARY:Peaceful Protest
DESCRIPTION:Peaceful and gathering and walk at Exposition Park.
URL:https://expositionpark.ca.gov/event/peaceful-protest/
LOCATION:Exposition Park Sidewalks\, CA\, United States
END:VEVENT
BEGIN:VEVENT
DTSTART;TZID=America/Los_Angeles:20200608T180000
DTEND;TZID=America/Los_Angeles:20200608T210000
DTSTAMP:20260421T191046
CREATED:20170214T222616Z
LAST-MODIFIED:20170214T222616Z
UID:10048937-1591639200-1591650000@expositionpark.ca.gov
SUMMARY:EXPO Soccer Clinic
DESCRIPTION:
URL:https://expositionpark.ca.gov/event/expo-soccer-clinic/2020-06-08/
LOCATION:EXPO Center\, 3980 Bill Robertson Lane\, Los Angeles\, CA\, 90037\, United States
GEO:34.0121136;-118.2900829
X-APPLE-STRUCTURED-LOCATION;VALUE=URI;X-ADDRESS=EXPO Center 3980 Bill Robertson Lane Los Angeles CA 90037 United States;X-APPLE-RADIUS=500;X-TITLE=3980 Bill Robertson Lane:geo:-118.2900829,34.0121136
END:VEVENT
BEGIN:VEVENT
DTSTART;TZID=America/Los_Angeles:20200608T211500
DTEND;TZID=America/Los_Angeles:20200608T221500
DTSTAMP:20260421T191046
CREATED:20170214T222531Z
LAST-MODIFIED:20170214T222531Z
UID:10048158-1591650900-1591654500@expositionpark.ca.gov
SUMMARY:Tri-Color Soccer League
DESCRIPTION:
URL:https://expositionpark.ca.gov/event/tri-color-soccer-league/2020-06-08/
LOCATION:EXPO Center\, 3980 Bill Robertson Lane\, Los Angeles\, CA\, 90037\, United States
GEO:34.0121136;-118.2900829
X-APPLE-STRUCTURED-LOCATION;VALUE=URI;X-ADDRESS=EXPO Center 3980 Bill Robertson Lane Los Angeles CA 90037 United States;X-APPLE-RADIUS=500;X-TITLE=3980 Bill Robertson Lane:geo:-118.2900829,34.0121136
END:VEVENT
BEGIN:VEVENT
DTSTART;TZID=America/Los_Angeles:20200609T143000
DTEND;TZID=America/Los_Angeles:20200609T173000
DTSTAMP:20260421T191046
CREATED:20170215T230251Z
LAST-MODIFIED:20170215T230251Z
UID:10045655-1591713000-1591723800@expositionpark.ca.gov
SUMMARY:USC Hybrid
DESCRIPTION:
URL:https://expositionpark.ca.gov/event/usc-hybrid/2020-06-09/
LOCATION:EXPO Center\, 3980 Bill Robertson Lane\, Los Angeles\, CA\, 90037\, United States
GEO:34.0121136;-118.2900829
X-APPLE-STRUCTURED-LOCATION;VALUE=URI;X-ADDRESS=EXPO Center 3980 Bill Robertson Lane Los Angeles CA 90037 United States;X-APPLE-RADIUS=500;X-TITLE=3980 Bill Robertson Lane:geo:-118.2900829,34.0121136
END:VEVENT
BEGIN:VEVENT
DTSTART;TZID=America/Los_Angeles:20200609T180000
DTEND;TZID=America/Los_Angeles:20200609T210000
DTSTAMP:20260421T191046
CREATED:20170214T222818Z
LAST-MODIFIED:20170214T222818Z
UID:10050057-1591725600-1591736400@expositionpark.ca.gov
SUMMARY:Vermont Sports Club
DESCRIPTION:
URL:https://expositionpark.ca.gov/event/vermont-sports-club-7/2020-06-09/
LOCATION:EXPO Center\, 3980 Bill Robertson Lane\, Los Angeles\, CA\, 90037\, United States
GEO:34.0121136;-118.2900829
X-APPLE-STRUCTURED-LOCATION;VALUE=URI;X-ADDRESS=EXPO Center 3980 Bill Robertson Lane Los Angeles CA 90037 United States;X-APPLE-RADIUS=500;X-TITLE=3980 Bill Robertson Lane:geo:-118.2900829,34.0121136
END:VEVENT
BEGIN:VEVENT
DTSTART;TZID=America/Los_Angeles:20200609T213000
DTEND;TZID=America/Los_Angeles:20200609T223000
DTSTAMP:20260421T191046
CREATED:20170215T225948Z
LAST-MODIFIED:20170215T225948Z
UID:10044793-1591738200-1591741800@expositionpark.ca.gov
SUMMARY:Tri-Color Soccer League
DESCRIPTION:
URL:https://expositionpark.ca.gov/event/tri-color-soccer-league-2/2020-06-09/
LOCATION:EXPO Center\, 3980 Bill Robertson Lane\, Los Angeles\, CA\, 90037\, United States
GEO:34.0121136;-118.2900829
X-APPLE-STRUCTURED-LOCATION;VALUE=URI;X-ADDRESS=EXPO Center 3980 Bill Robertson Lane Los Angeles CA 90037 United States;X-APPLE-RADIUS=500;X-TITLE=3980 Bill Robertson Lane:geo:-118.2900829,34.0121136
END:VEVENT
BEGIN:VEVENT
DTSTART;TZID=America/Los_Angeles:20200610T080000
DTEND;TZID=America/Los_Angeles:20200610T170000
DTSTAMP:20260421T191046
CREATED:20170215T230401Z
LAST-MODIFIED:20170215T230401Z
UID:10046344-1591776000-1591808400@expositionpark.ca.gov
SUMMARY:New Star
DESCRIPTION:
URL:https://expositionpark.ca.gov/event/new-star/2020-06-10/
LOCATION:EXPO Center\, 3980 Bill Robertson Lane\, Los Angeles\, CA\, 90037\, United States
GEO:34.0121136;-118.2900829
X-APPLE-STRUCTURED-LOCATION;VALUE=URI;X-ADDRESS=EXPO Center 3980 Bill Robertson Lane Los Angeles CA 90037 United States;X-APPLE-RADIUS=500;X-TITLE=3980 Bill Robertson Lane:geo:-118.2900829,34.0121136
END:VEVENT
BEGIN:VEVENT
DTSTART;TZID=America/Los_Angeles:20200610T093000
DTEND;TZID=America/Los_Angeles:20200610T160000
DTSTAMP:20260421T191046
CREATED:20200114T185549Z
LAST-MODIFIED:20200114T185549Z
UID:10053357-1591781400-1591804800@expositionpark.ca.gov
SUMMARY:Homeschool Day: Amazing Habitats
DESCRIPTION:Explore the diversity of habitats on our planet\, both past and present! On this Homeschool Day\, we’ll journey through the habitats of the world in our classic diorama halls and learn more about what makes each habitat a home. You’ll also get the chance to experience how NHM scientists are studying our coastline in our Mobile Museum: An Ocean Experience\, hear from Community Science experts on local urban habitat research\, and explore fossils from our collections to understand habitats from long ago! \nAs always\, these special days are free for Homeschoolers. No advanced registration is required. Sensory friendly programs and resources will be offered at this event. \nTo learn more about Homeschool Days at the Natural History Museum\, visit NHM.org/homeschool.
URL:https://expositionpark.ca.gov/event/homeschool-day-amazing-habitats/
LOCATION:Natural History Museum of Los Angeles County\, 900 Exposition Blvd.\, Los Angeles\, CA\, 90007\, United States
ORGANIZER;CN="NHM School Programs":MAILTO:schoolprograms@nhm.org
GEO:34.0170769;-118.2886818
X-APPLE-STRUCTURED-LOCATION;VALUE=URI;X-ADDRESS=Natural History Museum of Los Angeles County 900 Exposition Blvd. Los Angeles CA 90007 United States;X-APPLE-RADIUS=500;X-TITLE=900 Exposition Blvd.:geo:-118.2886818,34.0170769
END:VEVENT
BEGIN:VEVENT
DTSTART;TZID=America/Los_Angeles:20200610T180000
DTEND;TZID=America/Los_Angeles:20200610T210000
DTSTAMP:20260421T191046
CREATED:20170214T222616Z
LAST-MODIFIED:20170214T222616Z
UID:10048938-1591812000-1591822800@expositionpark.ca.gov
SUMMARY:EXPO Soccer Clinic
DESCRIPTION:
URL:https://expositionpark.ca.gov/event/expo-soccer-clinic/2020-06-10/
LOCATION:EXPO Center\, 3980 Bill Robertson Lane\, Los Angeles\, CA\, 90037\, United States
GEO:34.0121136;-118.2900829
X-APPLE-STRUCTURED-LOCATION;VALUE=URI;X-ADDRESS=EXPO Center 3980 Bill Robertson Lane Los Angeles CA 90037 United States;X-APPLE-RADIUS=500;X-TITLE=3980 Bill Robertson Lane:geo:-118.2900829,34.0121136
END:VEVENT
BEGIN:VEVENT
DTSTART;TZID=America/Los_Angeles:20200611T100000
DTEND;TZID=America/Los_Angeles:20200611T160000
DTSTAMP:20260421T191046
CREATED:20200604T214659Z
LAST-MODIFIED:20200604T214659Z
UID:10051711-1591869600-1591891200@expositionpark.ca.gov
SUMMARY:American Red Cross Blood Drive
DESCRIPTION:LAFC Foundation x American Red Cross Blood Drive
URL:https://expositionpark.ca.gov/event/american-red-cross-blood-drive-2/
LOCATION:Banc of California Stadium\, 3939 S Figueroa Street\, Los Angeles\, CA\, 90037\, United States
END:VEVENT
BEGIN:VEVENT
DTSTART;TZID=America/Los_Angeles:20200611T143000
DTEND;TZID=America/Los_Angeles:20200611T173000
DTSTAMP:20260421T191046
CREATED:20170215T230251Z
LAST-MODIFIED:20170215T230251Z
UID:10045656-1591885800-1591896600@expositionpark.ca.gov
SUMMARY:USC Hybrid
DESCRIPTION:
URL:https://expositionpark.ca.gov/event/usc-hybrid/2020-06-11/
LOCATION:EXPO Center\, 3980 Bill Robertson Lane\, Los Angeles\, CA\, 90037\, United States
GEO:34.0121136;-118.2900829
X-APPLE-STRUCTURED-LOCATION;VALUE=URI;X-ADDRESS=EXPO Center 3980 Bill Robertson Lane Los Angeles CA 90037 United States;X-APPLE-RADIUS=500;X-TITLE=3980 Bill Robertson Lane:geo:-118.2900829,34.0121136
END:VEVENT
BEGIN:VEVENT
DTSTART;TZID=America/Los_Angeles:20200611T180000
DTEND;TZID=America/Los_Angeles:20200611T210000
DTSTAMP:20260421T191046
CREATED:20170214T222818Z
LAST-MODIFIED:20170214T222818Z
UID:10050058-1591898400-1591909200@expositionpark.ca.gov
SUMMARY:Vermont Sports Club
DESCRIPTION:
URL:https://expositionpark.ca.gov/event/vermont-sports-club-7/2020-06-11/
LOCATION:EXPO Center\, 3980 Bill Robertson Lane\, Los Angeles\, CA\, 90037\, United States
GEO:34.0121136;-118.2900829
X-APPLE-STRUCTURED-LOCATION;VALUE=URI;X-ADDRESS=EXPO Center 3980 Bill Robertson Lane Los Angeles CA 90037 United States;X-APPLE-RADIUS=500;X-TITLE=3980 Bill Robertson Lane:geo:-118.2900829,34.0121136
END:VEVENT
BEGIN:VEVENT
DTSTART;TZID=America/Los_Angeles:20200611T213000
DTEND;TZID=America/Los_Angeles:20200611T223000
DTSTAMP:20260421T191046
CREATED:20170215T225948Z
LAST-MODIFIED:20170215T225948Z
UID:10044794-1591911000-1591914600@expositionpark.ca.gov
SUMMARY:Tri-Color Soccer League
DESCRIPTION:
URL:https://expositionpark.ca.gov/event/tri-color-soccer-league-2/2020-06-11/
LOCATION:EXPO Center\, 3980 Bill Robertson Lane\, Los Angeles\, CA\, 90037\, United States
GEO:34.0121136;-118.2900829
X-APPLE-STRUCTURED-LOCATION;VALUE=URI;X-ADDRESS=EXPO Center 3980 Bill Robertson Lane Los Angeles CA 90037 United States;X-APPLE-RADIUS=500;X-TITLE=3980 Bill Robertson Lane:geo:-118.2900829,34.0121136
END:VEVENT
BEGIN:VEVENT
DTSTART;TZID=America/Los_Angeles:20200612T080000
DTEND;TZID=America/Los_Angeles:20200612T170000
DTSTAMP:20260421T191046
CREATED:20170215T230439Z
LAST-MODIFIED:20170215T230439Z
UID:10046775-1591948800-1591981200@expositionpark.ca.gov
SUMMARY:San Pedro Soccer League
DESCRIPTION:
URL:https://expositionpark.ca.gov/event/san-pedro-soccer-league-3/2020-06-12/
LOCATION:EXPO Center\, 3980 Bill Robertson Lane\, Los Angeles\, CA\, 90037\, United States
GEO:34.0121136;-118.2900829
X-APPLE-STRUCTURED-LOCATION;VALUE=URI;X-ADDRESS=EXPO Center 3980 Bill Robertson Lane Los Angeles CA 90037 United States;X-APPLE-RADIUS=500;X-TITLE=3980 Bill Robertson Lane:geo:-118.2900829,34.0121136
END:VEVENT
BEGIN:VEVENT
DTSTART;TZID=America/Los_Angeles:20200612T180000
DTEND;TZID=America/Los_Angeles:20200612T210000
DTSTAMP:20260421T191046
CREATED:20170214T222616Z
LAST-MODIFIED:20170214T222616Z
UID:10048939-1591984800-1591995600@expositionpark.ca.gov
SUMMARY:EXPO Soccer Clinic
DESCRIPTION:
URL:https://expositionpark.ca.gov/event/expo-soccer-clinic/2020-06-12/
LOCATION:EXPO Center\, 3980 Bill Robertson Lane\, Los Angeles\, CA\, 90037\, United States
GEO:34.0121136;-118.2900829
X-APPLE-STRUCTURED-LOCATION;VALUE=URI;X-ADDRESS=EXPO Center 3980 Bill Robertson Lane Los Angeles CA 90037 United States;X-APPLE-RADIUS=500;X-TITLE=3980 Bill Robertson Lane:geo:-118.2900829,34.0121136
END:VEVENT
BEGIN:VEVENT
DTSTART;TZID=America/Los_Angeles:20200613T160000
DTEND;TZID=America/Los_Angeles:20200613T233000
DTSTAMP:20260421T191046
CREATED:20191204T200801Z
LAST-MODIFIED:20200604T203516Z
UID:10051584-1592064000-1592091000@expositionpark.ca.gov
SUMMARY:Private Event - Postponed
DESCRIPTION:Event re-scheduled for June 12\, 2021
URL:https://expositionpark.ca.gov/event/private-event-207/
LOCATION:Natural History Museum of Los Angeles County\, 900 Exposition Blvd.\, Los Angeles\, CA\, 90007\, United States
ORGANIZER;CN="NHM":MAILTO:vvobis@nhm.org
GEO:34.0170769;-118.2886818
X-APPLE-STRUCTURED-LOCATION;VALUE=URI;X-ADDRESS=Natural History Museum of Los Angeles County 900 Exposition Blvd. Los Angeles CA 90007 United States;X-APPLE-RADIUS=500;X-TITLE=900 Exposition Blvd.:geo:-118.2886818,34.0170769
END:VEVENT
BEGIN:VEVENT
DTSTART;TZID=America/Los_Angeles:20200613T190000
DTEND;TZID=America/Los_Angeles:20200613T220000
DTSTAMP:20260421T191046
CREATED:20200319T233602Z
LAST-MODIFIED:20200505T152201Z
UID:10053463-1592074800-1592085600@expositionpark.ca.gov
SUMMARY:Private Social Event - Cancelled
DESCRIPTION:
URL:https://expositionpark.ca.gov/event/private-social-event-9/
LOCATION:CSC-Ecosystems\, CA\, United States
END:VEVENT
BEGIN:VEVENT
DTSTART;TZID=America/Los_Angeles:20200614T080000
DTEND;TZID=America/Los_Angeles:20200614T170000
DTSTAMP:20260421T191046
CREATED:20170215T230650Z
LAST-MODIFIED:20170215T230650Z
UID:10047207-1592121600-1592154000@expositionpark.ca.gov
SUMMARY:Vermont Sports Club
DESCRIPTION:
URL:https://expositionpark.ca.gov/event/vermont-sports-club-9/2020-06-14/
LOCATION:EXPO Center\, 3980 Bill Robertson Lane\, Los Angeles\, CA\, 90037\, United States
GEO:34.0121136;-118.2900829
X-APPLE-STRUCTURED-LOCATION;VALUE=URI;X-ADDRESS=EXPO Center 3980 Bill Robertson Lane Los Angeles CA 90037 United States;X-APPLE-RADIUS=500;X-TITLE=3980 Bill Robertson Lane:geo:-118.2900829,34.0121136
END:VEVENT
BEGIN:VEVENT
DTSTART;VALUE=DATE:20200615
DTEND;VALUE=DATE:20200620
DTSTAMP:20260421T191046
CREATED:20200228T174754Z
LAST-MODIFIED:20200228T174754Z
UID:10053426-1592179200-1592611199@expositionpark.ca.gov
SUMMARY:Hands-On Science Camp *Week 1*
DESCRIPTION:California Science Center’s Hands-On Science Camp\nExplore with us this Summer! (Pre-K – 10th Grade) \nExciting explorations\, delightful discoveries and wild wonders await your family this summer at Hands-On Science Camp at the California Science Center. We offer more than 30 courses\, including popular parent-and-child classes that give families a chance to investigate science together. The Hands-On Science Camp staff consists of education professionals and working professionals in science fields. Your child will have a unique\, fun and engaging summer! \nMorning Session 9:00am – 11:30am \nAfternoon Session 12:30pm – 3:30pm \n**Extended care is available for early drop off and late pick up for Kinder – 10th Grade campers. \n**A supervised lunch from 11:30am – 12:30pm is automatically included for campers attending a full day of camp from 9:00am – 3:30pm. \nEnroll Online\n  \n 
URL:https://expositionpark.ca.gov/event/hands-on-science-camp-week-1/
LOCATION:California Science Center\, 700 Exposition Park Drive\, Los Angeles\, CA\, 90037\, United States
ORGANIZER;CN="California Science Center%3A Education Department":MAILTO:educationprograms@cscmail.org
GEO:34.0157877;-118.2862095
X-APPLE-STRUCTURED-LOCATION;VALUE=URI;X-ADDRESS=California Science Center 700 Exposition Park Drive Los Angeles CA 90037 United States;X-APPLE-RADIUS=500;X-TITLE=700 Exposition Park Drive:geo:-118.2862095,34.0157877
END:VEVENT
BEGIN:VEVENT
DTSTART;TZID=America/Los_Angeles:20200615T073000
DTEND;TZID=America/Los_Angeles:20200615T180000
DTSTAMP:20260421T191046
CREATED:20200224T204344Z
LAST-MODIFIED:20200227T194420Z
UID:10053383-1592206200-1592244000@expositionpark.ca.gov
SUMMARY:Expo Center's Summer Camp Program
DESCRIPTION:EXPO Center’s Seasonal Camp Program provides youth ages 6-16 with a variety of themed and seasonal activities including swimming\, sports\, field trips and technology clubs.
URL:https://expositionpark.ca.gov/event/expo-centers-summer-camp-program/2020-06-15/
LOCATION:EXPO Center\, 3980 Bill Robertson Lane\, Los Angeles\, CA\, 90037\, United States
GEO:34.0121136;-118.2900829
X-APPLE-STRUCTURED-LOCATION;VALUE=URI;X-ADDRESS=EXPO Center 3980 Bill Robertson Lane Los Angeles CA 90037 United States;X-APPLE-RADIUS=500;X-TITLE=3980 Bill Robertson Lane:geo:-118.2900829,34.0121136
END:VEVENT
BEGIN:VEVENT
DTSTART;TZID=America/Los_Angeles:20200615T180000
DTEND;TZID=America/Los_Angeles:20200615T210000
DTSTAMP:20260421T191046
CREATED:20170214T222616Z
LAST-MODIFIED:20170214T222616Z
UID:10048940-1592244000-1592254800@expositionpark.ca.gov
SUMMARY:EXPO Soccer Clinic
DESCRIPTION:
URL:https://expositionpark.ca.gov/event/expo-soccer-clinic/2020-06-15/
LOCATION:EXPO Center\, 3980 Bill Robertson Lane\, Los Angeles\, CA\, 90037\, United States
GEO:34.0121136;-118.2900829
X-APPLE-STRUCTURED-LOCATION;VALUE=URI;X-ADDRESS=EXPO Center 3980 Bill Robertson Lane Los Angeles CA 90037 United States;X-APPLE-RADIUS=500;X-TITLE=3980 Bill Robertson Lane:geo:-118.2900829,34.0121136
END:VEVENT
BEGIN:VEVENT
DTSTART;TZID=America/Los_Angeles:20200615T211500
DTEND;TZID=America/Los_Angeles:20200615T221500
DTSTAMP:20260421T191046
CREATED:20170214T222531Z
LAST-MODIFIED:20170214T222531Z
UID:10048159-1592255700-1592259300@expositionpark.ca.gov
SUMMARY:Tri-Color Soccer League
DESCRIPTION:
URL:https://expositionpark.ca.gov/event/tri-color-soccer-league/2020-06-15/
LOCATION:EXPO Center\, 3980 Bill Robertson Lane\, Los Angeles\, CA\, 90037\, United States
GEO:34.0121136;-118.2900829
X-APPLE-STRUCTURED-LOCATION;VALUE=URI;X-ADDRESS=EXPO Center 3980 Bill Robertson Lane Los Angeles CA 90037 United States;X-APPLE-RADIUS=500;X-TITLE=3980 Bill Robertson Lane:geo:-118.2900829,34.0121136
END:VEVENT
BEGIN:VEVENT
DTSTART;TZID=America/Los_Angeles:20200616T073000
DTEND;TZID=America/Los_Angeles:20200616T180000
DTSTAMP:20260421T191046
CREATED:20200224T204344Z
LAST-MODIFIED:20200227T194420Z
UID:10053384-1592292600-1592330400@expositionpark.ca.gov
SUMMARY:Expo Center's Summer Camp Program
DESCRIPTION:EXPO Center’s Seasonal Camp Program provides youth ages 6-16 with a variety of themed and seasonal activities including swimming\, sports\, field trips and technology clubs.
URL:https://expositionpark.ca.gov/event/expo-centers-summer-camp-program/2020-06-16/
LOCATION:EXPO Center\, 3980 Bill Robertson Lane\, Los Angeles\, CA\, 90037\, United States
GEO:34.0121136;-118.2900829
X-APPLE-STRUCTURED-LOCATION;VALUE=URI;X-ADDRESS=EXPO Center 3980 Bill Robertson Lane Los Angeles CA 90037 United States;X-APPLE-RADIUS=500;X-TITLE=3980 Bill Robertson Lane:geo:-118.2900829,34.0121136
END:VEVENT
BEGIN:VEVENT
DTSTART;TZID=America/Los_Angeles:20200616T143000
DTEND;TZID=America/Los_Angeles:20200616T173000
DTSTAMP:20260421T191046
CREATED:20170215T230251Z
LAST-MODIFIED:20170215T230251Z
UID:10045657-1592317800-1592328600@expositionpark.ca.gov
SUMMARY:USC Hybrid
DESCRIPTION:
URL:https://expositionpark.ca.gov/event/usc-hybrid/2020-06-16/
LOCATION:EXPO Center\, 3980 Bill Robertson Lane\, Los Angeles\, CA\, 90037\, United States
GEO:34.0121136;-118.2900829
X-APPLE-STRUCTURED-LOCATION;VALUE=URI;X-ADDRESS=EXPO Center 3980 Bill Robertson Lane Los Angeles CA 90037 United States;X-APPLE-RADIUS=500;X-TITLE=3980 Bill Robertson Lane:geo:-118.2900829,34.0121136
END:VEVENT
BEGIN:VEVENT
DTSTART;TZID=America/Los_Angeles:20200616T180000
DTEND;TZID=America/Los_Angeles:20200616T210000
DTSTAMP:20260421T191046
CREATED:20170214T222818Z
LAST-MODIFIED:20170214T222818Z
UID:10050059-1592330400-1592341200@expositionpark.ca.gov
SUMMARY:Vermont Sports Club
DESCRIPTION:
URL:https://expositionpark.ca.gov/event/vermont-sports-club-7/2020-06-16/
LOCATION:EXPO Center\, 3980 Bill Robertson Lane\, Los Angeles\, CA\, 90037\, United States
GEO:34.0121136;-118.2900829
X-APPLE-STRUCTURED-LOCATION;VALUE=URI;X-ADDRESS=EXPO Center 3980 Bill Robertson Lane Los Angeles CA 90037 United States;X-APPLE-RADIUS=500;X-TITLE=3980 Bill Robertson Lane:geo:-118.2900829,34.0121136
END:VEVENT
BEGIN:VEVENT
DTSTART;TZID=America/Los_Angeles:20200616T213000
DTEND;TZID=America/Los_Angeles:20200616T223000
DTSTAMP:20260421T191046
CREATED:20170215T225948Z
LAST-MODIFIED:20170215T225948Z
UID:10044795-1592343000-1592346600@expositionpark.ca.gov
SUMMARY:Tri-Color Soccer League
DESCRIPTION:
URL:https://expositionpark.ca.gov/event/tri-color-soccer-league-2/2020-06-16/
LOCATION:EXPO Center\, 3980 Bill Robertson Lane\, Los Angeles\, CA\, 90037\, United States
GEO:34.0121136;-118.2900829
X-APPLE-STRUCTURED-LOCATION;VALUE=URI;X-ADDRESS=EXPO Center 3980 Bill Robertson Lane Los Angeles CA 90037 United States;X-APPLE-RADIUS=500;X-TITLE=3980 Bill Robertson Lane:geo:-118.2900829,34.0121136
END:VEVENT
END:VCALENDAR