BEGIN:VCALENDAR
VERSION:2.0
PRODID:-//Exposition Park - ECPv6.15.20//NONSGML v1.0//EN
CALSCALE:GREGORIAN
METHOD:PUBLISH
X-WR-CALNAME:Exposition Park
X-ORIGINAL-URL:https://expositionpark.ca.gov
X-WR-CALDESC:Events for Exposition Park
REFRESH-INTERVAL;VALUE=DURATION:PT1H
X-Robots-Tag:noindex
X-PUBLISHED-TTL:PT1H
BEGIN:VTIMEZONE
TZID:America/Los_Angeles
BEGIN:DAYLIGHT
TZOFFSETFROM:-0800
TZOFFSETTO:-0700
TZNAME:PDT
DTSTART:20170312T100000
END:DAYLIGHT
BEGIN:STANDARD
TZOFFSETFROM:-0700
TZOFFSETTO:-0800
TZNAME:PST
DTSTART:20171105T090000
END:STANDARD
BEGIN:DAYLIGHT
TZOFFSETFROM:-0800
TZOFFSETTO:-0700
TZNAME:PDT
DTSTART:20180311T100000
END:DAYLIGHT
BEGIN:STANDARD
TZOFFSETFROM:-0700
TZOFFSETTO:-0800
TZNAME:PST
DTSTART:20181104T090000
END:STANDARD
BEGIN:DAYLIGHT
TZOFFSETFROM:-0800
TZOFFSETTO:-0700
TZNAME:PDT
DTSTART:20190310T100000
END:DAYLIGHT
BEGIN:STANDARD
TZOFFSETFROM:-0700
TZOFFSETTO:-0800
TZNAME:PST
DTSTART:20191103T090000
END:STANDARD
END:VTIMEZONE
BEGIN:VEVENT
DTSTART;TZID=America/Los_Angeles:20180709T090000
DTEND;TZID=America/Los_Angeles:20180903T150000
DTSTAMP:20260424T090728
CREATED:20180615T165715Z
LAST-MODIFIED:20180615T165715Z
UID:10052104-1531126800-1535986800@expositionpark.ca.gov
SUMMARY:Hands-On Science Camp @ The California Science Center
DESCRIPTION:Exciting explorations\, delightful discoveries\, and wild wonders await your family this summer at Hands-On Science Camp at the California Science Center. We offer more than 30 courses\, including popular parent-and-child classes that give families a chance to investigate science together.\nYour child will have a unique\, fun and engaging summer!\nCall Today! (213) 744-7444\nhttps://californiasciencecenter.org/programs/youth-program-registration\n 
URL:https://expositionpark.ca.gov/event/hands-on-science-camp-the-california-science-center/2018-07-09/
LOCATION:Wallis Annenberg Building
END:VEVENT
BEGIN:VEVENT
DTSTART;TZID=America/Los_Angeles:20180710T090000
DTEND;TZID=America/Los_Angeles:20180904T150000
DTSTAMP:20260424T090728
CREATED:20180615T165715Z
LAST-MODIFIED:20180615T165715Z
UID:10052105-1531213200-1536073200@expositionpark.ca.gov
SUMMARY:Hands-On Science Camp @ The California Science Center
DESCRIPTION:Exciting explorations\, delightful discoveries\, and wild wonders await your family this summer at Hands-On Science Camp at the California Science Center. We offer more than 30 courses\, including popular parent-and-child classes that give families a chance to investigate science together.\nYour child will have a unique\, fun and engaging summer!\nCall Today! (213) 744-7444\nhttps://californiasciencecenter.org/programs/youth-program-registration\n 
URL:https://expositionpark.ca.gov/event/hands-on-science-camp-the-california-science-center/2018-07-10/
LOCATION:Wallis Annenberg Building
END:VEVENT
BEGIN:VEVENT
DTSTART;TZID=America/Los_Angeles:20180711T090000
DTEND;TZID=America/Los_Angeles:20180905T150000
DTSTAMP:20260424T090728
CREATED:20180615T165715Z
LAST-MODIFIED:20180615T165715Z
UID:10052106-1531299600-1536159600@expositionpark.ca.gov
SUMMARY:Hands-On Science Camp @ The California Science Center
DESCRIPTION:Exciting explorations\, delightful discoveries\, and wild wonders await your family this summer at Hands-On Science Camp at the California Science Center. We offer more than 30 courses\, including popular parent-and-child classes that give families a chance to investigate science together.\nYour child will have a unique\, fun and engaging summer!\nCall Today! (213) 744-7444\nhttps://californiasciencecenter.org/programs/youth-program-registration\n 
URL:https://expositionpark.ca.gov/event/hands-on-science-camp-the-california-science-center/2018-07-11/
LOCATION:Wallis Annenberg Building
END:VEVENT
BEGIN:VEVENT
DTSTART;TZID=America/Los_Angeles:20180712T090000
DTEND;TZID=America/Los_Angeles:20180906T150000
DTSTAMP:20260424T090728
CREATED:20180615T165715Z
LAST-MODIFIED:20180615T165715Z
UID:10052107-1531386000-1536246000@expositionpark.ca.gov
SUMMARY:Hands-On Science Camp @ The California Science Center
DESCRIPTION:Exciting explorations\, delightful discoveries\, and wild wonders await your family this summer at Hands-On Science Camp at the California Science Center. We offer more than 30 courses\, including popular parent-and-child classes that give families a chance to investigate science together.\nYour child will have a unique\, fun and engaging summer!\nCall Today! (213) 744-7444\nhttps://californiasciencecenter.org/programs/youth-program-registration\n 
URL:https://expositionpark.ca.gov/event/hands-on-science-camp-the-california-science-center/2018-07-12/
LOCATION:Wallis Annenberg Building
END:VEVENT
BEGIN:VEVENT
DTSTART;TZID=America/Los_Angeles:20180713T090000
DTEND;TZID=America/Los_Angeles:20180907T150000
DTSTAMP:20260424T090728
CREATED:20180615T165715Z
LAST-MODIFIED:20180615T165715Z
UID:10052108-1531472400-1536332400@expositionpark.ca.gov
SUMMARY:Hands-On Science Camp @ The California Science Center
DESCRIPTION:Exciting explorations\, delightful discoveries\, and wild wonders await your family this summer at Hands-On Science Camp at the California Science Center. We offer more than 30 courses\, including popular parent-and-child classes that give families a chance to investigate science together.\nYour child will have a unique\, fun and engaging summer!\nCall Today! (213) 744-7444\nhttps://californiasciencecenter.org/programs/youth-program-registration\n 
URL:https://expositionpark.ca.gov/event/hands-on-science-camp-the-california-science-center/2018-07-13/
LOCATION:Wallis Annenberg Building
END:VEVENT
BEGIN:VEVENT
DTSTART;TZID=America/Los_Angeles:20180716T090000
DTEND;TZID=America/Los_Angeles:20180910T150000
DTSTAMP:20260424T090728
CREATED:20180615T165715Z
LAST-MODIFIED:20180615T165715Z
UID:10052109-1531731600-1536591600@expositionpark.ca.gov
SUMMARY:Hands-On Science Camp @ The California Science Center
DESCRIPTION:Exciting explorations\, delightful discoveries\, and wild wonders await your family this summer at Hands-On Science Camp at the California Science Center. We offer more than 30 courses\, including popular parent-and-child classes that give families a chance to investigate science together.\nYour child will have a unique\, fun and engaging summer!\nCall Today! (213) 744-7444\nhttps://californiasciencecenter.org/programs/youth-program-registration\n 
URL:https://expositionpark.ca.gov/event/hands-on-science-camp-the-california-science-center/2018-07-16/
LOCATION:Wallis Annenberg Building
END:VEVENT
BEGIN:VEVENT
DTSTART;TZID=America/Los_Angeles:20180717T090000
DTEND;TZID=America/Los_Angeles:20180911T150000
DTSTAMP:20260424T090728
CREATED:20180615T165715Z
LAST-MODIFIED:20180615T165715Z
UID:10052110-1531818000-1536678000@expositionpark.ca.gov
SUMMARY:Hands-On Science Camp @ The California Science Center
DESCRIPTION:Exciting explorations\, delightful discoveries\, and wild wonders await your family this summer at Hands-On Science Camp at the California Science Center. We offer more than 30 courses\, including popular parent-and-child classes that give families a chance to investigate science together.\nYour child will have a unique\, fun and engaging summer!\nCall Today! (213) 744-7444\nhttps://californiasciencecenter.org/programs/youth-program-registration\n 
URL:https://expositionpark.ca.gov/event/hands-on-science-camp-the-california-science-center/2018-07-17/
LOCATION:Wallis Annenberg Building
END:VEVENT
BEGIN:VEVENT
DTSTART;TZID=America/Los_Angeles:20180718T090000
DTEND;TZID=America/Los_Angeles:20180912T150000
DTSTAMP:20260424T090728
CREATED:20180615T165715Z
LAST-MODIFIED:20180615T165715Z
UID:10052111-1531904400-1536764400@expositionpark.ca.gov
SUMMARY:Hands-On Science Camp @ The California Science Center
DESCRIPTION:Exciting explorations\, delightful discoveries\, and wild wonders await your family this summer at Hands-On Science Camp at the California Science Center. We offer more than 30 courses\, including popular parent-and-child classes that give families a chance to investigate science together.\nYour child will have a unique\, fun and engaging summer!\nCall Today! (213) 744-7444\nhttps://californiasciencecenter.org/programs/youth-program-registration\n 
URL:https://expositionpark.ca.gov/event/hands-on-science-camp-the-california-science-center/2018-07-18/
LOCATION:Wallis Annenberg Building
END:VEVENT
BEGIN:VEVENT
DTSTART;TZID=America/Los_Angeles:20180719T090000
DTEND;TZID=America/Los_Angeles:20180913T150000
DTSTAMP:20260424T090728
CREATED:20180615T165715Z
LAST-MODIFIED:20180615T165715Z
UID:10052112-1531990800-1536850800@expositionpark.ca.gov
SUMMARY:Hands-On Science Camp @ The California Science Center
DESCRIPTION:Exciting explorations\, delightful discoveries\, and wild wonders await your family this summer at Hands-On Science Camp at the California Science Center. We offer more than 30 courses\, including popular parent-and-child classes that give families a chance to investigate science together.\nYour child will have a unique\, fun and engaging summer!\nCall Today! (213) 744-7444\nhttps://californiasciencecenter.org/programs/youth-program-registration\n 
URL:https://expositionpark.ca.gov/event/hands-on-science-camp-the-california-science-center/2018-07-19/
LOCATION:Wallis Annenberg Building
END:VEVENT
BEGIN:VEVENT
DTSTART;TZID=America/Los_Angeles:20180720T090000
DTEND;TZID=America/Los_Angeles:20180914T150000
DTSTAMP:20260424T090728
CREATED:20180615T165715Z
LAST-MODIFIED:20180615T165715Z
UID:10052113-1532077200-1536937200@expositionpark.ca.gov
SUMMARY:Hands-On Science Camp @ The California Science Center
DESCRIPTION:Exciting explorations\, delightful discoveries\, and wild wonders await your family this summer at Hands-On Science Camp at the California Science Center. We offer more than 30 courses\, including popular parent-and-child classes that give families a chance to investigate science together.\nYour child will have a unique\, fun and engaging summer!\nCall Today! (213) 744-7444\nhttps://californiasciencecenter.org/programs/youth-program-registration\n 
URL:https://expositionpark.ca.gov/event/hands-on-science-camp-the-california-science-center/2018-07-20/
LOCATION:Wallis Annenberg Building
END:VEVENT
BEGIN:VEVENT
DTSTART;TZID=America/Los_Angeles:20180723T090000
DTEND;TZID=America/Los_Angeles:20180917T150000
DTSTAMP:20260424T090728
CREATED:20180615T165715Z
LAST-MODIFIED:20180615T165715Z
UID:10052114-1532336400-1537196400@expositionpark.ca.gov
SUMMARY:Hands-On Science Camp @ The California Science Center
DESCRIPTION:Exciting explorations\, delightful discoveries\, and wild wonders await your family this summer at Hands-On Science Camp at the California Science Center. We offer more than 30 courses\, including popular parent-and-child classes that give families a chance to investigate science together.\nYour child will have a unique\, fun and engaging summer!\nCall Today! (213) 744-7444\nhttps://californiasciencecenter.org/programs/youth-program-registration\n 
URL:https://expositionpark.ca.gov/event/hands-on-science-camp-the-california-science-center/2018-07-23/
LOCATION:Wallis Annenberg Building
END:VEVENT
BEGIN:VEVENT
DTSTART;TZID=America/Los_Angeles:20180724T090000
DTEND;TZID=America/Los_Angeles:20180918T150000
DTSTAMP:20260424T090728
CREATED:20180615T165715Z
LAST-MODIFIED:20180615T165715Z
UID:10052115-1532422800-1537282800@expositionpark.ca.gov
SUMMARY:Hands-On Science Camp @ The California Science Center
DESCRIPTION:Exciting explorations\, delightful discoveries\, and wild wonders await your family this summer at Hands-On Science Camp at the California Science Center. We offer more than 30 courses\, including popular parent-and-child classes that give families a chance to investigate science together.\nYour child will have a unique\, fun and engaging summer!\nCall Today! (213) 744-7444\nhttps://californiasciencecenter.org/programs/youth-program-registration\n 
URL:https://expositionpark.ca.gov/event/hands-on-science-camp-the-california-science-center/2018-07-24/
LOCATION:Wallis Annenberg Building
END:VEVENT
BEGIN:VEVENT
DTSTART;TZID=America/Los_Angeles:20180725T090000
DTEND;TZID=America/Los_Angeles:20180919T150000
DTSTAMP:20260424T090728
CREATED:20180615T165715Z
LAST-MODIFIED:20180615T165715Z
UID:10052116-1532509200-1537369200@expositionpark.ca.gov
SUMMARY:Hands-On Science Camp @ The California Science Center
DESCRIPTION:Exciting explorations\, delightful discoveries\, and wild wonders await your family this summer at Hands-On Science Camp at the California Science Center. We offer more than 30 courses\, including popular parent-and-child classes that give families a chance to investigate science together.\nYour child will have a unique\, fun and engaging summer!\nCall Today! (213) 744-7444\nhttps://californiasciencecenter.org/programs/youth-program-registration\n 
URL:https://expositionpark.ca.gov/event/hands-on-science-camp-the-california-science-center/2018-07-25/
LOCATION:Wallis Annenberg Building
END:VEVENT
BEGIN:VEVENT
DTSTART;TZID=America/Los_Angeles:20180726T090000
DTEND;TZID=America/Los_Angeles:20180920T150000
DTSTAMP:20260424T090728
CREATED:20180615T165715Z
LAST-MODIFIED:20180615T165715Z
UID:10052117-1532595600-1537455600@expositionpark.ca.gov
SUMMARY:Hands-On Science Camp @ The California Science Center
DESCRIPTION:Exciting explorations\, delightful discoveries\, and wild wonders await your family this summer at Hands-On Science Camp at the California Science Center. We offer more than 30 courses\, including popular parent-and-child classes that give families a chance to investigate science together.\nYour child will have a unique\, fun and engaging summer!\nCall Today! (213) 744-7444\nhttps://californiasciencecenter.org/programs/youth-program-registration\n 
URL:https://expositionpark.ca.gov/event/hands-on-science-camp-the-california-science-center/2018-07-26/
LOCATION:Wallis Annenberg Building
END:VEVENT
BEGIN:VEVENT
DTSTART;TZID=America/Los_Angeles:20180727T090000
DTEND;TZID=America/Los_Angeles:20180921T150000
DTSTAMP:20260424T090728
CREATED:20180615T165715Z
LAST-MODIFIED:20180615T165715Z
UID:10052118-1532682000-1537542000@expositionpark.ca.gov
SUMMARY:Hands-On Science Camp @ The California Science Center
DESCRIPTION:Exciting explorations\, delightful discoveries\, and wild wonders await your family this summer at Hands-On Science Camp at the California Science Center. We offer more than 30 courses\, including popular parent-and-child classes that give families a chance to investigate science together.\nYour child will have a unique\, fun and engaging summer!\nCall Today! (213) 744-7444\nhttps://californiasciencecenter.org/programs/youth-program-registration\n 
URL:https://expositionpark.ca.gov/event/hands-on-science-camp-the-california-science-center/2018-07-27/
LOCATION:Wallis Annenberg Building
END:VEVENT
BEGIN:VEVENT
DTSTART;TZID=America/Los_Angeles:20180730T090000
DTEND;TZID=America/Los_Angeles:20180924T150000
DTSTAMP:20260424T090728
CREATED:20180615T165715Z
LAST-MODIFIED:20180615T165715Z
UID:10052119-1532941200-1537801200@expositionpark.ca.gov
SUMMARY:Hands-On Science Camp @ The California Science Center
DESCRIPTION:Exciting explorations\, delightful discoveries\, and wild wonders await your family this summer at Hands-On Science Camp at the California Science Center. We offer more than 30 courses\, including popular parent-and-child classes that give families a chance to investigate science together.\nYour child will have a unique\, fun and engaging summer!\nCall Today! (213) 744-7444\nhttps://californiasciencecenter.org/programs/youth-program-registration\n 
URL:https://expositionpark.ca.gov/event/hands-on-science-camp-the-california-science-center/2018-07-30/
LOCATION:Wallis Annenberg Building
END:VEVENT
BEGIN:VEVENT
DTSTART;TZID=America/Los_Angeles:20180731T090000
DTEND;TZID=America/Los_Angeles:20180925T150000
DTSTAMP:20260424T090728
CREATED:20180615T165715Z
LAST-MODIFIED:20180615T165715Z
UID:10052120-1533027600-1537887600@expositionpark.ca.gov
SUMMARY:Hands-On Science Camp @ The California Science Center
DESCRIPTION:Exciting explorations\, delightful discoveries\, and wild wonders await your family this summer at Hands-On Science Camp at the California Science Center. We offer more than 30 courses\, including popular parent-and-child classes that give families a chance to investigate science together.\nYour child will have a unique\, fun and engaging summer!\nCall Today! (213) 744-7444\nhttps://californiasciencecenter.org/programs/youth-program-registration\n 
URL:https://expositionpark.ca.gov/event/hands-on-science-camp-the-california-science-center/2018-07-31/
LOCATION:Wallis Annenberg Building
END:VEVENT
BEGIN:VEVENT
DTSTART;TZID=America/Los_Angeles:20180801T090000
DTEND;TZID=America/Los_Angeles:20180926T150000
DTSTAMP:20260424T090728
CREATED:20180615T165715Z
LAST-MODIFIED:20180615T165715Z
UID:10052121-1533114000-1537974000@expositionpark.ca.gov
SUMMARY:Hands-On Science Camp @ The California Science Center
DESCRIPTION:Exciting explorations\, delightful discoveries\, and wild wonders await your family this summer at Hands-On Science Camp at the California Science Center. We offer more than 30 courses\, including popular parent-and-child classes that give families a chance to investigate science together.\nYour child will have a unique\, fun and engaging summer!\nCall Today! (213) 744-7444\nhttps://californiasciencecenter.org/programs/youth-program-registration\n 
URL:https://expositionpark.ca.gov/event/hands-on-science-camp-the-california-science-center/2018-08-01/
LOCATION:Wallis Annenberg Building
END:VEVENT
BEGIN:VEVENT
DTSTART;TZID=America/Los_Angeles:20180802T090000
DTEND;TZID=America/Los_Angeles:20180927T150000
DTSTAMP:20260424T090728
CREATED:20180615T165715Z
LAST-MODIFIED:20180615T165715Z
UID:10052122-1533200400-1538060400@expositionpark.ca.gov
SUMMARY:Hands-On Science Camp @ The California Science Center
DESCRIPTION:Exciting explorations\, delightful discoveries\, and wild wonders await your family this summer at Hands-On Science Camp at the California Science Center. We offer more than 30 courses\, including popular parent-and-child classes that give families a chance to investigate science together.\nYour child will have a unique\, fun and engaging summer!\nCall Today! (213) 744-7444\nhttps://californiasciencecenter.org/programs/youth-program-registration\n 
URL:https://expositionpark.ca.gov/event/hands-on-science-camp-the-california-science-center/2018-08-02/
LOCATION:Wallis Annenberg Building
END:VEVENT
BEGIN:VEVENT
DTSTART;TZID=America/Los_Angeles:20180803T090000
DTEND;TZID=America/Los_Angeles:20180928T150000
DTSTAMP:20260424T090728
CREATED:20180615T165715Z
LAST-MODIFIED:20180615T165715Z
UID:10052123-1533286800-1538146800@expositionpark.ca.gov
SUMMARY:Hands-On Science Camp @ The California Science Center
DESCRIPTION:Exciting explorations\, delightful discoveries\, and wild wonders await your family this summer at Hands-On Science Camp at the California Science Center. We offer more than 30 courses\, including popular parent-and-child classes that give families a chance to investigate science together.\nYour child will have a unique\, fun and engaging summer!\nCall Today! (213) 744-7444\nhttps://californiasciencecenter.org/programs/youth-program-registration\n 
URL:https://expositionpark.ca.gov/event/hands-on-science-camp-the-california-science-center/2018-08-03/
LOCATION:Wallis Annenberg Building
END:VEVENT
BEGIN:VEVENT
DTSTART;TZID=America/Los_Angeles:20180806T090000
DTEND;TZID=America/Los_Angeles:20181001T150000
DTSTAMP:20260424T090728
CREATED:20180615T165715Z
LAST-MODIFIED:20180615T165715Z
UID:10052124-1533546000-1538406000@expositionpark.ca.gov
SUMMARY:Hands-On Science Camp @ The California Science Center
DESCRIPTION:Exciting explorations\, delightful discoveries\, and wild wonders await your family this summer at Hands-On Science Camp at the California Science Center. We offer more than 30 courses\, including popular parent-and-child classes that give families a chance to investigate science together.\nYour child will have a unique\, fun and engaging summer!\nCall Today! (213) 744-7444\nhttps://californiasciencecenter.org/programs/youth-program-registration\n 
URL:https://expositionpark.ca.gov/event/hands-on-science-camp-the-california-science-center/2018-08-06/
LOCATION:Wallis Annenberg Building
END:VEVENT
BEGIN:VEVENT
DTSTART;TZID=America/Los_Angeles:20180807T090000
DTEND;TZID=America/Los_Angeles:20181002T150000
DTSTAMP:20260424T090728
CREATED:20180615T165715Z
LAST-MODIFIED:20180615T165715Z
UID:10052125-1533632400-1538492400@expositionpark.ca.gov
SUMMARY:Hands-On Science Camp @ The California Science Center
DESCRIPTION:Exciting explorations\, delightful discoveries\, and wild wonders await your family this summer at Hands-On Science Camp at the California Science Center. We offer more than 30 courses\, including popular parent-and-child classes that give families a chance to investigate science together.\nYour child will have a unique\, fun and engaging summer!\nCall Today! (213) 744-7444\nhttps://californiasciencecenter.org/programs/youth-program-registration\n 
URL:https://expositionpark.ca.gov/event/hands-on-science-camp-the-california-science-center/2018-08-07/
LOCATION:Wallis Annenberg Building
END:VEVENT
BEGIN:VEVENT
DTSTART;TZID=America/Los_Angeles:20180808T090000
DTEND;TZID=America/Los_Angeles:20181003T150000
DTSTAMP:20260424T090728
CREATED:20180615T165715Z
LAST-MODIFIED:20180615T165715Z
UID:10052126-1533718800-1538578800@expositionpark.ca.gov
SUMMARY:Hands-On Science Camp @ The California Science Center
DESCRIPTION:Exciting explorations\, delightful discoveries\, and wild wonders await your family this summer at Hands-On Science Camp at the California Science Center. We offer more than 30 courses\, including popular parent-and-child classes that give families a chance to investigate science together.\nYour child will have a unique\, fun and engaging summer!\nCall Today! (213) 744-7444\nhttps://californiasciencecenter.org/programs/youth-program-registration\n 
URL:https://expositionpark.ca.gov/event/hands-on-science-camp-the-california-science-center/2018-08-08/
LOCATION:Wallis Annenberg Building
END:VEVENT
BEGIN:VEVENT
DTSTART;TZID=America/Los_Angeles:20180809T090000
DTEND;TZID=America/Los_Angeles:20181004T150000
DTSTAMP:20260424T090728
CREATED:20180615T165715Z
LAST-MODIFIED:20180615T165715Z
UID:10052127-1533805200-1538665200@expositionpark.ca.gov
SUMMARY:Hands-On Science Camp @ The California Science Center
DESCRIPTION:Exciting explorations\, delightful discoveries\, and wild wonders await your family this summer at Hands-On Science Camp at the California Science Center. We offer more than 30 courses\, including popular parent-and-child classes that give families a chance to investigate science together.\nYour child will have a unique\, fun and engaging summer!\nCall Today! (213) 744-7444\nhttps://californiasciencecenter.org/programs/youth-program-registration\n 
URL:https://expositionpark.ca.gov/event/hands-on-science-camp-the-california-science-center/2018-08-09/
LOCATION:Wallis Annenberg Building
END:VEVENT
BEGIN:VEVENT
DTSTART;TZID=America/Los_Angeles:20180810T090000
DTEND;TZID=America/Los_Angeles:20181005T150000
DTSTAMP:20260424T090728
CREATED:20180615T165715Z
LAST-MODIFIED:20180615T165715Z
UID:10052128-1533891600-1538751600@expositionpark.ca.gov
SUMMARY:Hands-On Science Camp @ The California Science Center
DESCRIPTION:Exciting explorations\, delightful discoveries\, and wild wonders await your family this summer at Hands-On Science Camp at the California Science Center. We offer more than 30 courses\, including popular parent-and-child classes that give families a chance to investigate science together.\nYour child will have a unique\, fun and engaging summer!\nCall Today! (213) 744-7444\nhttps://californiasciencecenter.org/programs/youth-program-registration\n 
URL:https://expositionpark.ca.gov/event/hands-on-science-camp-the-california-science-center/2018-08-10/
LOCATION:Wallis Annenberg Building
END:VEVENT
BEGIN:VEVENT
DTSTART;VALUE=DATE:20180811
DTEND;VALUE=DATE:20180812
DTSTAMP:20260424T090728
CREATED:20171201T232836Z
LAST-MODIFIED:20180807T220317Z
UID:10051569-1533945600-1534031999@expositionpark.ca.gov
SUMMARY:LAFC vs Kansas City SC (7:30pm)
DESCRIPTION:
URL:https://expositionpark.ca.gov/event/lafc-match-18/
LOCATION:CA
END:VEVENT
BEGIN:VEVENT
DTSTART;TZID=America/Los_Angeles:20180811T070000
DTEND;TZID=America/Los_Angeles:20180811T140000
DTSTAMP:20260424T090728
CREATED:20180810T232157Z
LAST-MODIFIED:20180810T232157Z
UID:10050835-1533970800-1533996000@expositionpark.ca.gov
SUMMARY:CityWide Aquatics Lifeguard Test
DESCRIPTION:CityWide Aquatics Lifeguard Test\, August 11\, 2018\, from 7:00am to 2:00pm\, Will be held in the North and South Competition pool.
URL:https://expositionpark.ca.gov/event/citywide-aquatics-lifeguard-test-3/
LOCATION:CA
END:VEVENT
BEGIN:VEVENT
DTSTART;TZID=America/Los_Angeles:20180811T103000
DTEND;TZID=America/Los_Angeles:20180811T230000
DTSTAMP:20260424T090728
CREATED:20180808T230757Z
LAST-MODIFIED:20180808T230757Z
UID:10050823-1533983400-1534028400@expositionpark.ca.gov
SUMMARY:LAFC Family Picnic and Fan Fest
DESCRIPTION:This event includes use of Christmas Tree Lane East and road closure of S. Coliseum Drive. \nRoad closure of S. Coliseum Drive begins from 10:30am to 11:00pm \nLAFC Fan Fest is scheduled to run 4:30pm to 7:00pm \nLAFC vs Kansas City Sporting game time is 7:30pm
URL:https://expositionpark.ca.gov/event/lafc-family-picnic-and-fan-fest-2/
LOCATION:Christmas Tree Lane and S. Coliseum Drive\, CA\, United States
END:VEVENT
BEGIN:VEVENT
DTSTART;TZID=America/Los_Angeles:20180811T140000
DTEND;TZID=America/Los_Angeles:20180811T160000
DTSTAMP:20260424T090728
CREATED:20180529T171326Z
LAST-MODIFIED:20180529T171326Z
UID:10050747-1533996000-1534003200@expositionpark.ca.gov
SUMMARY:CAAM Art in the Park
DESCRIPTION:Listen to the meditative tones of Adler Guerrier’s video\, Untitled\, (blck Devoted to the cause and improvement)\, then go outdoors with teaching artists who will lead an artistic exploration of nature. No experience necessary; materials will be supplied\, just don’t forget to wear a hat and sunscreen! Ages 7 and up.
URL:https://expositionpark.ca.gov/event/caam-art-in-the-park/
LOCATION:CA
END:VEVENT
BEGIN:VEVENT
DTSTART;TZID=America/Los_Angeles:20180811T153000
DTEND;TZID=America/Los_Angeles:20180811T180000
DTSTAMP:20260424T090728
CREATED:20180807T221146Z
LAST-MODIFIED:20180807T221522Z
UID:10050822-1534001400-1534010400@expositionpark.ca.gov
SUMMARY:Private Event
DESCRIPTION:
URL:https://expositionpark.ca.gov/event/private-event-128/
LOCATION:Los Angeles Memorial Coliseum\, 3911 S. Figueroa St.\, Los Angeles\, CA\, CA\, 90037\, United States
GEO:34.0128523;-118.2845395
X-APPLE-STRUCTURED-LOCATION;VALUE=URI;X-ADDRESS=Los Angeles Memorial Coliseum 3911 S. Figueroa St. Los Angeles CA CA 90037 United States;X-APPLE-RADIUS=500;X-TITLE=3911 S. Figueroa St.:geo:-118.2845395,34.0128523
END:VEVENT
END:VCALENDAR