BEGIN:VCALENDAR
VERSION:2.0
PRODID:-//Exposition Park - ECPv6.15.20//NONSGML v1.0//EN
CALSCALE:GREGORIAN
METHOD:PUBLISH
X-WR-CALNAME:Exposition Park
X-ORIGINAL-URL:https://expositionpark.ca.gov
X-WR-CALDESC:Events for Exposition Park
REFRESH-INTERVAL;VALUE=DURATION:PT1H
X-Robots-Tag:noindex
X-PUBLISHED-TTL:PT1H
BEGIN:VTIMEZONE
TZID:America/Los_Angeles
BEGIN:DAYLIGHT
TZOFFSETFROM:-0800
TZOFFSETTO:-0700
TZNAME:PDT
DTSTART:20170312T100000
END:DAYLIGHT
BEGIN:STANDARD
TZOFFSETFROM:-0700
TZOFFSETTO:-0800
TZNAME:PST
DTSTART:20171105T090000
END:STANDARD
BEGIN:DAYLIGHT
TZOFFSETFROM:-0800
TZOFFSETTO:-0700
TZNAME:PDT
DTSTART:20180311T100000
END:DAYLIGHT
BEGIN:STANDARD
TZOFFSETFROM:-0700
TZOFFSETTO:-0800
TZNAME:PST
DTSTART:20181104T090000
END:STANDARD
BEGIN:DAYLIGHT
TZOFFSETFROM:-0800
TZOFFSETTO:-0700
TZNAME:PDT
DTSTART:20190310T100000
END:DAYLIGHT
BEGIN:STANDARD
TZOFFSETFROM:-0700
TZOFFSETTO:-0800
TZNAME:PST
DTSTART:20191103T090000
END:STANDARD
END:VTIMEZONE
BEGIN:VEVENT
DTSTART;TZID=America/Los_Angeles:20181029T093000
DTEND;TZID=America/Los_Angeles:20181029T153000
DTSTAMP:20260422T045235
CREATED:20180827T180005Z
LAST-MODIFIED:20180827T180005Z
UID:10052273-1540805400-1540827000@expositionpark.ca.gov
SUMMARY:Home School Days @ CA Science Center
DESCRIPTION:What Makes Weather?\nAnother perfect day! Explore southern California’s sunny skies and discover the causes and effects of wind\, rain\, snow and more all over the world. \nIt’s always a beautiful day for science in the Big Lab! \nEnroll Online! (beginning 8/28/18) \nCLASSES FILL UP QUICKLY!
URL:https://expositionpark.ca.gov/event/home-school-days-ca-science-center-2/2018-10-29/
LOCATION:CA\, United States
ORGANIZER;CN="California Science Center%3A Education Department":MAILTO:educationprograms@cscmail.org
END:VEVENT
BEGIN:VEVENT
DTSTART;TZID=America/Los_Angeles:20181030T093000
DTEND;TZID=America/Los_Angeles:20181030T153000
DTSTAMP:20260422T045235
CREATED:20180827T180005Z
LAST-MODIFIED:20180827T180005Z
UID:10052274-1540891800-1540913400@expositionpark.ca.gov
SUMMARY:Home School Days @ CA Science Center
DESCRIPTION:What Makes Weather?\nAnother perfect day! Explore southern California’s sunny skies and discover the causes and effects of wind\, rain\, snow and more all over the world. \nIt’s always a beautiful day for science in the Big Lab! \nEnroll Online! (beginning 8/28/18) \nCLASSES FILL UP QUICKLY!
URL:https://expositionpark.ca.gov/event/home-school-days-ca-science-center-2/2018-10-30/
LOCATION:CA\, United States
ORGANIZER;CN="California Science Center%3A Education Department":MAILTO:educationprograms@cscmail.org
END:VEVENT
END:VCALENDAR