BEGIN:VCALENDAR
VERSION:2.0
PRODID:-//Exposition Park - ECPv6.15.20//NONSGML v1.0//EN
CALSCALE:GREGORIAN
METHOD:PUBLISH
X-ORIGINAL-URL:https://expositionpark.ca.gov
X-WR-CALDESC:Events for Exposition Park
REFRESH-INTERVAL;VALUE=DURATION:PT1H
X-Robots-Tag:noindex
X-PUBLISHED-TTL:PT1H
BEGIN:VTIMEZONE
TZID:America/Los_Angeles
BEGIN:DAYLIGHT
TZOFFSETFROM:-0800
TZOFFSETTO:-0700
TZNAME:PDT
DTSTART:20150308T100000
END:DAYLIGHT
BEGIN:STANDARD
TZOFFSETFROM:-0700
TZOFFSETTO:-0800
TZNAME:PST
DTSTART:20151101T090000
END:STANDARD
BEGIN:DAYLIGHT
TZOFFSETFROM:-0800
TZOFFSETTO:-0700
TZNAME:PDT
DTSTART:20160313T100000
END:DAYLIGHT
BEGIN:STANDARD
TZOFFSETFROM:-0700
TZOFFSETTO:-0800
TZNAME:PST
DTSTART:20161106T090000
END:STANDARD
BEGIN:DAYLIGHT
TZOFFSETFROM:-0800
TZOFFSETTO:-0700
TZNAME:PDT
DTSTART:20170312T100000
END:DAYLIGHT
BEGIN:STANDARD
TZOFFSETFROM:-0700
TZOFFSETTO:-0800
TZNAME:PST
DTSTART:20171105T090000
END:STANDARD
END:VTIMEZONE
BEGIN:VEVENT
DTSTART;TZID=America/Los_Angeles:20160522T070000
DTEND;TZID=America/Los_Angeles:20160522T210000
DTSTAMP:20260419T074727
CREATED:20160120T000822Z
LAST-MODIFIED:20160210T020640Z
UID:10043597-1463900400-1463950800@expositionpark.ca.gov
SUMMARY:Bug Fair - Significant Museum Event
DESCRIPTION:Parking: Car Park and Lot 3\nAttendees: 7\,000
URL:https://expositionpark.ca.gov/event/bug-fair-2/
LOCATION:Natural History Museum\, 900 Exposition Blvd\, Los Angeles\, CA\, 90037\, United States
ORGANIZER;CN="Laurel Robinson":MAILTO:aalarcon@nhm.org
GEO:34.0170769;-118.2886818
X-APPLE-STRUCTURED-LOCATION;VALUE=URI;X-ADDRESS=Natural History Museum 900 Exposition Blvd Los Angeles CA 90037 United States;X-APPLE-RADIUS=500;X-TITLE=900 Exposition Blvd:geo:-118.2886818,34.0170769
END:VEVENT
BEGIN:VEVENT
DTSTART;TZID=America/Los_Angeles:20160523T080000
DTEND;TZID=America/Los_Angeles:20160523T200000
DTSTAMP:20260419T074727
CREATED:20160209T171404Z
LAST-MODIFIED:20160209T171404Z
UID:10043672-1463990400-1464033600@expositionpark.ca.gov
SUMMARY:California State Science Fair
DESCRIPTION:Attendees: 5\,000
URL:https://expositionpark.ca.gov/event/california-state-science-fair/
LOCATION:California Science Center\, 700 Exposition Park Drive\, Los Angeles\, CA\, 90037\, United States
ORGANIZER;CN="Kari Mendez":MAILTO:kmendez@cscmail.org
GEO:34.0157877;-118.2862095
X-APPLE-STRUCTURED-LOCATION;VALUE=URI;X-ADDRESS=California Science Center 700 Exposition Park Drive Los Angeles CA 90037 United States;X-APPLE-RADIUS=500;X-TITLE=700 Exposition Park Drive:geo:-118.2862095,34.0157877
END:VEVENT
BEGIN:VEVENT
DTSTART;TZID=America/Los_Angeles:20160524T080000
DTEND;TZID=America/Los_Angeles:20160524T200000
DTSTAMP:20260419T074727
CREATED:20160209T171406Z
LAST-MODIFIED:20160209T171406Z
UID:10043673-1464076800-1464120000@expositionpark.ca.gov
SUMMARY:California State Science Fair
DESCRIPTION:Attendees: 5\,000
URL:https://expositionpark.ca.gov/event/california-state-science-fair-2/
LOCATION:California Science Center\, 700 Exposition Park Drive\, Los Angeles\, CA\, 90037\, United States
ORGANIZER;CN="Kari Mendez":MAILTO:kmendez@cscmail.org
GEO:34.0157877;-118.2862095
X-APPLE-STRUCTURED-LOCATION;VALUE=URI;X-ADDRESS=California Science Center 700 Exposition Park Drive Los Angeles CA 90037 United States;X-APPLE-RADIUS=500;X-TITLE=700 Exposition Park Drive:geo:-118.2862095,34.0157877
END:VEVENT
BEGIN:VEVENT
DTSTART;TZID=America/Los_Angeles:20160526T160000
DTEND;TZID=America/Los_Angeles:20160526T160000
DTSTAMP:20260419T074727
CREATED:20160329T170329Z
LAST-MODIFIED:20160329T170329Z
UID:10043825-1464278400-1464278400@expositionpark.ca.gov
SUMMARY:Prom
DESCRIPTION:
URL:https://expositionpark.ca.gov/event/prom-35/
LOCATION:Natural History Museum\, 900 Exposition Blvd\, Los Angeles\, CA\, 90037\, United States
GEO:34.0170769;-118.2886818
X-APPLE-STRUCTURED-LOCATION;VALUE=URI;X-ADDRESS=Natural History Museum 900 Exposition Blvd Los Angeles CA 90037 United States;X-APPLE-RADIUS=500;X-TITLE=900 Exposition Blvd:geo:-118.2886818,34.0170769
END:VEVENT
BEGIN:VEVENT
DTSTART;TZID=America/Los_Angeles:20160527T160000
DTEND;TZID=America/Los_Angeles:20160528T000000
DTSTAMP:20260419T074727
CREATED:20160226T184656Z
LAST-MODIFIED:20160226T184701Z
UID:10043768-1464364800-1464393600@expositionpark.ca.gov
SUMMARY:Corporate Event
DESCRIPTION:
URL:https://expositionpark.ca.gov/event/corporate-event-53/
LOCATION:Natural History Museum\, 900 Exposition Blvd\, Los Angeles\, CA\, 90037\, United States
GEO:34.0170769;-118.2886818
X-APPLE-STRUCTURED-LOCATION;VALUE=URI;X-ADDRESS=Natural History Museum 900 Exposition Blvd Los Angeles CA 90037 United States;X-APPLE-RADIUS=500;X-TITLE=900 Exposition Blvd:geo:-118.2886818,34.0170769
END:VEVENT
BEGIN:VEVENT
DTSTART;TZID=America/Los_Angeles:20160528T093000
DTEND;TZID=America/Los_Angeles:20160528T170000
DTSTAMP:20260419T074727
CREATED:20160226T184639Z
LAST-MODIFIED:20160226T184639Z
UID:10043765-1464427800-1464454800@expositionpark.ca.gov
SUMMARY:Birthday
DESCRIPTION:
URL:https://expositionpark.ca.gov/event/birthday-11/
LOCATION:Natural History Museum\, 900 Exposition Blvd\, Los Angeles\, CA\, 90037\, United States
GEO:34.0170769;-118.2886818
X-APPLE-STRUCTURED-LOCATION;VALUE=URI;X-ADDRESS=Natural History Museum 900 Exposition Blvd Los Angeles CA 90037 United States;X-APPLE-RADIUS=500;X-TITLE=900 Exposition Blvd:geo:-118.2886818,34.0170769
END:VEVENT
BEGIN:VEVENT
DTSTART;TZID=America/Los_Angeles:20160528T160000
DTEND;TZID=America/Los_Angeles:20160529T000000
DTSTAMP:20260419T074727
CREATED:20160120T000822Z
LAST-MODIFIED:20160212T000524Z
UID:10043598-1464451200-1464480000@expositionpark.ca.gov
SUMMARY:Wedding
DESCRIPTION:Parking: Car Park\nAttendees: 250
URL:https://expositionpark.ca.gov/event/wedding-7/
LOCATION:Natural History Museum\, 900 Exposition Blvd\, Los Angeles\, CA\, 90037\, United States
ORGANIZER;CN="Desiree Ocampo":MAILTO:cmancini@nhm.org
GEO:34.0170769;-118.2886818
X-APPLE-STRUCTURED-LOCATION;VALUE=URI;X-ADDRESS=Natural History Museum 900 Exposition Blvd Los Angeles CA 90037 United States;X-APPLE-RADIUS=500;X-TITLE=900 Exposition Blvd:geo:-118.2886818,34.0170769
END:VEVENT
BEGIN:VEVENT
DTSTART;TZID=America/Los_Angeles:20160528T190000
DTEND;TZID=America/Los_Angeles:20160528T235500
DTSTAMP:20260419T074727
CREATED:20160209T171408Z
LAST-MODIFIED:20160209T171408Z
UID:10043674-1464462000-1464479700@expositionpark.ca.gov
SUMMARY:Prom
DESCRIPTION:Attendees: 800 \nVenue: Wallis Annenebrg Building
URL:https://expositionpark.ca.gov/event/prom-20/
LOCATION:California Science Center\, 700 Exposition Park Drive\, Los Angeles\, CA\, 90037\, United States
ORGANIZER;CN="Kari Mendez":MAILTO:kmendez@cscmail.org
GEO:34.0157877;-118.2862095
X-APPLE-STRUCTURED-LOCATION;VALUE=URI;X-ADDRESS=California Science Center 700 Exposition Park Drive Los Angeles CA 90037 United States;X-APPLE-RADIUS=500;X-TITLE=700 Exposition Park Drive:geo:-118.2862095,34.0157877
END:VEVENT
END:VCALENDAR