BEGIN:VCALENDAR
VERSION:2.0
PRODID:-//Exposition Park - ECPv6.15.20//NONSGML v1.0//EN
CALSCALE:GREGORIAN
METHOD:PUBLISH
X-ORIGINAL-URL:https://expositionpark.ca.gov
X-WR-CALDESC:Events for Exposition Park
REFRESH-INTERVAL;VALUE=DURATION:PT1H
X-Robots-Tag:noindex
X-PUBLISHED-TTL:PT1H
BEGIN:VTIMEZONE
TZID:America/Los_Angeles
BEGIN:DAYLIGHT
TZOFFSETFROM:-0800
TZOFFSETTO:-0700
TZNAME:PDT
DTSTART:20150308T100000
END:DAYLIGHT
BEGIN:STANDARD
TZOFFSETFROM:-0700
TZOFFSETTO:-0800
TZNAME:PST
DTSTART:20151101T090000
END:STANDARD
BEGIN:DAYLIGHT
TZOFFSETFROM:-0800
TZOFFSETTO:-0700
TZNAME:PDT
DTSTART:20160313T100000
END:DAYLIGHT
BEGIN:STANDARD
TZOFFSETFROM:-0700
TZOFFSETTO:-0800
TZNAME:PST
DTSTART:20161106T090000
END:STANDARD
BEGIN:DAYLIGHT
TZOFFSETFROM:-0800
TZOFFSETTO:-0700
TZNAME:PDT
DTSTART:20170312T100000
END:DAYLIGHT
BEGIN:STANDARD
TZOFFSETFROM:-0700
TZOFFSETTO:-0800
TZNAME:PST
DTSTART:20171105T090000
END:STANDARD
END:VTIMEZONE
BEGIN:VEVENT
DTSTART;TZID=America/Los_Angeles:20161106T100000
DTEND;TZID=America/Los_Angeles:20161106T130000
DTSTAMP:20260420T131514
CREATED:20160714T233750Z
LAST-MODIFIED:20160714T233750Z
UID:10044035-1478426400-1478437200@expositionpark.ca.gov
SUMMARY:Social Event
DESCRIPTION:Venue: Wallis Annenberg Building
URL:https://expositionpark.ca.gov/event/social-event-53/
LOCATION:CA\, United States
ORGANIZER;CN="Kari Mendez":MAILTO:kmendez@cscmail.org
END:VEVENT
BEGIN:VEVENT
DTSTART;TZID=America/Los_Angeles:20161106T130500
DTEND;TZID=America/Los_Angeles:20161106T170500
DTSTAMP:20260420T131514
CREATED:20160421T210206Z
LAST-MODIFIED:20160421T210206Z
UID:10043913-1478437500-1478451900@expositionpark.ca.gov
SUMMARY:LA Rams vs Carolina Panthers
DESCRIPTION:The Rams were L.A.’s first professional sports team and called Los Angeles home from 1946-1994. In 2016\, we are returning home to build on our rich history. Fill out a contact form to receive more information as it becomes available. \nJoin Here
URL:https://expositionpark.ca.gov/event/la-rams-vs-carolina-panthers/
LOCATION:Los Angeles Memorial Coliseum\, 3911 S. Figueroa Street\, Los Angeles\, CA\, 90037\, United States
ORGANIZER;CN="Los Angeles Rams":MAILTO:info@therams.com
GEO:34.0128523;-118.2845395
X-APPLE-STRUCTURED-LOCATION;VALUE=URI;X-ADDRESS=Los Angeles Memorial Coliseum 3911 S. Figueroa Street Los Angeles CA 90037 United States;X-APPLE-RADIUS=500;X-TITLE=3911 S. Figueroa Street:geo:-118.2845395,34.0128523
END:VEVENT
BEGIN:VEVENT
DTSTART;TZID=America/Los_Angeles:20161106T173000
DTEND;TZID=America/Los_Angeles:20161106T223000
DTSTAMP:20260420T131514
CREATED:20160822T181547Z
LAST-MODIFIED:20160822T183747Z
UID:10044412-1478453400-1478471400@expositionpark.ca.gov
SUMMARY:San Pedro Soccer League
DESCRIPTION:
URL:https://expositionpark.ca.gov/event/san-pedro-sports-club/2016-11-06/
LOCATION:EXPO Center\, 3980 Bill Robertson Lane\, Los Angeles\, CA\, 90037\, United States
ORGANIZER;CN="Special Events":MAILTO:specialevents@nhm.org
GEO:34.0121136;-118.2900829
X-APPLE-STRUCTURED-LOCATION;VALUE=URI;X-ADDRESS=EXPO Center 3980 Bill Robertson Lane Los Angeles CA 90037 United States;X-APPLE-RADIUS=500;X-TITLE=3980 Bill Robertson Lane:geo:-118.2900829,34.0121136
END:VEVENT
BEGIN:VEVENT
DTSTART;TZID=America/Los_Angeles:20161107T020000
DTEND;TZID=America/Los_Angeles:20161110T160000
DTSTAMP:20260420T131514
CREATED:20161020T215521Z
LAST-MODIFIED:20161020T215521Z
UID:10047601-1478484000-1478793600@expositionpark.ca.gov
SUMMARY:Silver Creek
DESCRIPTION:
URL:https://expositionpark.ca.gov/event/silver-creek/
LOCATION:Lot 6 (west end)
END:VEVENT
BEGIN:VEVENT
DTSTART;VALUE=DATE:20161108
DTEND;VALUE=DATE:20161112
DTSTAMP:20260420T131514
CREATED:20161028T002440Z
LAST-MODIFIED:20161028T002440Z
UID:10047614-1478563200-1478908799@expositionpark.ca.gov
SUMMARY:Camp Flog Gnaw
DESCRIPTION:Set-up
URL:https://expositionpark.ca.gov/event/camp-flog-gnaw/
LOCATION:Exposition Park
END:VEVENT
BEGIN:VEVENT
DTSTART;TZID=America/Los_Angeles:20161108T180000
DTEND;TZID=America/Los_Angeles:20161108T210000
DTSTAMP:20260420T131514
CREATED:20160822T175333Z
LAST-MODIFIED:20160822T184252Z
UID:10044359-1478628000-1478638800@expositionpark.ca.gov
SUMMARY:Vermont Sports Club
DESCRIPTION:
URL:https://expositionpark.ca.gov/event/vermont-sports-club-2/2016-11-08/
LOCATION:EXPO Center\, 3980 Bill Robertson Lane\, Los Angeles\, CA\, 90037\, United States
ORGANIZER;CN="Special Events":MAILTO:specialevents@nhm.org
GEO:34.0121136;-118.2900829
X-APPLE-STRUCTURED-LOCATION;VALUE=URI;X-ADDRESS=EXPO Center 3980 Bill Robertson Lane Los Angeles CA 90037 United States;X-APPLE-RADIUS=500;X-TITLE=3980 Bill Robertson Lane:geo:-118.2900829,34.0121136
END:VEVENT
BEGIN:VEVENT
DTSTART;TZID=America/Los_Angeles:20161110T090000
DTEND;TZID=America/Los_Angeles:20161110T170000
DTSTAMP:20260420T131514
CREATED:20161007T220621Z
LAST-MODIFIED:20161007T220621Z
UID:10044081-1478768400-1478797200@expositionpark.ca.gov
SUMMARY:Corporate Event
DESCRIPTION:Venue: Wallis Annenberg Building- Muses Room \n 
URL:https://expositionpark.ca.gov/event/corporate-event-120/
LOCATION:CA\, United States
ORGANIZER;CN="Kari Mendez":MAILTO:kmendez@cscmail.org
END:VEVENT
BEGIN:VEVENT
DTSTART;TZID=America/Los_Angeles:20161110T180000
DTEND;TZID=America/Los_Angeles:20161110T210000
DTSTAMP:20260420T131514
CREATED:20160822T174752Z
LAST-MODIFIED:20160822T174752Z
UID:10044341-1478800800-1478811600@expositionpark.ca.gov
SUMMARY:Vermont Sports Club
DESCRIPTION:
URL:https://expositionpark.ca.gov/event/vermont-sports-club/2016-11-10/
LOCATION:EXPO Center\, 3980 Bill Robertson Lane\, Los Angeles\, CA\, 90037\, United States
ORGANIZER;CN="Special Events":MAILTO:specialevents@nhm.org
GEO:34.0121136;-118.2900829
X-APPLE-STRUCTURED-LOCATION;VALUE=URI;X-ADDRESS=EXPO Center 3980 Bill Robertson Lane Los Angeles CA 90037 United States;X-APPLE-RADIUS=500;X-TITLE=3980 Bill Robertson Lane:geo:-118.2900829,34.0121136
END:VEVENT
BEGIN:VEVENT
DTSTART;TZID=America/Los_Angeles:20161110T190000
DTEND;TZID=America/Los_Angeles:20161110T220000
DTSTAMP:20260420T131514
CREATED:20160209T171642Z
LAST-MODIFIED:20160209T171642Z
UID:10043691-1478804400-1478815200@expositionpark.ca.gov
SUMMARY:Corporate Event
DESCRIPTION:Attendees: 800 \nVenue: Disney Court and Samuel Oschin Pavilion
URL:https://expositionpark.ca.gov/event/corporate-event-43/
LOCATION:California Science Center\, 700 Exposition Park Drive\, Los Angeles\, CA\, 90037\, United States
ORGANIZER;CN="Kari Mendez":MAILTO:kmendez@cscmail.org
GEO:34.0157877;-118.2862095
X-APPLE-STRUCTURED-LOCATION;VALUE=URI;X-ADDRESS=California Science Center 700 Exposition Park Drive Los Angeles CA 90037 United States;X-APPLE-RADIUS=500;X-TITLE=700 Exposition Park Drive:geo:-118.2862095,34.0157877
END:VEVENT
BEGIN:VEVENT
DTSTART;TZID=America/Los_Angeles:20161111T140000
DTEND;TZID=America/Los_Angeles:20161112T000000
DTSTAMP:20260420T131514
CREATED:20160714T235301Z
LAST-MODIFIED:20160714T235301Z
UID:10044166-1478872800-1478908800@expositionpark.ca.gov
SUMMARY:Private Event
DESCRIPTION:
URL:https://expositionpark.ca.gov/event/private-event-16/
LOCATION:Natural History Museum\, 900 Exposition Blvd\, Los Angeles\, CA\, 90037\, United States
GEO:34.0170769;-118.2886818
X-APPLE-STRUCTURED-LOCATION;VALUE=URI;X-ADDRESS=Natural History Museum 900 Exposition Blvd Los Angeles CA 90037 United States;X-APPLE-RADIUS=500;X-TITLE=900 Exposition Blvd:geo:-118.2886818,34.0170769
END:VEVENT
BEGIN:VEVENT
DTSTART;TZID=America/Los_Angeles:20161111T210000
DTEND;TZID=America/Los_Angeles:20161111T223000
DTSTAMP:20260420T131514
CREATED:20160822T180507Z
LAST-MODIFIED:20160824T232941Z
UID:10044386-1478898000-1478903400@expositionpark.ca.gov
SUMMARY:San Pedro Soccer League
DESCRIPTION:
URL:https://expositionpark.ca.gov/event/san-pedro-soccer-league/2016-11-11/
LOCATION:EXPO Center\, 3980 Bill Robertson Lane\, Los Angeles\, CA\, 90037\, United States
ORGANIZER;CN="Special Events":MAILTO:specialevents@nhm.org
GEO:34.0121136;-118.2900829
X-APPLE-STRUCTURED-LOCATION;VALUE=URI;X-ADDRESS=EXPO Center 3980 Bill Robertson Lane Los Angeles CA 90037 United States;X-APPLE-RADIUS=500;X-TITLE=3980 Bill Robertson Lane:geo:-118.2900829,34.0121136
END:VEVENT
BEGIN:VEVENT
DTSTART;VALUE=DATE:20161112
DTEND;VALUE=DATE:20161113
DTSTAMP:20260420T131514
CREATED:20160330T220323Z
LAST-MODIFIED:20160705T163612Z
UID:10043884-1478908800-1478995199@expositionpark.ca.gov
SUMMARY:Event
DESCRIPTION:Music Festival \nPark Wide Set-Up: November 8-11\, 2016 \nPark Wide Breakdown: November 14-15\, 2016 \n 
URL:https://expositionpark.ca.gov/event/event-3/
LOCATION:Exposition Park\, 700 Exposition Park Drive\, Los Angeles\, CA\, 90037\, United States
GEO:34.0157877;-118.2862095
X-APPLE-STRUCTURED-LOCATION;VALUE=URI;X-ADDRESS=Exposition Park 700 Exposition Park Drive Los Angeles CA 90037 United States;X-APPLE-RADIUS=500;X-TITLE=700 Exposition Park Drive:geo:-118.2862095,34.0157877
END:VEVENT
BEGIN:VEVENT
DTSTART;TZID=America/Los_Angeles:20161112T090000
DTEND;TZID=America/Los_Angeles:20161112T170000
DTSTAMP:20260420T131514
CREATED:20160714T235020Z
LAST-MODIFIED:20161117T040250Z
UID:10044118-1478941200-1478970000@expositionpark.ca.gov
SUMMARY:Birthday
DESCRIPTION:Celebrate Your Birthday at the Museum!\nWhether you or your child dreams of someday becoming a world-renowned paleontologist\, has a love affair with butterflies\, or is intrigued by gems celebrating your birthday at the Museum is an experience of a lifetime! \nParties are at 10 am\, 12:30 pm\, and 3 pm. \nBirthday parties must be booked at least two weeks in advance. Booking two months ahead is highly recommended! \nNHM.org/birthdays
URL:https://expositionpark.ca.gov/event/birthday-29/2016-11-12/
LOCATION:Natural History Museum\, 900 Exposition Blvd\, Los Angeles\, CA\, 90037\, United States
GEO:34.0170769;-118.2886818
X-APPLE-STRUCTURED-LOCATION;VALUE=URI;X-ADDRESS=Natural History Museum 900 Exposition Blvd Los Angeles CA 90037 United States;X-APPLE-RADIUS=500;X-TITLE=900 Exposition Blvd:geo:-118.2886818,34.0170769
END:VEVENT
BEGIN:VEVENT
DTSTART;TZID=America/Los_Angeles:20161112T140000
DTEND;TZID=America/Los_Angeles:20161112T170000
DTSTAMP:20260420T131514
CREATED:20160509T181013Z
LAST-MODIFIED:20160509T181013Z
UID:10043942-1478959200-1478970000@expositionpark.ca.gov
SUMMARY:Wedding
DESCRIPTION:
URL:https://expositionpark.ca.gov/event/wedding-33/
LOCATION:Rose Garden\, 701 State Drive\, Los Angeles\, CA\, 90037\, United States
ORGANIZER;CN="Special Events":MAILTO:specialevents@nhm.org
GEO:34.0165246;-118.2843696
X-APPLE-STRUCTURED-LOCATION;VALUE=URI;X-ADDRESS=Rose Garden 701 State Drive Los Angeles CA 90037 United States;X-APPLE-RADIUS=500;X-TITLE=701 State Drive:geo:-118.2843696,34.0165246
END:VEVENT
BEGIN:VEVENT
DTSTART;TZID=America/Los_Angeles:20161112T140000
DTEND;TZID=America/Los_Angeles:20161113T000000
DTSTAMP:20260420T131514
CREATED:20160714T235303Z
LAST-MODIFIED:20160714T235303Z
UID:10044182-1478959200-1478995200@expositionpark.ca.gov
SUMMARY:Private Event
DESCRIPTION:
URL:https://expositionpark.ca.gov/event/private-event-17/
LOCATION:Natural History Museum\, 900 Exposition Blvd\, Los Angeles\, CA\, 90037\, United States
GEO:34.0170769;-118.2886818
X-APPLE-STRUCTURED-LOCATION;VALUE=URI;X-ADDRESS=Natural History Museum 900 Exposition Blvd Los Angeles CA 90037 United States;X-APPLE-RADIUS=500;X-TITLE=900 Exposition Blvd:geo:-118.2886818,34.0170769
END:VEVENT
END:VCALENDAR